Workbook

Sheet Hardware Comparison
G1: r
B2: 12 | C2: Desired drive capacity in TB
B3: 360 | C3: Current price of desired drive model in $USD
B4: 530 | C4: Current price of equivalent capacity Synology branded drive in $USD (note that first-party drive restrictions can be worked around with the Synology_HDD_db script on github)
B6: Make | C6: Model | D6: Availability | E6: MSRP | F6: Warranty | G6: OS | H6: Third-Party OS | I6: 3.5 Bays | J6: 2.5 Bays | K6: CPU | L6: Supplied RAM | M6: Max RAM | N6: ECC | O6: RAM Type | P6: PCIe Slots | Q6: M.2 Slots | R6: Thunderbolt | S6: Display Output | T6: 1 GbE | U6: 2.5 GbE | V6: 5 GbE | W6: 10 GbE | X6: 25 Gb | Y6: Plex Transcode | Z6: Included Camera Licenses | AA6: First-Party Drives Required? | AB6: Price Fully Populated with 3.5" Drives | AC6: Net Capacity (1 drive redundancy) | AD6: Price per Net Capacity in TB (1 drive redundancy) | AE6: Net Capacity (2 drive redundancy) | AF6: Price per Net Capacity in TB (2 drive redundancy)
B7: 45Homelab | C7: HL4 (5500GT) | D7: Available | E7: 1599 | F7: 1 year | G7: Rocky Linux/DIY | H7: Yes | I7: 4 | J7: 0 | K7: AMD Ryzen 5500GT 6C/12T | L7: 16 GB (2x8 GB) | M7: 64 GB (2x32 GB) | N7: No | O7: DDR4-3200 DIMM | P7: 1 Gen 4 x16 | Q7: 2 | R7: No | S7: HDMI + DP | T7: 0 | U7: 1 | V7: 0 | W7: 0 | Y7: Optional PCIe dGPU | Z7: N/A | AA7: No | AB7: =IF(ISNUMBER(E7),IF(I7>0,IF(AA7="No",E7+(I7*$B$3),E7+(I7*$B$4)),""),"") -> 3039 | AC7: =IF(I7>0,(I7-1)*$B$2,"") -> 36 | AD7: =IF(ISNUMBER(E7),IF(I7>0,AB7/AC7,""),"") -> 84.416667 | AE7: =IF(I7>2,(I7-2)*$B$2,"") -> 24 | AF7: =IF(AND(ISNUMBER(E7),I7>2),AB7/AE7,"") -> 126.625
B8: 45Homelab | C8: HL4 (5700G) | D8: Available | E8: 1725 | F8: 1 year | G8: Rocky Linux/DIY | H8: Yes | I8: 4 | J8: 0 | K8: AMD Ryzen 5700G 8C/16T | L8: 16 GB (2x8 GB) | M8: 64 GB (2x32 GB) | N8: No | O8: DDR4-3200 DIMM | P8: 1 Gen 4 x16 | Q8: 2 | R8: No | S8: HDMI + DP | T8: 0 | U8: 1 | V8: 0 | W8: 0 | Y8: Optional PCIe dGPU | Z8: N/A | AA8: No | AB8: =IF(ISNUMBER(E8),IF(I8>0,IF(AA8="No",E8+(I8*$B$3),E8+(I8*$B$4)),""),"") -> 3165 | AC8: =IF(I8>0,(I8-1)*$B$2,"") -> 36 | AD8: =IF(ISNUMBER(E8),IF(I8>0,AB8/AC8,""),"") -> 87.916667 | AE8: =IF(I8>2,(I8-2)*$B$2,"") -> 24 | AF8: =IF(AND(ISNUMBER(E8),I8>2),AB8/AE8,"") -> 131.875
B9: 45Homelab | C9: HL8 (5500GT) | D9: Available | E9: 1677 | F9: 1 year | G9: Rocky Linux/DIY | H9: Yes | I9: 8 | J9: 0 | K9: AMD Ryzen 5500GT 6C/12T | L9: 16 GB (2x8 GB) | M9: 64 GB (2x32 GB) | N9: No | O9: DDR4-3200 DIMM | P9: 1 Gen 4 x16 | Q9: 2 | R9: No | S9: HDMI + DP | T9: 0 | U9: 1 | V9: 0 | W9: 0 | Y9: Optional PCIe dGPU | Z9: N/A | AA9: No | AB9: =IF(ISNUMBER(E9),IF(I9>0,IF(AA9="No",E9+(I9*$B$3),E9+(I9*$B$4)),""),"") -> 4557 | AC9: =IF(I9>0,(I9-1)*$B$2,"") -> 84 | AD9: =IF(ISNUMBER(E9),IF(I9>0,AB9/AC9,""),"") -> 54.25 | AE9: =IF(I9>2,(I9-2)*$B$2,"") -> 72 | AF9: =IF(AND(ISNUMBER(E9),I9>2),AB9/AE9,"") -> 63.291667
B10: 45Homelab | C10: HL8 (5700G) | D10: Available | E10: 1803 | F10: 1 year | G10: Rocky Linux/DIY | H10: Yes | I10: 8 | J10: 0 | K10: AMD Ryzen 5700G 8C/16T | L10: 16 GB (2x8 GB) | M10: 64 GB (2x32 GB) | N10: No | O10: DDR4-3200 DIMM | P10: 1 Gen 4 x16 | Q10: 2 | R10: No | S10: HDMI + DP | T10: 0 | U10: 1 | V10: 0 | W10: 0 | Y10: Optional PCIe dGPU | Z10: N/A | AA10: No | AB10: =IF(ISNUMBER(E10),IF(I10>0,IF(AA10="No",E10+(I10*$B$3),E10+(I10*$B$4)),""),"") -> 4683 | AC10: =IF(I10>0,(I10-1)*$B$2,"") -> 84 | AD10: =IF(ISNUMBER(E10),IF(I10>0,AB10/AC10,""),"") -> 55.75 | AE10: =IF(I10>2,(I10-2)*$B$2,"") -> 72 | AF10: =IF(AND(ISNUMBER(E10),I10>2),AB10/AE10,"") -> 65.041667
B11: 45Homelab | C11: HL15 2.0 (EPYC 7252) | D11: Available | E11: 2920 | F11: 1 year | G11: Rocky Linux/DIY | H11: Yes | I11: 15 | J11: 0 | K11: AMD EPYC 7252 8C/16T | L11: 16 GB (2x8 GB) | M11: 512 GB (8x64 GB) | N11: Yes | O11: DDR4-3200 RDIMM | P11: 7 PCIe Gen 4 x16 | Q11: 2 Gen4 x4 | R11: No | S11: VGA BMC | T11: 0 | U11: 0 | V11: 0 | W11: 2 | Y11: Optional PCIe dGPU | Z11: N/A | AA11: No | AB11: =IF(ISNUMBER(E11),IF(I11>0,IF(AA11="No",E11+(I11*$B$3),E11+(I11*$B$4)),""),"") -> 8320 | AC11: =IF(I11>0,(I11-1)*$B$2,"") -> 168 | AD11: =IF(ISNUMBER(E11),IF(I11>0,AB11/AC11,""),"") -> 49.52381 | AE11: =IF(I11>2,(I11-2)*$B$2,"") -> 156 | AF11: =IF(AND(ISNUMBER(E11),I11>2),AB11/AE11,"") -> 53.333333
B12: 45Homelab | C12: HL15 2.0 (EPYC 7272) | D12: Available | E12: 3294 | F12: 1 year | G12: Rocky Linux/DIY | H12: Yes | I12: 15 | J12: 0 | K12: AMD EPYC 7272 12C/24T | L12: 16 GB (2x8 GB) | M12: 512 GB (8x64 GB) | N12: Yes | O12: DDR4-3200 RDIMM | P12: 7 PCIe Gen 4 x16 | Q12: 2 Gen4 x4 | R12: No | S12: VGA BMC | T12: 0 | U12: 0 | V12: 0 | W12: 2 | Y12: Optional PCIe dGPU | Z12: N/A | AA12: No | AB12: =IF(ISNUMBER(E12),IF(I12>0,IF(AA12="No",E12+(I12*$B$3),E12+(I12*$B$4)),""),"") -> 8694 | AC12: =IF(I12>0,(I12-1)*$B$2,"") -> 168 | AD12: =IF(ISNUMBER(E12),IF(I12>0,AB12/AC12,""),"") -> 51.75 | AE12: =IF(I12>2,(I12-2)*$B$2,"") -> 156 | AF12: =IF(AND(ISNUMBER(E12),I12>2),AB12/AE12,"") -> 55.730769
B13: 45Homelab | C13: HL15 2.0 (EPYC 7282) | D13: Available | E13: 3355 | F13: 1 year | G13: Rocky Linux/DIY | H13: Yes | I13: 15 | J13: 0 | K13: AMD EPYC 7282 16C/32T | L13: 16 GB (2x8 GB) | M13: 512 GB (8x64 GB) | N13: Yes | O13: DDR4-3200 RDIMM | P13: 7 PCIe Gen 4 x16 | Q13: 2 Gen4 x4 | R13: No | S13: VGA BMC | T13: 0 | U13: 0 | V13: 0 | W13: 2 | Y13: Optional PCIe dGPU | Z13: N/A | AA13: No | AB13: =IF(ISNUMBER(E13),IF(I13>0,IF(AA13="No",E13+(I13*$B$3),E13+(I13*$B$4)),""),"") -> 8755 | AC13: =IF(I13>0,(I13-1)*$B$2,"") -> 168 | AD13: =IF(ISNUMBER(E13),IF(I13>0,AB13/AC13,""),"") -> 52.113095 | AE13: =IF(I13>2,(I13-2)*$B$2,"") -> 156 | AF13: =IF(AND(ISNUMBER(E13),I13>2),AB13/AE13,"") -> 56.121795
B14: 45Homelab | C14: HL15 2.0 (EPYC 7452) | D14: Available | E14: 3591 | F14: 1 year | G14: Rocky Linux/DIY | H14: Yes | I14: 15 | J14: 0 | K14: AMD EPYC 7452 32C/64T | L14: 16 GB (2x8 GB) | M14: 512 GB (8x64 GB) | N14: Yes | O14: DDR4-3200 RDIMM | P14: 7 PCIe Gen 4 x16 | Q14: 2 Gen4 x4 | R14: No | S14: VGA BMC | T14: 0 | U14: 0 | V14: 0 | W14: 2 | Y14: Optional PCIe dGPU | Z14: N/A | AA14: No | AB14: =IF(ISNUMBER(E14),IF(I14>0,IF(AA14="No",E14+(I14*$B$3),E14+(I14*$B$4)),""),"") -> 8991 | AC14: =IF(I14>0,(I14-1)*$B$2,"") -> 168 | AD14: =IF(ISNUMBER(E14),IF(I14>0,AB14/AC14,""),"") -> 53.517857 | AE14: =IF(I14>2,(I14-2)*$B$2,"") -> 156 | AF14: =IF(AND(ISNUMBER(E14),I14>2),AB14/AE14,"") -> 57.634615
B15: 45Homelab | C15: HL15 Beast (ASROCK EPYC 7252) | D15: Available | E15: 3419 | F15: 1 year | G15: Rocky Linux/DIY | H15: Yes | I15: 23 | J15: 0 | K15: AMD EPYC 7252 8C/16T | L15: 16 GB (2x8 GB) | M15: 1024 GB (8x128 GB) | N15: Yes | O15: DDR4-3200 RDIMM | P15: 7 PCIe Gen 4 x16 | Q15: 2 Gen4 x4 | R15: No | S15: VGA BMC | T15: 0 | U15: 0 | V15: 0 | W15: 2 | Y15: Optional PCIe dGPU | Z15: N/A | AA15: No | AB15: =IF(ISNUMBER(E15),IF(I15>0,IF(AA15="No",E15+(I15*$B$3),E15+(I15*$B$4)),""),"") -> 11699 | AC15: =IF(I15>0,(I15-1)*$B$2,"") -> 264 | AD15: =IF(ISNUMBER(E15),IF(I15>0,AB15/AC15,""),"") -> 44.314394 | AE15: =IF(I15>2,(I15-2)*$B$2,"") -> 252 | AF15: =IF(AND(ISNUMBER(E15),I15>2),AB15/AE15,"") -> 46.424603
B16: 45Homelab | C16: HL15 Beast (ASROCK EPYC 7272) | D16: Available | E16: 3793 | F16: 1 year | G16: Rocky Linux/DIY | H16: Yes | I16: 23 | J16: 0 | K16: AMD EPYC 7272 12C/24T | L16: 16 GB (2x8 GB) | M16: 1024 GB (8x128 GB) | N16: Yes | O16: DDR4-3200 RDIMM | P16: 7 PCIe Gen 4 x16 | Q16: 2 Gen4 x4 | R16: No | S16: VGA BMC | T16: 0 | U16: 0 | V16: 0 | W16: 2 | Y16: Optional PCIe dGPU | Z16: N/A | AA16: No | AB16: =IF(ISNUMBER(E16),IF(I16>0,IF(AA16="No",E16+(I16*$B$3),E16+(I16*$B$4)),""),"") -> 12073 | AC16: =IF(I16>0,(I16-1)*$B$2,"") -> 264 | AD16: =IF(ISNUMBER(E16),IF(I16>0,AB16/AC16,""),"") -> 45.731061 | AE16: =IF(I16>2,(I16-2)*$B$2,"") -> 252 | AF16: =IF(AND(ISNUMBER(E16),I16>2),AB16/AE16,"") -> 47.90873
B17: 45Homelab | C17: HL15 Beast (ASROCK EPYC 7282) | D17: Available | E17: 3854 | F17: 1 year | G17: Rocky Linux/DIY | H17: Yes | I17: 23 | J17: 0 | K17: AMD EPYC 7282 16C/32T | L17: 16 GB (2x8 GB) | M17: 1024 GB (8x128 GB) | N17: Yes | O17: DDR4-3200 RDIMM | P17: 7 PCIe Gen 4 x16 | Q17: 2 Gen4 x4 | R17: No | S17: VGA BMC | T17: 0 | U17: 0 | V17: 0 | W17: 2 | Y17: Optional PCIe dGPU | Z17: N/A | AA17: No | AB17: =IF(ISNUMBER(E17),IF(I17>0,IF(AA17="No",E17+(I17*$B$3),E17+(I17*$B$4)),""),"") -> 12134 | AC17: =IF(I17>0,(I17-1)*$B$2,"") -> 264 | AD17: =IF(ISNUMBER(E17),IF(I17>0,AB17/AC17,""),"") -> 45.962121 | AE17: =IF(I17>2,(I17-2)*$B$2,"") -> 252 | AF17: =IF(AND(ISNUMBER(E17),I17>2),AB17/AE17,"") -> 48.150794
B18: 45Homelab | C18: HL15 Beast (ASROCK EPYC 7452) | D18: Available | E18: 4090 | F18: 1 year | G18: Rocky Linux/DIY | H18: Yes | I18: 23 | J18: 0 | K18: AMD EPYC 7452 32C/64T | L18: 16 GB (2x8 GB) | M18: 1024 GB (8x128 GB) | N18: Yes | O18: DDR4-3200 RDIMM | P18: 7 PCIe Gen 4 x16 | Q18: 2 Gen4 x4 | R18: No | S18: VGA BMC | T18: 0 | U18: 0 | V18: 0 | W18: 2 | Y18: Optional PCIe dGPU | Z18: N/A | AA18: No | AB18: =IF(ISNUMBER(E18),IF(I18>0,IF(AA18="No",E18+(I18*$B$3),E18+(I18*$B$4)),""),"") -> 12370 | AC18: =IF(I18>0,(I18-1)*$B$2,"") -> 264 | AD18: =IF(ISNUMBER(E18),IF(I18>0,AB18/AC18,""),"") -> 46.856061 | AE18: =IF(I18>2,(I18-2)*$B$2,"") -> 252 | AF18: =IF(AND(ISNUMBER(E18),I18>2),AB18/AE18,"") -> 49.087302
B19: 45Homelab | C19: HL15 Beast (ProArt) | D19: Available | E19: 3726 | F19: 1 year | G19: Rocky Linux/DIY | H19: Yes | I19: 23 | J19: 0 | K19: AMD AMD Ryzen 9 7950X | L19: 32 GB (2x16 GB) | M19: 128 GB (4x32 GB) | N19: No | O19: DDR5-5200 DIMM | P19: 1 Gen 5 x16 (or 2 x8) | Q19: 2 Gen 5 x4 + 2 Gen 4 x4 | R19: 2 USB4/TB3 | S19: HDMI + 2x USB4 DP | T19: 0 | U19: 1 | V19: 0 | W19: 1 | Y19: Optional PCIe dGPU | Z19: N/A | AA19: No | AB19: =IF(ISNUMBER(E19),IF(I19>0,IF(AA19="No",E19+(I19*$B$3),E19+(I19*$B$4)),""),"") -> 12006 | AC19: =IF(I19>0,(I19-1)*$B$2,"") -> 264 | AD19: =IF(ISNUMBER(E19),IF(I19>0,AB19/AC19,""),"") -> 45.477273 | AE19: =IF(I19>2,(I19-2)*$B$2,"") -> 252 | AF19: =IF(AND(ISNUMBER(E19),I19>2),AB19/AE19,"") -> 47.642857
B20: Acemagic | C20: N3A-R2544 | D20: Sold out | E20: 339 | F20: 2 year | G20: DIY | H20: Yes | I20: 4 | J20: 0 | K20: AMD AMD Ryzen Embedded R2544 4C/8T | L20: None (Barebones) | M20: 64GB (3x32 GB) | N20: No | O20: DDR4-3200 SODIMM | P20: No | Q20: 2x Gen 3 x2 | R20: No | S20: HDMI + DP | T20: 1 | U20: 1 | V20: 0 | W20: 0 | Y20: Possible, unsupported | Z20: N/A | AA20: No | AB20: =IF(ISNUMBER(E20),IF(I20>0,IF(AA20="No",E20+(I20*$B$3),E20+(I20*$B$4)),""),"") -> 1779 | AC20: =IF(I20>0,(I20-1)*$B$2,"") -> 36 | AD20: =IF(ISNUMBER(E20),IF(I20>0,AB20/AC20,""),"") -> 49.416667 | AE20: =IF(I20>2,(I20-2)*$B$2,"") -> 24
B21: Acemagic | C21: N3A-3750H | D21: Announced | F21: 2 year | G21: DIY | H21: Yes | I21: 4 | J21: 0 | K21: AMD AMD Ryzen 7 3750H 4C/8T | L21: None (Barebones) | M21: 64GB (3x32 GB) | N21: No | O21: DDR4-2400 SODIMM | P21: No | Q21: 2 | R21: No | S21: HDMI | T21: 1 | U21: 0 | V21: 0 | W21: 0 | Y21: Possible, unsupported | Z21: N/A | AA21: No | AB21: =IF(ISNUMBER(E21),IF(I21>0,IF(AA21="No",E21+(I21*$B$3),E21+(I21*$B$4)),""),"") | AC21: =IF(I21>0,(I21-1)*$B$2,"") -> 36 | AD21: =IF(ISNUMBER(E21),IF(I21>0,AB21/AC21,""),"") | AE21: =IF(I21>2,(I21-2)*$B$2,"") -> 24 | AF21: =IF(AND(ISNUMBER(E21),I21>2),AB21/AE21,"")
B22: Aoostar | C22: R7 5825U Barebones | D22: Available | E22: 289 | F22: 1 year | G22: DIY | H22: Yes | I22: 2 | J22: 0 | K22: AMD Ryzen 7 5825U 8C/16T | L22: None (Barebones) | M22: 32 GB (1x32 GB) | N22: No | O22: DDR4-3200 SODIMM | P22: No | Q22: No | R22: No | S22: HDMI + DP | T22: 0 | U22: 2 | V22: 0 | W22: 0 | Y22: Possible, unsupported | Z22: N/A | AA22: No | AB22: =IF(ISNUMBER(E22),IF(I22>0,IF(AA22="No",E22+(I22*$B$3),E22+(I22*$B$4)),""),"") -> 1009 | AC22: =IF(I22>0,(I22-1)*$B$2,"") -> 12 | AD22: =IF(ISNUMBER(E22),IF(I22>0,AB22/AC22,""),"") -> 84.083333 | AE22: =IF(I22>2,(I22-2)*$B$2,"") | AF22: =IF(AND(ISNUMBER(E22),I22>2),AB22/AE22,"")
B23: Aoostar | C23: WTR PRO 5825U Barebones | D23: Available | E23: 379 | F23: 1 year | G23: DIY | H23: Yes | I23: 4 | J23: 0 | K23: AMD Ryzen 7 5825U 8C/16T | L23: None (Barebones) | M23: 64 GB (2x32 GB) | N23: No | O23: DDR4-3200 SODIMM | P23: No | Q23: 2 | R23: No | S23: HDMI + DP | T23: 0 | U23: 2 | V23: 0 | W23: 0 | Y23: Possible, unsupported | Z23: N/A | AA23: No | AB23: =IF(ISNUMBER(E23),IF(I23>0,IF(AA23="No",E23+(I23*$B$3),E23+(I23*$B$4)),""),"") -> 1819 | AC23: =IF(I23>0,(I23-1)*$B$2,"") -> 36 | AD23: =IF(ISNUMBER(E23),IF(I23>0,AB23/AC23,""),"") -> 50.527778 | AE23: =IF(I23>2,(I23-2)*$B$2,"") -> 24 | AF23: =IF(AND(ISNUMBER(E23),I23>2),AB23/AE23,"") -> 75.791667
B24: Aoostar | C24: WTR MAX 8845 | D24: Available | E24: 659 | F24: 1 year | G24: DIY | H24: Yes | I24: 6 | J24: 0 | K24: AMD Ryzen PRO 8845HS 8C/16T | L24: None (Barebones) | M24: 64 GB (2x32 GB) | N24: Yes | O24: DDR5-5600 SODIMM | P24: OCuLink Gen 4 x4 | Q24: 3 Gen 4 x2, 2 Gen 4 x1 | R24: 1 USB4/TB3 | S24: HDMI + DP | T24: 0 | U24: 2 | V24: 0 | W24: 2 | Y24: Possible, unsupported | Z24: N/A | AA24: No | AB24: =IF(ISNUMBER(E24),IF(I24>0,IF(AA24="No",E24+(I24*$B$3),E24+(I24*$B$4)),""),"") -> 2819 | AC24: =IF(I24>0,(I24-1)*$B$2,"") -> 60 | AD24: =IF(ISNUMBER(E24),IF(I24>0,AB24/AC24,""),"") -> 46.983333 | AE24: =IF(I24>2,(I24-2)*$B$2,"") -> 48 | AF24: =IF(AND(ISNUMBER(E24),I24>2),AB24/AE24,"") -> 58.729167
B25: Aoostar | C25: WTR MAX 8845-48GB ECC | D25: Available | E25: 1145 | F25: 1 year | G25: DIY | H25: Yes | I25: 6 | J25: 0 | K25: AMD Ryzen PRO 8845HS 8C/16T | L25: 48 GB (2x24 GB) | M25: 64 GB (2x32 GB) | N25: Yes | O25: DDR5-5600 SODIMM | P25: OCuLink Gen 4 x4 | Q25: 3 Gen 4 x2, 2 Gen 4 x1 | R25: 1 USB4/TB3 | S25: HDMI + DP | T25: 0 | U25: 2 | V25: 0 | W25: 2 | Y25: Possible, unsupported | Z25: N/A | AA25: No | AB25: =IF(ISNUMBER(E25),IF(I25>0,IF(AA25="No",E25+(I25*$B$3),E25+(I25*$B$4)),""),"") -> 3305 | AC25: =IF(I25>0,(I25-1)*$B$2,"") -> 60 | AD25: =IF(ISNUMBER(E25),IF(I25>0,AB25/AC25,""),"") -> 55.083333 | AE25: =IF(I25>2,(I25-2)*$B$2,"") -> 48 | AF25: =IF(AND(ISNUMBER(E25),I25>2),AB25/AE25,"") -> 68.854167
B26: Aoostar | C26: WTR MAX i5-1235U | D26: Available | E26: 559 | F26: 1 year | G26: DIY | H26: Yes | I26: 6 | J26: 0 | K26: Intel Core i5-1235U 2P+8E | L26: None (Barebones) | M26: 64 GB (2x32 GB) | N26: No | O26: TBD | P26: OCuLink Gen 4 x4 | Q26: 3 Gen 4 x2, 2 Gen 4 x1 | R26: 1 USB4/TB3 | S26: HDMI + DP | T26: 0 | U26: 2 | V26: 0 | W26: 2 | Y26: Possible, unsupported | Z26: N/A | AA26: No | AB26: =IF(ISNUMBER(E26),IF(I26>0,IF(AA26="No",E26+(I26*$B$3),E26+(I26*$B$4)),""),"") -> 2719 | AC26: =IF(I26>0,(I26-1)*$B$2,"") -> 60 | AD26: =IF(ISNUMBER(E26),IF(I26>0,AB26/AC26,""),"") -> 45.316667 | AE26: =IF(I26>2,(I26-2)*$B$2,"") -> 48 | AF26: =IF(AND(ISNUMBER(E26),I26>2),AB26/AE26,"") -> 56.645833
B27: Asustor | C27: AS5402T | D27: Available | E27: 407 | F27: 3 year | G27: ADM | H27: Yes | I27: 2 | J27: 0 | K27: Intel Celeron N5105 4C/4T | L27: 4 GB (1x4 GB) | M27: 16 GB (2x8 GB) | N27: No | O27: DDR4-2933 SODIMM | P27: No | Q27: 4 Gen 3 x1 | R27: No | S27: HDMI 2.0b | T27: 0 | U27: 2 | V27: 0 | W27: 0 | Y27: Level 6 | Z27: 4 | AA27: No | AB27: =IF(ISNUMBER(E27),IF(I27>0,IF(AA27="No",E27+(I27*$B$3),E27+(I27*$B$4)),""),"") -> 1127 | AC27: =IF(I27>0,(I27-1)*$B$2,"") -> 12 | AD27: =IF(ISNUMBER(E27),IF(I27>0,AB27/AC27,""),"") -> 93.916667 | AE27: =IF(I27>2,(I27-2)*$B$2,"") | AF27: =IF(AND(ISNUMBER(E27),I27>2),AB27/AE27,"")
B28: Asustor | C28: LOCKERSTOR 2 Gen2 AS6702T | D28: Available | E28: 444 | F28: 3 year | G28: ADM | H28: Yes | I28: 2 | J28: 0 | K28: Intel Celeron N5105 4C/4T | L28: 4 GB (1x4 GB) | M28: 8 GB (2x4 GB) | N28: No | O28: DDR4-2933 SODIMM | P28: No | Q28: 4 Gen 3 x1 | R28: No | S28: HDMI 2.0b | T28: 0 | U28: 2 | V28: 0 | W28: 0 | Y28: Level 6 | Z28: 4 | AA28: No | AB28: =IF(ISNUMBER(E28),IF(I28>0,IF(AA28="No",E28+(I28*$B$3),E28+(I28*$B$4)),""),"") -> 1164 | AC28: =IF(I28>0,(I28-1)*$B$2,"") -> 12 | AD28: =IF(ISNUMBER(E28),IF(I28>0,AB28/AC28,""),"") -> 97 | AE28: =IF(I28>2,(I28-2)*$B$2,"") | AF28: =IF(AND(ISNUMBER(E28),I28>2),AB28/AE28,"")
B29: Asustor | C29: LOCKERSTOR 2 Gen2+ AS6702T v2 | D29: Available | E29: 517 | F29: 3 year | G29: ADM | H29: Yes | I29: 2 | J29: 0 | K29: Intel Celeron N5105 4C/4T | L29: 4 GB (1x4 GB) | M29: 16 GB (2x8 GB) | N29: No | O29: DDR4-2933 SODIMM | P29: No | Q29: 4 Gen 3 x1 | R29: No | S29: HDMI 2.0b | T29: 0 | U29: 0 | V29: 2 | W29: 0 | Y29: Level 6 | Z29: 4 | AA29: No | AB29: =IF(ISNUMBER(E29),IF(I29>0,IF(AA29="No",E29+(I29*$B$3),E29+(I29*$B$4)),""),"") -> 1237 | AC29: =IF(I29>0,(I29-1)*$B$2,"") -> 12 | AD29: =IF(ISNUMBER(E29),IF(I29>0,AB29/AC29,""),"") -> 103.08333 | AE29: =IF(I29>2,(I29-2)*$B$2,"") | AF29: =IF(AND(ISNUMBER(E29),I29>2),AB29/AE29,"")
B30: Asustor | C30: AS5404T | D30: Available | E30: 583 | F30: 3 year | G30: ADM | H30: Yes | I30: 4 | J30: 0 | K30: Intel Celeron N5105 4C/4T | L30: 4 GB (1x4 GB) | M30: 16 GB (2x8 GB) | N30: No | O30: DDR4-2933 SODIMM | P30: No | Q30: 4 Gen 3 x1 | R30: No | S30: HDMI 2.0b | T30: 0 | U30: 2 | V30: 0 | W30: 0 | Y30: Level 6 | Z30: 4 | AA30: No | AB30: =IF(ISNUMBER(E30),IF(I30>0,IF(AA30="No",E30+(I30*$B$3),E30+(I30*$B$4)),""),"") -> 2023 | AC30: =IF(I30>0,(I30-1)*$B$2,"") -> 36 | AD30: =IF(ISNUMBER(E30),IF(I30>0,AB30/AC30,""),"") -> 56.194444 | AE30: =IF(I30>2,(I30-2)*$B$2,"") -> 24 | AF30: =IF(AND(ISNUMBER(E30),I30>2),AB30/AE30,"") -> 84.291667
B31: Asustor | C31: LOCKERSTOR 4 Gen2 AS6704T | D31: Available | E31: 649 | F31: 3 year | G31: ADM | H31: Yes | I31: 4 | J31: 0 | K31: Intel Celeron N5105 4C/4T | L31: 4 GB (1x4 GB) | M31: 8 GB (2x4 GB) | N31: No | O31: DDR4-2933 SODIMM | P31: No | Q31: 4 Gen 3 x1 | R31: No | S31: HDMI 2.0b | T31: 0 | U31: 2 | V31: 0 | W31: 0 | Y31: Level 6 | Z31: 4 | AA31: No | AB31: =IF(ISNUMBER(E31),IF(I31>0,IF(AA31="No",E31+(I31*$B$3),E31+(I31*$B$4)),""),"") -> 2089 | AC31: =IF(I31>0,(I31-1)*$B$2,"") -> 36 | AD31: =IF(ISNUMBER(E31),IF(I31>0,AB31/AC31,""),"") -> 58.027778 | AE31: =IF(I31>2,(I31-2)*$B$2,"") -> 24 | AF31: =IF(AND(ISNUMBER(E31),I31>2),AB31/AE31,"") -> 87.041667
B32: Asustor | C32: LOCKERSTOR 4 Gen2+ AS6704T v2 | D32: Available | E32: 682 | F32: 3 year | G32: ADM | H32: Yes | I32: 4 | J32: 0 | K32: Intel Celeron N5105 4C/4T | L32: 4 GB (1x4 GB) | M32: 16 GB (2x8 GB) | N32: No | O32: DDR4-2933 SODIMM | P32: No | Q32: 4 Gen 3 x1 | R32: No | S32: HDMI 2.0b | T32: 0 | U32: 0 | V32: 2 | W32: 0 | Y32: Level 6 | Z32: 4 | AA32: No | AB32: =IF(ISNUMBER(E32),IF(I32>0,IF(AA32="No",E32+(I32*$B$3),E32+(I32*$B$4)),""),"") -> 2122 | AC32: =IF(I32>0,(I32-1)*$B$2,"") -> 36 | AD32: =IF(ISNUMBER(E32),IF(I32>0,AB32/AC32,""),"") -> 58.944444 | AE32: =IF(I32>2,(I32-2)*$B$2,"") -> 24 | AF32: =IF(AND(ISNUMBER(E32),I32>2),AB32/AE32,"") -> 88.416667
B33: Asustor | C33: LOCKERSTOR 4 Gen3 AS6804T | D33: Available | E33: 1320 | F33: 3 year | G33: ADM | H33: No | I33: 4 | J33: 0 | K33: AMD V3C14 4C/8T | L33: 16 GB (1x16 GB) | M33: 64 GB (2x32 GB) | N33: Yes | O33: DDR5-4800 SODIMM | P33: 1 Gen 4 x4 | Q33: 4 Gen 4 x1 | R33: 2 USB4/TB3 | S33: No | T33: 0 | U33: 2 | V33: 0 | W33: 2 | Y33: No | Z33: 4 | AA33: No | AB33: =IF(ISNUMBER(E33),IF(I33>0,IF(AA33="No",E33+(I33*$B$3),E33+(I33*$B$4)),""),"") -> 2760 | AC33: =IF(I33>0,(I33-1)*$B$2,"") -> 36 | AD33: =IF(ISNUMBER(E33),IF(I33>0,AB33/AC33,""),"") -> 76.666667 | AE33: =IF(I33>2,(I33-2)*$B$2,"") -> 24 | AF33: =IF(AND(ISNUMBER(E33),I33>2),AB33/AE33,"") -> 115
B34: Asustor | C34: LOCKERSTOR 6 Gen2+ AS6706T v2 | D34: Available | E34: 902 | F34: 3 year | G34: ADM | H34: Yes | I34: 6 | J34: 0 | K34: Intel Celeron N5105 4C/4T | L34: 4 GB (1x4 GB) | M34: 8 GB (2x4 GB) | N34: No | O34: DDR4-2933 SODIMM | P34: No | Q34: 4 Gen 3 x1 | R34: No | S34: HDMI 2.0b | T34: 0 | U34: 0 | V34: 2 | W34: 0 | Y34: Level 6 | Z34: 4 | AA34: No | AB34: =IF(ISNUMBER(E34),IF(I34>0,IF(AA34="No",E34+(I34*$B$3),E34+(I34*$B$4)),""),"") -> 3062 | AC34: =IF(I34>0,(I34-1)*$B$2,"") -> 60 | AD34: =IF(ISNUMBER(E34),IF(I34>0,AB34/AC34,""),"") -> 51.033333 | AE34: =IF(I34>2,(I34-2)*$B$2,"") -> 48 | AF34: =IF(AND(ISNUMBER(E34),I34>2),AB34/AE34,"") -> 63.791667
B35: Asustor | C35: LOCKERSTOR 6 Gen3 AS6806T | D35: Available | E35: 1540 | F35: 3 year | G35: ADM | H35: No | I35: 6 | J35: 0 | K35: AMD V3C14 4C/8T | L35: 16 GB (1x16 GB) | M35: 64 GB (2x32 GB) | N35: Yes | O35: DDR5-4800 SODIMM | P35: 1 Gen 4 x4 | Q35: 4 Gen 4 x1 | R35: 2 USB4/TB3 | S35: No | T35: 0 | U35: 2 | V35: 0 | W35: 2 | Y35: No | Z35: 4 | AA35: No | AB35: =IF(ISNUMBER(E35),IF(I35>0,IF(AA35="No",E35+(I35*$B$3),E35+(I35*$B$4)),""),"") -> 3700 | AC35: =IF(I35>0,(I35-1)*$B$2,"") -> 60 | AD35: =IF(ISNUMBER(E35),IF(I35>0,AB35/AC35,""),"") -> 61.666667 | AE35: =IF(I35>2,(I35-2)*$B$2,"") -> 48 | AF35: =IF(AND(ISNUMBER(E35),I35>2),AB35/AE35,"") -> 77.083333
B36: Asustor | C36: LOCKERSTOR 8 AS6508T | D36: Available | E36: 984 | F36: 3 year | G36: ADM | H36: No | I36: 8 | J36: 0 | K36: Intel Atom C3538 4C/4T | L36: 8 GB (1x8 GB) | M36: 64 GB (2x32 GB) | N36: No | O36: DDR4-2133 SODIMM | P36: No | Q36: 4 Gen 3 x1 | R36: No | S36: No | T36: 0 | U36: 2 | V36: 0 | W36: 2 | Y36: No | Z36: 4 | AA36: No | AB36: =IF(ISNUMBER(E36),IF(I36>0,IF(AA36="No",E36+(I36*$B$3),E36+(I36*$B$4)),""),"") -> 3864 | AC36: =IF(I36>0,(I36-1)*$B$2,"") -> 84 | AD36: =IF(ISNUMBER(E36),IF(I36>0,AB36/AC36,""),"") -> 46 | AE36: =IF(I36>2,(I36-2)*$B$2,"") -> 72 | AF36: =IF(AND(ISNUMBER(E36),I36>2),AB36/AE36,"") -> 53.666667
B37: Asustor | C37: LOCKERSTOR 8 Gen3 AS6808T | D37: Available | E37: 1760 | F37: 3 year | G37: ADM | H37: No | I37: 8 | J37: 0 | K37: AMD V3C14 4C/8T | L37: 16 GB (1x16 GB) | M37: 64 GB (2x32 GB) | N37: Yes | O37: DDR5-4800 SODIMM | P37: 1 Gen 4 x4 | Q37: 4 Gen 4 x1 | R37: 2 USB4/TB3 | S37: No | T37: 0 | U37: 2 | V37: 0 | W37: 2 | Y37: No | Z37: 4 | AA37: No | AB37: =IF(ISNUMBER(E37),IF(I37>0,IF(AA37="No",E37+(I37*$B$3),E37+(I37*$B$4)),""),"") -> 4640 | AC37: =IF(I37>0,(I37-1)*$B$2,"") -> 84 | AD37: =IF(ISNUMBER(E37),IF(I37>0,AB37/AC37,""),"") -> 55.238095 | AE37: =IF(I37>2,(I37-2)*$B$2,"") -> 72 | AF37: =IF(AND(ISNUMBER(E37),I37>2),AB37/AE37,"") -> 64.444444
B38: Asustor | C38: LOCKERSTOR AS6510T | D38: Available | E38: 1342 | F38: 3 year | G38: ADM | H38: No | I38: 10 | J38: 0 | K38: Intel Atom C3538 4C/4T | L38: 8 GB (1x8 GB) | M38: 64 GB (2x32 GB) | N38: No | O38: DDR4-2133 SODIMM | P38: No | Q38: 4 Gen 3 x1 | R38: No | S38: No | T38: 0 | U38: 2 | V38: 0 | W38: 2 | Y38: No | Z38: 4 | AA38: No | AB38: =IF(ISNUMBER(E38),IF(I38>0,IF(AA38="No",E38+(I38*$B$3),E38+(I38*$B$4)),""),"") -> 4942 | AC38: =IF(I38>0,(I38-1)*$B$2,"") -> 108 | AD38: =IF(ISNUMBER(E38),IF(I38>0,AB38/AC38,""),"") -> 45.759259 | AE38: =IF(I38>2,(I38-2)*$B$2,"") -> 96 | AF38: =IF(AND(ISNUMBER(E38),I38>2),AB38/AE38,"") -> 51.479167
... B40: Asustor | C40: LOCKERSTOR 10 Pro AS7110T | D40: Available | E40: 2400 | F40: 5 year | G40: ADM | H40: No | I40: 10 | J40: 0 | K40: Intel Xeon E-2224 4C/4T | L40: 8 GB (1x8 GB) | M40: 64 GB (2x32 GB) | N40: Yes | O40: DDR4-3200 SODIMM | P40: No | Q40: 2 Gen 3 x4 | R40: No | S40: No | T40: 0 | U40: 3 | V40: 0 | W40: 1 | Y40: No | Z40: 4 | AA40: No | AB40: =IF(ISNUMBER(E40),IF(I40>0,IF(AA40="No",E40+(I40*$B$3),E40+(I40*$B$4)),""),"") -> 6000 | AC40: =IF(I40>0,(I40-1)*$B$2,"") -> 108 | AD40: =IF(ISNUMBER(E40),IF(I40>0,AB40/AC40,""),"") -> 55.555556 | AE40: =IF(I40>2,(I40-2)*$B$2,"") -> 96 | AF40: =IF(AND(ISNUMBER(E40),I40>2),AB40/AE40,"") -> 62.5
B41: Beelink | C41: ME Pro J5005 2-Bay | D41: Announced | E41: 299 | F41: 1 year | G41: Win11 Home/DIY | H41: Yes | I41: 2 | J41: 0 | K41: Intel Pentium Silver J5005 4C/4T | L41: 8 GB (2x4 GB) | M41: 8 GB (2x4 GB) | N41: No | O41: DDR4-2400 SODIMM | P41: No | Q41: 2 | R41: No | S41: HDMI | T41: 0 | U41: 1 | V41: 0 | W41: 0 | Y41: Level 6 | Z41: N/A | AA41: No | AB41: =IF(ISNUMBER(E41),IF(I41>0,IF(AA41="No",E41+(I41*$B$3),E41+(I41*$B$4)),""),"") -> 1019 | AC41: =IF(I41>0,(I41-1)*$B$2,"") -> 12 | AD41: =IF(ISNUMBER(E41),IF(I41>0,AB41/AC41,""),"") -> 84.916667 | AE41: =IF(I41>2,(I41-2)*$B$2,"") | AF41: =IF(AND(ISNUMBER(E41),I41>2),AB41/AE41,"")
B42: Beelink | C42: ME Pro N95 2-Bay | D42: Available | E42: 379 | F42: 1 year | G42: Win11 Home/DIY | H42: Yes | I42: 2 | J42: 0 | K42: Intel N95 4C/4T | L42: 16 GB (onboard) | M42: 16 GB (onboard) | N42: No | O42: Onboard LPDDR5-4800 | P42: No | Q42: 1 Gen 3 x2; 1 Gen 3 x1 | R42: No | S42: HDMI | T42: 0 | U42: 1 | V42: 1 | W42: 0 | Y42: Probable Level 6 | Z42: N/A | AA42: No | AB42: =IF(ISNUMBER(E42),IF(I42>0,IF(AA42="No",E42+(I42*$B$3),E42+(I42*$B$4)),""),"") -> 1099 | AC42: =IF(I42>0,(I42-1)*$B$2,"") -> 12 | AD42: =IF(ISNUMBER(E42),IF(I42>0,AB42/AC42,""),"") -> 91.583333 | AE42: =IF(I42>2,(I42-2)*$B$2,"") | AF42: =IF(AND(ISNUMBER(E42),I42>2),AB42/AE42,"")
B43: Beelink | C43: ME Pro N150 2-Bay | D43: Available | E43: 509 | F43: 1 year | G43: Win11 Home/DIY | H43: Yes | I43: 2 | J43: 0 | K43: Intel N150 4C/4T | L43: 16 GB (onboard) | M43: 16 GB (onboard) | N43: No | O43: Onboard LPDDR5-4800 | P43: No | Q43: 1 Gen 3 x2; 1 Gen 3 x1 | R43: No | S43: HDMI | T43: 0 | U43: 1 | V43: 1 | W43: 0 | Y43: Probable Level 6 | Z43: N/A | AA43: No | AB43: =IF(ISNUMBER(E43),IF(I43>0,IF(AA43="No",E43+(I43*$B$3),E43+(I43*$B$4)),""),"") -> 1229 | AC43: =IF(I43>0,(I43-1)*$B$2,"") -> 12 | AD43: =IF(ISNUMBER(E43),IF(I43>0,AB43/AC43,""),"") -> 102.41667 | AE43: =IF(I43>2,(I43-2)*$B$2,"") | AF43: =IF(AND(ISNUMBER(E43),I43>2),AB43/AE43,"")
B44: Beelink | C44: ME Pro 304 2-Bay | D44: Available | E44: 609 | F44: 1 year | G44: Win11 Home/DIY | H44: Yes | I44: 2 | J44: 0 | K44: Intel Core 3 304 1P+4LPE 5T | L44: 16 GB (1x16 GB) | M44: 64 GB (2x32 GB) | N44: No | O44: DDR5-6400 SODIMM | P44: No | Q44: 1x Gen 4 | R44: 2 USB4/TB3 | S44: HDMI | T44: 0 | U44: 1 | V44: 0 | W44: 1 | Y44: Probable Level 6 | Z44: N/A | AA44: No | AB44: =IF(ISNUMBER(E44),IF(I44>0,IF(AA44="No",E44+(I44*$B$3),E44+(I44*$B$4)),""),"") -> 1329 | AC44: =IF(I44>0,(I44-1)*$B$2,"") -> 12 | AD44: =IF(ISNUMBER(E44),IF(I44>0,AB44/AC44,""),"") -> 110.75 | AE44: =IF(I44>2,(I44-2)*$B$2,"") | AF44: =IF(AND(ISNUMBER(E44),I44>2),AB44/AE44,"")
B45: Beelink | C45: ME Pro 13500H 2-Bay | D45: Announced | E45: 739 | F45: 1 year | G45: Win11 Home/DIY | H45: Yes | I45: 2 | J45: 0 | K45: Intel Core i5-13500H 2P+8E/12T | L45: 32 GB (2x16 GB) | M45: 96 GB (2x48 GB) | N45: No | O45: DDR4-3200 SODIMM | P45: No | Q45: 2 | R45: 1 USB4/TB3 | S45: HDMI | T45: 0 | U45: 1 | V45: 0 | W45: 1 | Y45: Level 6 | Z45: N/A | AA45: No | AB45: =IF(ISNUMBER(E45),IF(I45>0,IF(AA45="No",E45+(I45*$B$3),E45+(I45*$B$4)),""),"") -> 1459 | AC45: =IF(I45>0,(I45-1)*$B$2,"") -> 12 | AD45: =IF(ISNUMBER(E45),IF(I45>0,AB45/AC45,""),"") -> 121.58333 | AE45: =IF(I45>2,(I45-2)*$B$2,"") | AF45: =IF(AND(ISNUMBER(E45),I45>2),AB45/AE45,"")
B46: Beelink | C46: ME Pro AI 350 2-Bay | D46: Announced | E46: 949 | F46: 1 year | G46: Win11 Home/DIY | H46: Yes | I46: 2 | J46: 0 | K46: AMD Ryzen AI 9 HX 350 8C/16T | L46: 32 GB (2x16 GB) | M46: 128 GB (2x64 GB) | N46: No | O46: DDR5-5600 SODIMM | P46: No | Q46: 2 | R46: 1 USB4/TB3 | S46: HDMI | T46: 0 | U46: 1 | V46: 0 | W46: 1 | Y46: Probable Level 6 | Z46: N/A | AA46: No | AB46: =IF(ISNUMBER(E46),IF(I46>0,IF(AA46="No",E46+(I46*$B$3),E46+(I46*$B$4)),""),"") -> 1669 | AC46: =IF(I46>0,(I46-1)*$B$2,"") -> 12 | AD46: =IF(ISNUMBER(E46),IF(I46>0,AB46/AC46,""),"") -> 139.08333 | AE46: =IF(I46>2,(I46-2)*$B$2,"") | AF46: =IF(AND(ISNUMBER(E46),I46>2),AB46/AE46,"")
B47: Beelink | C47: ME Pro AI 470 2-Bay | D47: Announced | E47: 1279 | F47: 1 year | G47: Win11 Home/DIY | H47: Yes | I47: 2 | J47: 0 | K47: AMD Ryzen AI 9 HX 470 12C/24T | L47: 32 GB (2x16 GB) | M47: 128 GB (2x64 GB) | N47: No | O47: DDR5-5600 SODIMM | P47: No | Q47: 2 | R47: 1 USB4/TB3 | S47: HDMI | T47: 0 | U47: 1 | V47: 0 | W47: 1 | Y47: Probable Level 6 | Z47: N/A | AA47: No | AB47: =IF(ISNUMBER(E47),IF(I47>0,IF(AA47="No",E47+(I47*$B$3),E47+(I47*$B$4)),""),"") -> 1999 | AC47: =IF(I47>0,(I47-1)*$B$2,"") -> 12 | AD47: =IF(ISNUMBER(E47),IF(I47>0,AB47/AC47,""),"") -> 166.58333 | AE47: =IF(I47>2,(I47-2)*$B$2,"") | AF47: =IF(AND(ISNUMBER(E47),I47>2),AB47/AE47,"")
B48: Beelink | C48: ME Pro J5005 4-Bay | D48: Announced | E48: 369 | F48: 1 year | G48: Win11 Home/DIY | H48: Yes | I48: 4 | J48: 0 | K48: Intel Pentium Silver J5005 4C/4T | L48: 8 GB (2x4 GB) | M48: 8 GB (2x4 GB) | N48: No | O48: DDR4-2400 SODIMM | P48: No | Q48: 2 | R48: No | S48: HDMI | T48: 0 | U48: 1 | V48: 0 | W48: 0 | Y48: Level 6 | Z48: N/A | AA48: No | AB48: =IF(ISNUMBER(E48),IF(I48>0,IF(AA48="No",E48+(I48*$B$3),E48+(I48*$B$4)),""),"") -> 1809 | AC48: =IF(I48>0,(I48-1)*$B$2,"") -> 36 | AD48: =IF(ISNUMBER(E48),IF(I48>0,AB48/AC48,""),"") -> 50.25 | AE48: =IF(I48>2,(I48-2)*$B$2,"") -> 24 | AF48: =IF(AND(ISNUMBER(E48),I48>2),AB48/AE48,"") -> 75.375
B49: Beelink | C49: ME Pro N95 4-Bay | D49: Announced | E49: 489 | F49: 1 year | G49: Win11 Home/DIY | H49: Yes | I49: 4 | J49: 0 | K49: Intel N95 4C/4T | L49: 16 GB (onboard) | M49: 16 GB (onboard) | N49: No | O49: Onboard LPDDR5-4800 | P49: No | Q49: 1 Gen 3 x2; 1 Gen 3 x1 | R49: No | S49: HDMI | T49: 0 | U49: 1 | V49: 1 | W49: 0 | Y49: Probable Level 6 | Z49: N/A | AA49: No | AB49: =IF(ISNUMBER(E49),IF(I49>0,IF(AA49="No",E49+(I49*$B$3),E49+(I49*$B$4)),""),"") -> 1929 | AC49: =IF(I49>0,(I49-1)*$B$2,"") -> 36 | AD49: =IF(ISNUMBER(E49),IF(I49>0,AB49/AC49,""),"") -> 53.583333 | AE49: =IF(I49>2,(I49-2)*$B$2,"") -> 24 | AF49: =IF(AND(ISNUMBER(E49),I49>2),AB49/AE49,"") -> 80.375
B50: Beelink | C50: ME Pro N150 4-Bay | D50: Announced | E50: 539 | F50: 1 year | G50: Win11 Home/DIY | H50: Yes | I50: 4 | J50: 0 | K50: Intel N150 4C/4T | L50: 16 GB (onboard) | M50: 16 GB (onboard) | N50: No | O50: Onboard LPDDR5-4800 | P50: No | Q50: 1 Gen 3 x2; 1 Gen 3 x1 | R50: No | S50: HDMI | T50: 0 | U50: 1 | V50: 1 | W50: 0 | Y50: Probable Level 6 | Z50: N/A | AA50: No | AB50: =IF(ISNUMBER(E50),IF(I50>0,IF(AA50="No",E50+(I50*$B$3),E50+(I50*$B$4)),""),"") -> 1979 | AC50: =IF(I50>0,(I50-1)*$B$2,"") -> 36 | AD50: =IF(ISNUMBER(E50),IF(I50>0,AB50/AC50,""),"") -> 54.972222 | AE50: =IF(I50>2,(I50-2)*$B$2,"") -> 24 | AF50: =IF(AND(ISNUMBER(E50),I50>2),AB50/AE50,"") -> 82.458333
B51: Beelink | C51: ME Pro 304 4-Bay | D51: Announced | E51: 769 | F51: 1 year | G51: Win11 Home/DIY | H51: Yes | I51: 4 | J51: 0 | K51: Intel Core 3 304 1P+4LPE 5T | L51: 16 GB (1x16 GB) | M51: 64 GB (2x32 GB) | N51: No | O51: DDR5-6400 SODIMM | P51: No | Q51: 1x Gen 4 | R51: 2 USB4/TB3 | S51: HDMI | T51: 0 | U51: 1 | V51: 0 | W51: 1 | Y51: Probable Level 6 | Z51: N/A | AA51: No | AB51: =IF(ISNUMBER(E51),IF(I51>0,IF(AA51="No",E51+(I51*$B$3),E51+(I51*$B$4)),""),"") -> 2209 | AC51: =IF(I51>0,(I51-1)*$B$2,"") -> 36 | AD51: =IF(ISNUMBER(E51),IF(I51>0,AB51/AC51,""),"") -> 61.361111 | AE51: =IF(I51>2,(I51-2)*$B$2,"") -> 24 | AF51: =IF(AND(ISNUMBER(E51),I51>2),AB51/AE51,"") -> 92.041667
B52: Beelink | C52: ME Pro 13500H 4-Bay | D52: Announced | E52: 819 | F52: 1 year | G52: Win11 Home/DIY | H52: Yes | I52: 4 | J52: 0 | K52: Intel Core i5-13500H 2P+8E/12T | L52: 32 GB (2x16 GB) | M52: 96 GB (2x48 GB) | N52: No | O52: DDR4-3200 SODIMM | P52: No | Q52: 2 | R52: 1 USB4/TB3 | S52: HDMI | T52: 0 | U52: 1 | V52: 0 | W52: 1 | Y52: Level 6 | Z52: N/A | AA52: No | AB52: =IF(ISNUMBER(E52),IF(I52>0,IF(AA52="No",E52+(I52*$B$3),E52+(I52*$B$4)),""),"") -> 2259 | AC52: =IF(I52>0,(I52-1)*$B$2,"") -> 36 | AD52: =IF(ISNUMBER(E52),IF(I52>0,AB52/AC52,""),"") -> 62.75 | AE52: =IF(I52>2,(I52-2)*$B$2,"") -> 24 | AF52: =IF(AND(ISNUMBER(E52),I52>2),AB52/AE52,"") -> 94.125
B53: Beelink | C53: ME Pro AI 350 4-Bay | D53: Announced | E53: 1049 | F53: 1 year | G53: Win11 Home/DIY | H53: Yes | I53: 4 | J53: 0 | K53: AMD Ryzen AI 9 HX 350 8C/16T | L53: 32 GB (2x16 GB) | M53: 128 GB (2x64 GB) | N53: No | O53: DDR5-5600 SODIMM | P53: No | Q53: 2 | R53: 1 USB4/TB3 | S53: HDMI | T53: 0 | U53: 1 | V53: 0 | W53: 1 | Y53: Probable Level 6 | Z53: N/A | AA53: No | AB53: =IF(ISNUMBER(E53),IF(I53>0,IF(AA53="No",E53+(I53*$B$3),E53+(I53*$B$4)),""),"") -> 2489 | AC53: =IF(I53>0,(I53-1)*$B$2,"") -> 36 | AD53: =IF(ISNUMBER(E53),IF(I53>0,AB53/AC53,""),"") -> 69.138889 | AE53: =IF(I53>2,(I53-2)*$B$2,"") -> 24 | AF53: =IF(AND(ISNUMBER(E53),I53>2),AB53/AE53,"") -> 103.70833
B54: Beelink | C54: ME Pro AI 470 4-Bay | D54: Announced | E54: 1379 | F54: 1 year | G54: Win11 Home/DIY | H54: Yes | I54: 4 | J54: 0 | K54: AMD Ryzen AI 9 HX 470 12C/24T | L54: 32 GB (2x16 GB) | M54: 128 GB (2x64 GB) | N54: No | O54: DDR5-5600 SODIMM | P54: No | Q54: 2 | R54: 1 USB4/TB3 | S54: HDMI | T54: 0 | U54: 1 | V54: 0 | W54: 1 | Y54: Probable Level 6 | Z54: N/A | AA54: No | AB54: =IF(ISNUMBER(E54),IF(I54>0,IF(AA54="No",E54+(I54*$B$3),E54+(I54*$B$4)),""),"") -> 2819 | AC54: =IF(I54>0,(I54-1)*$B$2,"") -> 36 | AD54: =IF(ISNUMBER(E54),IF(I54>0,AB54/AC54,""),"") -> 78.305556 | AE54: =IF(I54>2,(I54-2)*$B$2,"") -> 24 | AF54: =IF(AND(ISNUMBER(E54),I54>2),AB54/AE54,"") -> 117.45833
B55: Harbor Innovations | C55: Nexus AI Station | D55: Available | E55: 899 | F55: 1 year | G55: Harbor OS | H55: Yes | I55: 4 | J55: 0 | K55: AMD Ryzen 7 PRO 8845HS 8C/16T | L55: Barebone | M55: 96 GB (2x48 GB) | N55: Opt | O55: DDR5-5600 SODIMM | P55: 1 Gen 4 x8 | Q55: 3 Gen 4 (x1 or x2) | R55: 1 USB4/TB3 | S55: HDMI 2.0b | T55: 0 | U55: 0 | V55: 0 | W55: 2 | Y55: Probable Level 6 | Z55: N/A | AA55: No | AB55: =IF(ISNUMBER(E55),IF(I55>0,IF(AA55="No",E55+(I55*$B$3),E55+(I55*$B$4)),""),"") -> 2339 | AC55: =IF(I55>0,(I55-1)*$B$2,"") -> 36 | AD55: =IF(ISNUMBER(E55),IF(I55>0,AB55/AC55,""),"") -> 64.972222 | AE55: =IF(I55>2,(I55-2)*$B$2,"") -> 24
B56: Iron Cow (Yxk) | C56: Zero 1 Pro + 64GB SSD | D56: Available | E56: 285 | G56: DIY | H56: Yes | I56: 4 | J56: 0 | K56: Intel N100 4C/4T | L56: 8 GB (1x8 GB) | M56: 32 GB (1x32 GB) | N56: No | O56: DDR5-4800 SODIMM | P56: No | Q56: No | R56: No | S56: No | T56: 0 | U56: 2 | V56: 0 | W56: 0 | Y56: Probable Level 6 | Z56: N/A | AA56: No | AB56: =IF(ISNUMBER(E56),IF(I56>0,IF(AA56="No",E56+(I56*$B$3),E56+(I56*$B$4)),""),"") -> 1725 | AC56: =IF(I56>0,(I56-1)*$B$2,"") -> 36 | AD56: =IF(ISNUMBER(E56),IF(I56>0,AB56/AC56,""),"") -> 47.916667 | AE56: =IF(I56>2,(I56-2)*$B$2,"") -> 24
B57: LincPlus | C57: LincStation N2 | D57: Available | E57: 348 | F57: 2 year | G57: UnRAID | H57: Yes | I57: 2 | J57: 0 | K57: Intel N100 4C/4T | L57: 8 GB (1x8 GB) | M57: 32 GB (1x32 GB) | N57: No | O57: DDR5-4800 SODIMM | P57: No | Q57: 4 Gen 3 x1 | R57: No | S57: HDMI | T57: 0 | U57: 0 | V57: 0 | W57: 1 | Y57: Probable Level 4 | Z57: N/A | AA57: No | AB57: =IF(ISNUMBER(E57),IF(I57>0,IF(AA57="No",E57+(I57*$B$3),E57+(I57*$B$4)),""),"") -> 1068 | AC57: =IF(I57>0,(I57-1)*$B$2,"") -> 12 | AD57: =IF(ISNUMBER(E57),IF(I57>0,AB57/AC57,""),"") -> 89 | AE57: =IF(I57>2,(I57-2)*$B$2,"") | AF57: =IF(AND(ISNUMBER(E57),I57>2),AB57/AE57,"")
B58: LincPlus | C58: LincStation S1 | D58: Available | E58: 459 | F58: 2 year | G58: UnRAID | H58: Yes | I58: 4 | J58: 0 | K58: Intel N97 4C/4T | L58: 8 GB (1x8 GB) | M58: 32 GB (1x32 GB) | N58: No | O58: DDR5-4800 SODIMM | P58: No | Q58: 2 Gen 3 x1 | R58: No | S58: HDMI | T58: 0 | U58: 2 | V58: 0 | W58: 0 | Y58: Probable Level 4 | Z58: N/A | AA58: No | AB58: =IF(ISNUMBER(E58),IF(I58>0,IF(AA58="No",E58+(I58*$B$3),E58+(I58*$B$4)),""),"") -> 1899 | AC58: =IF(I58>0,(I58-1)*$B$2,"") -> 36 | AD58: =IF(ISNUMBER(E58),IF(I58>0,AB58/AC58,""),"") -> 52.75 | AE58: =IF(I58>2,(I58-2)*$B$2,"") -> 24 | AF58: =IF(AND(ISNUMBER(E58),I58>2),AB58/AE58,"") -> 79.125
B59: Minisforum | C59: N4 | D59: Announced | F59: 2 year | G59: MinisCloud/DIY | H59: Yes | I59: 4 | J59: 0 | K59: Intel Core 5 320 2P+4LPE 6T | L59: 16 GB (onboard) | M59: 16 GB (onboard) | N59: No | O59: Onboard LPDDR5X-7467 | P59: No | Q59: 2 Gen 4 x1 | R59: 1 USB4/TB3 | S59: HDMI | T59: 0 | U59: 1 | V59: 0 | W59: 1 | AC59: =IF(I59>0,(I59-1)*$B$2,"") -> 36 | AE59: =IF(I59>2,(I59-2)*$B$2,"") -> 24
B60: Minisforum | C60: N5 Air Barebone + 64GB SSD | D60: Available | E60: 535 | F60: 2 year | G60: MinisCloud/DIY | H60: Yes | I60: 5 | J60: 0 | K60: AMD Ryzen 7 255 8C/16T | L60: Barebone | M60: 96 GB (2x48 GB) | N60: No | O60: DDR5-5600 SODIMM | P60: OCuLink Gen 4 x4 | Q60: 1 Gen 4 x2, 2 Gen 4 x1 | R60: 2 USB4/TB3 | S60: HDMI + Type C DP | T60: 0 | U60: 0 | V60: 1 | W60: 1 | Y60: Probable Level 6 | Z60: N/A | AA60: No | AB60: =IF(ISNUMBER(E60),IF(I60>0,IF(AA60="No",E60+(I60*$B$3),E60+(I60*$B$4)),""),"") -> 2335 | AC60: =IF(I60>0,(I60-1)*$B$2,"") -> 48 | AD60: =IF(ISNUMBER(E60),IF(I60>0,AB60/AC60,""),"") -> 48.645833 | AE60: =IF(I60>2,(I60-2)*$B$2,"") -> 36 | AF60: =IF(AND(ISNUMBER(E60),I60>2),AB60/AE60,"") -> 64.861111
B61: Minisforum | C61: N5 Air 16GB + 64GB SSD | D61: Available | E61: 719 | F61: 2 year | G61: MinisCloud/DIY | H61: Yes | I61: 5 | J61: 0 | K61: AMD Ryzen 7 255 8C/16T | L61: 16 GB (2x8 GB) | M61: 96 GB (2x48 GB) | N61: No | O61: DDR5-5600 SODIMM | P61: OCuLink Gen 4 x4 | Q61: 1 Gen 4 x2, 2 Gen 4 x1 | R61: 2 USB4/TB3 | S61: HDMI + Type C DP | T61: 0 | U61: 0 | V61: 1 | W61: 1 | Y61: Probable Level 6 | Z61: N/A | AA61: No | AB61: =IF(ISNUMBER(E61),IF(I61>0,IF(AA61="No",E61+(I61*$B$3),E61+(I61*$B$4)),""),"") -> 2519 | AC61: =IF(I61>0,(I61-1)*$B$2,"") -> 48 | AD61: =IF(ISNUMBER(E61),IF(I61>0,AB61/AC61,""),"") -> 52.479167 | AE61: =IF(I61>2,(I61-2)*$B$2,"") -> 36 | AF61: =IF(AND(ISNUMBER(E61),I61>2),AB61/AE61,"") -> 69.972222
B62: Minisforum | C62: N5 Air 7640 Barebone + 64GB SSD | D62: Available | E62: 495 | F62: 2 year | G62: MinisCloud/DIY | H62: Yes | I62: 5 | J62: 0 | K62: AMD Ryzen 5 7640HS 6C/12T | L62: Barebone | M62: 96 GB (2x48 GB) | N62: No | O62: DDR5-5600 SODIMM | P62: OCuLink Gen 4 x4 | Q62: 1 Gen 4 x2, 2 Gen 4 x1 | R62: 2 USB4/TB3 | S62: HDMI + Type C DP | T62: 0 | U62: 0 | V62: 1 | W62: 1 | Y62: Probable Level 6 | Z62: N/A | AA62: No | AB62: =IF(ISNUMBER(E62),IF(I62>0,IF(AA62="No",E62+(I62*$B$3),E62+(I62*$B$4)),""),"") -> 2295 | AC62: =IF(I62>0,(I62-1)*$B$2,"") -> 48 | AD62: =IF(ISNUMBER(E62),IF(I62>0,AB62/AC62,""),"") -> 47.8125 | AE62: =IF(I62>2,(I62-2)*$B$2,"") -> 36 | AF62: =IF(AND(ISNUMBER(E62),I62>2),AB62/AE62,"") -> 63.75
B63: Minisforum | C63: N5 Air 7640 16GB (4800) + 64GB SSD | D63: Available | E63: 679 | F63: 2 year | G63: MinisCloud/DIY | H63: Yes | I63: 5 | J63: 0 | K63: AMD Ryzen 5 7640HS 6C/12T | L63: 16 GB (2x8 GB) | M63: 96 GB (2x48 GB) | N63: No | O63: DDR5-5600 SODIMM | P63: OCuLink Gen 4 x4 | Q63: 1 Gen 4 x2, 2 Gen 4 x1 | R63: 2 USB4/TB3 | S63: HDMI + Type C DP | T63: 0 | U63: 0 | V63: 1 | W63: 1 | Y63: Probable Level 6 | Z63: N/A | AA63: No | AB63: =IF(ISNUMBER(E63),IF(I63>0,IF(AA63="No",E63+(I63*$B$3),E63+(I63*$B$4)),""),"") -> 2479 | AC63: =IF(I63>0,(I63-1)*$B$2,"") -> 48 | AD63: =IF(ISNUMBER(E63),IF(I63>0,AB63/AC63,""),"") -> 51.645833 | AE63: =IF(I63>2,(I63-2)*$B$2,"") -> 36 | AF63: =IF(AND(ISNUMBER(E63),I63>2),AB63/AE63,"") -> 68.861111
B64: Minisforum | C64: N5 MAX 495 64GB | D64: Announced | F64: 2 year | G64: MinisCloud/DIY | H64: Yes | I64: 5 | J64: 0 | K64: AMD Ryzen 9 AI MAX+ 495 | L64: 64 GB Soldered | M64: 64 GB Soldered | N64: Opt | O64: Onboard LPDDR5x-8000 | P64: No | Q64: 5 | R64: 1 USB4 + 1 USB4 Gen 2 80Gb | S64: HDMI + Type C DP | T64: 0 | U64: 0 | V64: 0 | W64: 2 | Y64: Probable Level 6 | Z64: N/A | AA64: No | AB64: =IF(ISNUMBER(E64),IF(I64>0,IF(AA64="No",E64+(I64*$B$3),E64+(I64*$B$4)),""),"") | AC64: =IF(I64>0,(I64-1)*$B$2,"") -> 48 | AD64: =IF(ISNUMBER(E64),IF(I64>0,AB64/AC64,""),"") | AE64: =IF(I64>2,(I64-2)*$B$2,"") -> 36 | AF64: =IF(AND(ISNUMBER(E64),I64>2),AB64/AE64,"")
B65: Minisforum | C65: N5 MAX 495 128GB | D65: Announced | F65: 2 year | G65: MinisCloud/DIY | H65: Yes | I65: 5 | J65: 0 | K65: AMD Ryzen 9 AI MAX+ 495 | L65: 192 GB Soldered | M65: 128 GB Soldered | N65: Opt | O65: Onboard LPDDR5x-8000 | P65: No | Q65: 5 | R65: 1 USB4 + 1 USB4 Gen 2 80Gb | S65: HDMI + Type C DP | T65: 0 | U65: 0 | V65: 0 | W65: 2 | Y65: Probable Level 6 | Z65: N/A | AA65: No | AB65: =IF(ISNUMBER(E65),IF(I65>0,IF(AA65="No",E65+(I65*$B$3),E65+(I65*$B$4)),""),"") | AC65: =IF(I65>0,(I65-1)*$B$2,"") -> 48 | AD65: =IF(ISNUMBER(E65),IF(I65>0,AB65/AC65,""),"") | AE65: =IF(I65>2,(I65-2)*$B$2,"") -> 36 | AF65: =IF(AND(ISNUMBER(E65),I65>2),AB65/AE65,"")
B66: Minisforum | C66: N5 MAX 495 192GB | D66: Announced | F66: 2 year | G66: MinisCloud/DIY | H66: Yes | I66: 5 | J66: 0 | K66: AMD Ryzen 9 AI MAX+ 495 | L66: 192 GB Soldered | M66: 128 GB Soldered | N66: Opt | O66: Onboard LPDDR5x-8000 | P66: No | Q66: 5 | R66: 1 USB4 + 1 USB4 Gen 2 80Gb | S66: HDMI + Type C DP | T66: 0 | U66: 0 | V66: 0 | W66: 2 | Y66: Probable Level 6 | Z66: N/A | AA66: No | AB66: =IF(ISNUMBER(E66),IF(I66>0,IF(AA66="No",E66+(I66*$B$3),E66+(I66*$B$4)),""),"") | AC66: =IF(I66>0,(I66-1)*$B$2,"") -> 48 | AD66: =IF(ISNUMBER(E66),IF(I66>0,AB66/AC66,""),"") | AE66: =IF(I66>2,(I66-2)*$B$2,"") -> 36 | AF66: =IF(AND(ISNUMBER(E66),I66>2),AB66/AE66,"")
B67: Minisforum | C67: N5 MAX 64GB + 128GB SSD | D67: Available | E67: 2399 | F67: 2 year | G67: MinisCloud/DIY | H67: Yes | I67: 5 | J67: 0 | K67: AMD Ryzen 9 AI MAX+ 395 | L67: 64 GB Soldered | M67: 64 GB Soldered | N67: Opt | O67: Onboard LPDDR5x-8000 | P67: No | Q67: 5 | R67: 1 USB4 + 1 USB4 Gen 2 80Gb | S67: HDMI + Type C DP | T67: 0 | U67: 0 | V67: 0 | W67: 2 | Y67: Probable Level 6 | Z67: N/A | AA67: No | AB67: =IF(ISNUMBER(E67),IF(I67>0,IF(AA67="No",E67+(I67*$B$3),E67+(I67*$B$4)),""),"") -> 4199 | AC67: =IF(I67>0,(I67-1)*$B$2,"") -> 48 | AD67: =IF(ISNUMBER(E67),IF(I67>0,AB67/AC67,""),"") -> 87.479167 | AE67: =IF(I67>2,(I67-2)*$B$2,"") -> 36 | AF67: =IF(AND(ISNUMBER(E67),I67>2),AB67/AE67,"") -> 116.63889
B68: Minisforum | C68: N5 MAX 128GB + 128GB SSD | D68: Available | E68: 3599 | F68: 2 year | G68: MinisCloud/DIY | H68: Yes | I68: 5 | J68: 0 | K68: AMD Ryzen 9 AI MAX+ 395 | L68: 128 GB Soldered | M68: 128 GB Soldered | N68: Opt | O68: Onboard LPDDR5x-8000 | P68: No | Q68: 5 | R68: 1 USB4 + 1 USB4 Gen 2 80Gb | S68: HDMI + Type C DP | T68: 0 | U68: 0 | V68: 0 | W68: 2 | Y68: Probable Level 6 | Z68: N/A | AA68: No | AB68: =IF(ISNUMBER(E68),IF(I68>0,IF(AA68="No",E68+(I68*$B$3),E68+(I68*$B$4)),""),"") -> 5399 | AC68: =IF(I68>0,(I68-1)*$B$2,"") -> 48 | AD68: =IF(ISNUMBER(E68),IF(I68>0,AB68/AC68,""),"") -> 112.47917 | AE68: =IF(I68>2,(I68-2)*$B$2,"") -> 36 | AF68: =IF(AND(ISNUMBER(E68),I68>2),AB68/AE68,"") -> 149.97222
B69: Minisforum | C69: N5 Pro Barebone + 128GB SSD | D69: Available | E69: 899 | F69: 2 year | G69: MinisCloud/DIY | H69: Yes | I69: 5 | J69: 0 | K69: AMD Ryzen 7 AI 9 HX PRO 370 12C/24T | L69: Barebone | M69: 96 GB (2x48 GB) | N69: Opt | O69: DDR5-5600 SODIMM | P69: OCuLink Gen 4 x4 | Q69: 1 Gen 4 x2, 2 Gen 4 x1 | R69: 2 USB4/TB3 | S69: HDMI + Type C DP | T69: 0 | U69: 0 | V69: 1 | W69: 1 | Y69: Probable Level 6 | Z69: N/A | AA69: No | AB69: =IF(ISNUMBER(E69),IF(I69>0,IF(AA69="No",E69+(I69*$B$3),E69+(I69*$B$4)),""),"") -> 2699 | AC69: =IF(I69>0,(I69-1)*$B$2,"") -> 48 | AD69: =IF(ISNUMBER(E69),IF(I69>0,AB69/AC69,""),"") -> 56.229167 | AE69: =IF(I69>2,(I69-2)*$B$2,"") -> 36 | AF69: =IF(AND(ISNUMBER(E69),I69>2),AB69/AE69,"") -> 74.972222
B70: Minisforum | C70: N5 Pro 16GB + 128GB SSD | D70: Available | E70: 1179 | F70: 2 year | G70: MinisCloud/DIY | H70: Yes | I70: 5 | J70: 0 | K70: AMD Ryzen 7 AI 9 HX PRO 370 12C/24T | L70: 16 GB (2x8 GB) | M70: 96 GB (2x48 GB) | N70: Opt | O70: DDR5-5600 SODIMM | P70: OCuLink Gen 4 x4 | Q70: 1 Gen 4 x2, 2 Gen 4 x1 | R70: 2 USB4/TB3 | S70: HDMI + Type C DP | T70: 0 | U70: 0 | V70: 1 | W70: 1 | Y70: Probable Level 6 | Z70: N/A | AA70: No | AB70: =IF(ISNUMBER(E70),IF(I70>0,IF(AA70="No",E70+(I70*$B$3),E70+(I70*$B$4)),""),"") -> 2979 | AC70: =IF(I70>0,(I70-1)*$B$2,"") -> 48 | AD70: =IF(ISNUMBER(E70),IF(I70>0,AB70/AC70,""),"") -> 62.0625 | AE70: =IF(I70>2,(I70-2)*$B$2,"") -> 36 | AF70: =IF(AND(ISNUMBER(E70),I70>2),AB70/AE70,"") -> 82.75
B71: Morefine | C71: MNAS-X1 | D71: Available | E71: 759 | F71: 1 year | G71: DIY | H71: Yes | I71: 4 | J71: 0 | K71: AMD Ryzen 7 PRO 8845HS 8C/16T | L71: Barebone | M71: 96 GB (2x48 GB) | N71: Yes | O71: DDR5-5600 SODIMM | P71: 1 Gen 4 x16 (x8 lanes) | Q71: 3 Gen 4 | R71: 1 USB4/TB3 | S71: HDMI | T71: 0 | U71: 0 | V71: 0 | W71: 2 | Y71: Probable Level 6 | Z71: N/A | AA71: No | AB71: =IF(ISNUMBER(E71),IF(I71>0,IF(AA71="No",E71+(I71*$B$3),E71+(I71*$B$4)),""),"") -> 2199 | AC71: =IF(I71>0,(I71-1)*$B$2,"") -> 36 | AD71: =IF(ISNUMBER(E71),IF(I71>0,AB71/AC71,""),"") -> 61.083333 | AE71: =IF(I71>2,(I71-2)*$B$2,"") -> 24 | AF71: =IF(AND(ISNUMBER(E71),I71>2),AB71/AE71,"") -> 91.625
B72: ORICO | C72: CF500 | D72: Sold out | F72: 2 year | G72: Cyberdata/DIY | H72: Yes | I72: 5 | J72: 0 | K72: Intel N150 4C/4T | L72: 8 GB (1x8 GB) | M72: 48 GB (1x48 GB) | N72: No | O72: DDR5-4800 SODIMM | P72: No | Q72: 2 Gen 3 x1 | R72: No | S72: HDMI + DP | T72: 0 | U72: 1 | V72: 0 | W72: 0 | Y72: Probable Level 6 | Z72: N/A | AA72: No | AB72: =IF(ISNUMBER(E72),IF(I72>0,IF(AA72="No",E72+(I72*$B$3),E72+(I72*$B$4)),""),"") | AC72: =IF(I72>0,(I72-1)*$B$2,"") -> 48 | AD72: =IF(ISNUMBER(E72),IF(I72>0,AB72/AC72,""),"") | AE72: =IF(I72>2,(I72-2)*$B$2,"") -> 36 | AF72: =IF(AND(ISNUMBER(E72),I72>2),AB72/AE72,"")
B73: ORICO | C73: CF500 Pro | D73: Sold out | F73: 2 year | G73: Cyberdata/DIY | H73: Yes | I73: 5 | J73: 0 | K73: Intel N305 8C/8T | L73: 8 GB (1x8 GB) | M73: 48 GB (1x48 GB) | N73: No | O73: DDR5-4800 SODIMM | P73: No | Q73: 2 Gen 3 x1 | R73: No | S73: HDMI + DP | T73: 0 | U73: 1 | V73: 0 | W73: 1 | Y73: Probable Level 6 | Z73: N/A | AA73: No | AB73: =IF(ISNUMBER(E73),IF(I73>0,IF(AA73="No",E73+(I73*$B$3),E73+(I73*$B$4)),""),"") | AC73: =IF(I73>0,(I73-1)*$B$2,"") -> 48 | AD73: =IF(ISNUMBER(E73),IF(I73>0,AB73/AC73,""),"") | AE73: =IF(I73>2,(I73-2)*$B$2,"") -> 36 | AF73: =IF(AND(ISNUMBER(E73),I73>2),AB73/AE73,"")
B74: ORICO | C74: CF56 | D74: Available | E74: 700 | F74: 2 year | G74: Cyberdata/DIY | H74: Yes | I74: 5 | J74: 0 | K74: Intel N305 8C/8T | L74: 16 GB (1x16 GB) | M74: 48 GB (1x48 GB) | N74: No | O74: DDR5-4800 SODIMM | P74: No | Q74: 2 Gen 3 x4 + 4 Gen 3 x1 | R74: No | S74: HDMI + DP | T74: 0 | U74: 1 | V74: 0 | W74: 1 | Y74: Probable Level 6 | Z74: N/A | AA74: No | AB74: =IF(ISNUMBER(E74),IF(I74>0,IF(AA74="No",E74+(I74*$B$3),E74+(I74*$B$4)),""),"") -> 2500 | AC74: =IF(I74>0,(I74-1)*$B$2,"") -> 48 | AD74: =IF(ISNUMBER(E74),IF(I74>0,AB74/AC74,""),"") -> 52.083333 | AE74: =IF(I74>2,(I74-2)*$B$2,"") -> 36 | AF74: =IF(AND(ISNUMBER(E74),I74>2),AB74/AE74,"") -> 69.444444
B75: ORICO | C75: CF56 Pro | D75: Available | E75: 900 | F75: 2 year | G75: Cyberdata/DIY | H75: Yes | I75: 5 | J75: 0 | K75: Intel Core i5-1250P 4P+8E 16T | L75: 16 GB (1x16 GB) | M75: 96 GB (2x48 GB) | N75: No | O75: DDR5-4800 SODIMM | P75: No | Q75: 2 Gen 4 x4 + 4 Gen 3 x2 | R75: 2 USB4/TB3 | S75: HDMI + DP | T75: 0 | U75: 0 | V75: 0 | W75: 2 | Y75: Probable Level 6 | Z75: N/A | AA75: No | AB75: =IF(ISNUMBER(E75),IF(I75>0,IF(AA75="No",E75+(I75*$B$3),E75+(I75*$B$4)),""),"") -> 2700 | AC75: =IF(I75>0,(I75-1)*$B$2,"") -> 48 | AD75: =IF(ISNUMBER(E75),IF(I75>0,AB75/AC75,""),"") -> 56.25 | AE75: =IF(I75>2,(I75-2)*$B$2,"") -> 36 | AF75: =IF(AND(ISNUMBER(E75),I75>2),AB75/AE75,"") -> 75
B76: ORICO | C76: CF1000 (Pro) | D76: Available | E76: 1400 | F76: 2 year | G76: Cyberdata/DIY | H76: Yes | I76: 10 | J76: 0 | K76: Intel Core i5-1250P 4P+8E 16T | L76: 32 GB (2x16 GB) | M76: 96 GB (2x48 GB) | N76: No | O76: DDR5-4800 SODIMM | P76: No | Q76: 2 Gen 4 x4 | R76: 2 USB4/TB3 | S76: HDMI + DP | T76: 0 | U76: 0 | V76: 0 | W76: 2 | Y76: Probable Level 6 | Z76: N/A | AA76: No | AB76: =IF(ISNUMBER(E76),IF(I76>0,IF(AA76="No",E76+(I76*$B$3),E76+(I76*$B$4)),""),"") -> 5000 | AC76: =IF(I76>0,(I76-1)*$B$2,"") -> 108 | AD76: =IF(ISNUMBER(E76),IF(I76>0,AB76/AC76,""),"") -> 46.296296 | AE76: =IF(I76>2,(I76-2)*$B$2,"") -> 96 | AF76: =IF(AND(ISNUMBER(E76),I76>2),AB76/AE76,"") -> 52.083333
B77: ORICO | C77: MetaBox HS200-PRO | D77: Available | E77: 345 | F77: 2 year | G77: Cyberdata/DIY | H77: Yes | I77: 2 | J77: 0 | K77: Intel Celeron N5105 4C/4T | L77: 4 GB (1x4 GB) | M77: 16 GB (2x8 GB) | N77: No | O77: DDR4-2933 SODIMM | P77: No | Q77: 2 | R77: No | S77: HDMI | T77: 0 | U77: 2 | V77: 0 | W77: 0 | Y77: Probable Level 6 | Z77: N/A | AA77: No | AB77: =IF(ISNUMBER(E77),IF(I77>0,IF(AA77="No",E77+(I77*$B$3),E77+(I77*$B$4)),""),"") -> 1065 | AC77: =IF(I77>0,(I77-1)*$B$2,"") -> 12 | AD77: =IF(ISNUMBER(E77),IF(I77>0,AB77/AC77,""),"") -> 88.75 | AE77: =IF(I77>2,(I77-2)*$B$2,"") | AF77: =IF(AND(ISNUMBER(E77),I77>2),AB77/AE77,"")
B78: ORICO | C78: MetaBox HS500-PRO | D78: Available | E78: 380 | F78: 2 year | G78: Cyberdata/DIY | H78: Yes | I78: 5 | J78: 0 | K78: Intel Celeron N5105 4C/4T | L78: 8 GB (2x4 GB) | M78: 16 GB (2x8 GB) | N78: No | O78: DDR4-2933 SODIMM | P78: No | Q78: 2 | R78: No | S78: HDMI | T78: 0 | U78: 2 | V78: 0 | W78: 0 | Y78: Probable Level 6 | Z78: N/A | AA78: No | AB78: =IF(ISNUMBER(E78),IF(I78>0,IF(AA78="No",E78+(I78*$B$3),E78+(I78*$B$4)),""),"") -> 2180 | AC78: =IF(I78>0,(I78-1)*$B$2,"") -> 48 | AD78: =IF(ISNUMBER(E78),IF(I78>0,AB78/AC78,""),"") -> 45.416667 | AE78: =IF(I78>2,(I78-2)*$B$2,"") -> 36 | AF78: =IF(AND(ISNUMBER(E78),I78>2),AB78/AE78,"") -> 60.555556
B79: QNAP | C79: Qu405-N150-8G | D79: China only | F79: 2 year | G79: QTS/QuTS (req 16GB) | H79: Yes | I79: 4 | J79: 0 | K79: Intel N150 4C/4T | L79: 8 GB (1x8 GB) | M79: 16 GB (1x16 GB) | N79: No | O79: DDR5-4800 SODIMM | P79: No | Q79: 2 Gen 3 x1 | R79: No | S79: HDMI 2.1 4K60 | T79: 0 | U79: 2 | V79: 0 | W79: 0 | Y79: Probable Level 4 | AA79: No | AB79: =IF(ISNUMBER(E79),IF(I79>0,IF(AA79="No",E79+(I79*$B$3),E79+(I79*$B$4)),""),"") | AC79: =IF(I79>0,(I79-1)*$B$2,"") -> 36 | AD79: =IF(ISNUMBER(E79),IF(I79>0,AB79/AC79,""),"") | AE79: =IF(I79>2,(I79-2)*$B$2,"") -> 24 | AF79: =IF(AND(ISNUMBER(E79),I79>2),AB79/AE79,"")
B80: QNAP | C80: Qu405-N150-16G | D80: China only | F80: 2 year | G80: QTS/QuTS (req 16GB) | H80: Yes | I80: 4 | J80: 0 | K80: Intel N150 4C/4T | L80: 16 GB (1x16 GB) | M80: 16 GB (1x16 GB) | N80: No | O80: DDR5-4800 SODIMM | P80: No | Q80: 2 Gen 3 x1 | R80: No | S80: HDMI 2.1 4K60 | T80: 0 | U80: 2 | V80: 0 | W80: 0 | Y80: Probable Level 4 | AA80: No | AB80: =IF(ISNUMBER(E80),IF(I80>0,IF(AA80="No",E80+(I80*$B$3),E80+(I80*$B$4)),""),"") | AC80: =IF(I80>0,(I80-1)*$B$2,"") -> 36 | AD80: =IF(ISNUMBER(E80),IF(I80>0,AB80/AC80,""),"") | AE80: =IF(I80>2,(I80-2)*$B$2,"") -> 24 | AF80: =IF(AND(ISNUMBER(E80),I80>2),AB80/AE80,"")
B81: QNAP | C81: Qu405-N355-8G | D81: China only | F81: 2 year | G81: QTS/QuTS (req 16GB) | H81: Yes | I81: 4 | J81: 0 | K81: Intel N355 8C/8T | L81: 8 GB (1x8 GB) | M81: 16 GB (1x16 GB) | N81: No | O81: DDR5-4800 SODIMM | P81: No | Q81: 2 Gen 3 x1 | R81: No | S81: HDMI 2.1 4K60 | T81: 0 | U81: 2 | V81: 0 | W81: 0 | Y81: Probable Level 4 | AA81: No | AB81: =IF(ISNUMBER(E81),IF(I81>0,IF(AA81="No",E81+(I81*$B$3),E81+(I81*$B$4)),""),"") | AC81: =IF(I81>0,(I81-1)*$B$2,"") -> 36 | AD81: =IF(ISNUMBER(E81),IF(I81>0,AB81/AC81,""),"") | AE81: =IF(I81>2,(I81-2)*$B$2,"") -> 24 | AF81: =IF(AND(ISNUMBER(E81),I81>2),AB81/AE81,"")
B82: QNAP | C82: Qu405-N355-16G | D82: China only | F82: 2 year | G82: QTS/QuTS (req 16GB) | H82: Yes | I82: 4 | J82: 0 | K82: Intel N355 8C/8T | L82: 16 GB (1x16 GB) | M82: 16 GB (1x16 GB) | N82: No | O82: DDR5-4800 SODIMM | P82: No | Q82: 2 Gen 3 x1 | R82: No | S82: HDMI 2.1 4K60 | T82: 0 | U82: 2 | V82: 0 | W82: 0 | Y82: Probable Level 4 | AA82: No | AB82: =IF(ISNUMBER(E82),IF(I82>0,IF(AA82="No",E82+(I82*$B$3),E82+(I82*$B$4)),""),"") | AC82: =IF(I82>0,(I82-1)*$B$2,"") -> 36 | AD82: =IF(ISNUMBER(E82),IF(I82>0,AB82/AC82,""),"") | AE82: =IF(I82>2,(I82-2)*$B$2,"") -> 24 | AF82: =IF(AND(ISNUMBER(E82),I82>2),AB82/AE82,"")
B83: QNAP | C83: Qu605-N150-8G | D83: China only | F83: 2 year | G83: QTS/QuTS (req 16GB) | H83: Yes | I83: 6 | J83: 0 | K83: Intel N150 4C/4T | L83: 8 GB (1x8 GB) | M83: 16 GB (1x16 GB) | N83: No | O83: DDR5-4800 SODIMM | P83: No | Q83: 2 Gen 3 x1 | R83: No | S83: HDMI 2.1 4K60 | T83: 0 | U83: 2 | V83: 0 | W83: 0 | Y83: Probable Level 4 | AA83: No | AB83: =IF(ISNUMBER(E83),IF(I83>0,IF(AA83="No",E83+(I83*$B$3),E83+(I83*$B$4)),""),"") | AC83: =IF(I83>0,(I83-1)*$B$2,"") -> 60 | AD83: =IF(ISNUMBER(E83),IF(I83>0,AB83/AC83,""),"") | AE83: =IF(I83>2,(I83-2)*$B$2,"") -> 48 | AF83: =IF(AND(ISNUMBER(E83),I83>2),AB83/AE83,"")
B84: QNAP | C84: Qu605-N150-16G | D84: China only | F84: 2 year | G84: QTS/QuTS (req 16GB) | H84: Yes | I84: 6 | J84: 0 | K84: Intel N150 4C/4T | L84: 16 GB (1x16 GB) | M84: 16 GB (1x16 GB) | N84: No | O84: DDR5-4800 SODIMM | P84: No | Q84: 2 Gen 3 x1 | R84: No | S84: HDMI 2.1 4K60 | T84: 0 | U84: 2 | V84: 0 | W84: 0 | Y84: Probable Level 4 | AA84: No | AB84: =IF(ISNUMBER(E84),IF(I84>0,IF(AA84="No",E84+(I84*$B$3),E84+(I84*$B$4)),""),"") | AC84: =IF(I84>0,(I84-1)*$B$2,"") -> 60 | AD84: =IF(ISNUMBER(E84),IF(I84>0,AB84/AC84,""),"") | AE84: =IF(I84>2,(I84-2)*$B$2,"") -> 48 | AF84: =IF(AND(ISNUMBER(E84),I84>2),AB84/AE84,"")
B85: QNAP | C85: Qu605-N355-8G | D85: China only | F85: 2 year | G85: QTS/QuTS (req 16GB) | H85: Yes | I85: 6 | J85: 0 | K85: Intel N355 8C/8T | L85: 8 GB (1x8 GB) | M85: 16 GB (1x16 GB) | N85: No | O85: DDR5-4800 SODIMM | P85: No | Q85: 2 Gen 3 x1 | R85: No | S85: HDMI 2.1 4K60 | T85: 0 | U85: 2 | V85: 0 | W85: 0 | Y85: Probable Level 4 | AA85: No | AB85: =IF(ISNUMBER(E85),IF(I85>0,IF(AA85="No",E85+(I85*$B$3),E85+(I85*$B$4)),""),"") | AC85: =IF(I85>0,(I85-1)*$B$2,"") -> 60 | AD85: =IF(ISNUMBER(E85),IF(I85>0,AB85/AC85,""),"") | AE85: =IF(I85>2,(I85-2)*$B$2,"") -> 48 | AF85: =IF(AND(ISNUMBER(E85),I85>2),AB85/AE85,"")
B86: QNAP | C86: Qu605-N355-16G | D86: China only | F86: 2 year | G86: QTS/QuTS (req 16GB) | H86: Yes | I86: 6 | J86: 0 | K86: Intel N355 8C/8T | L86: 16 GB (1x16 GB) | M86: 16 GB (1x16 GB) | N86: No | O86: DDR5-4800 SODIMM | P86: No | Q86: 2 Gen 3 x1 | R86: No | S86: HDMI 2.1 4K60 | T86: 0 | U86: 2 | V86: 0 | W86: 0 | Y86: Probable Level 4 | AA86: No | AB86: =IF(ISNUMBER(E86),IF(I86>0,IF(AA86="No",E86+(I86*$B$3),E86+(I86*$B$4)),""),"") | AC86: =IF(I86>0,(I86-1)*$B$2,"") -> 60 | AD86: =IF(ISNUMBER(E86),IF(I86>0,AB86/AC86,""),"") | AE86: =IF(I86>2,(I86-2)*$B$2,"") -> 48 | AF86: =IF(AND(ISNUMBER(E86),I86>2),AB86/AE86,"")
B87: QNAP | C87: Qu805-N150-8G | D87: China only | F87: 2 year | G87: QTS/QuTS (req 16GB) | H87: Yes | I87: 8 | J87: 0 | K87: Intel N150 4C/4T | L87: 8 GB (1x8 GB) | M87: 16 GB (1x16 GB) | N87: No | O87: DDR5-4800 SODIMM | P87: No | Q87: 2 Gen 3 x1 | R87: No | S87: HDMI 2.1 4K60 | T87: 0 | U87: 2 | V87: 0 | W87: 0 | Y87: Probable Level 4 | AA87: No | AB87: =IF(ISNUMBER(E87),IF(I87>0,IF(AA87="No",E87+(I87*$B$3),E87+(I87*$B$4)),""),"") | AC87: =IF(I87>0,(I87-1)*$B$2,"") -> 84 | AD87: =IF(ISNUMBER(E87),IF(I87>0,AB87/AC87,""),"") | AE87: =IF(I87>2,(I87-2)*$B$2,"") -> 72 | AF87: =IF(AND(ISNUMBER(E87),I87>2),AB87/AE87,"")
B88: QNAP | C88: Qu805-N150-16G | D88: China only | F88: 2 year | G88: QTS/QuTS (req 16GB) | H88: Yes | I88: 8 | J88: 0 | K88: Intel N150 4C/4T | L88: 16 GB (1x16 GB) | M88: 16 GB (1x16 GB) | N88: No | O88: DDR5-4800 SODIMM | P88: No | Q88: 2 Gen 3 x1 | R88: No | S88: HDMI 2.1 4K60 | T88: 0 | U88: 2 | V88: 0 | W88: 0 | Y88: Probable Level 4 | AA88: No | AB88: =IF(ISNUMBER(E88),IF(I88>0,IF(AA88="No",E88+(I88*$B$3),E88+(I88*$B$4)),""),"") | AC88: =IF(I88>0,(I88-1)*$B$2,"") -> 84 | AD88: =IF(ISNUMBER(E88),IF(I88>0,AB88/AC88,""),"") | AE88: =IF(I88>2,(I88-2)*$B$2,"") -> 72 | AF88: =IF(AND(ISNUMBER(E88),I88>2),AB88/AE88,"")
B89: QNAP | C89: Qu805-N355-8G | D89: China only | F89: 2 year | G89: QTS/QuTS (req 16GB) | H89: Yes | I89: 8 | J89: 0 | K89: Intel N355 8C/8T | L89: 8 GB (1x8 GB) | M89: 16 GB (1x16 GB) | N89: No | O89: DDR5-4800 SODIMM | P89: No | Q89: 2 Gen 3 x1 | R89: No | S89: HDMI 2.1 4K60 | T89: 0 | U89: 2 | V89: 0 | W89: 0 | Y89: Probable Level 4 | AA89: No | AB89: =IF(ISNUMBER(E89),IF(I89>0,IF(AA89="No",E89+(I89*$B$3),E89+(I89*$B$4)),""),"") | AC89: =IF(I89>0,(I89-1)*$B$2,"") -> 84 | AD89: =IF(ISNUMBER(E89),IF(I89>0,AB89/AC89,""),"") | AE89: =IF(I89>2,(I89-2)*$B$2,"") -> 72 | AF89: =IF(AND(ISNUMBER(E89),I89>2),AB89/AE89,"")
B90: QNAP | C90: Qu805-N355-16G | D90: China only | F90: 2 year | G90: QTS/QuTS (req 16GB) | H90: Yes | I90: 8 | J90: 0 | K90: Intel N355 8C/8T | L90: 16 GB (1x16 GB) | M90: 16 GB (1x16 GB) | N90: No | O90: DDR5-4800 SODIMM | P90: No | Q90: 2 Gen 3 x1 | R90: No | S90: HDMI 2.1 4K60 | T90: 0 | U90: 2 | V90: 0 | W90: 0 | Y90: Probable Level 4 | AA90: No | AB90: =IF(ISNUMBER(E90),IF(I90>0,IF(AA90="No",E90+(I90*$B$3),E90+(I90*$B$4)),""),"") | AC90: =IF(I90>0,(I90-1)*$B$2,"") -> 84 | AD90: =IF(ISNUMBER(E90),IF(I90>0,AB90/AC90,""),"") | AE90: =IF(I90>2,(I90-2)*$B$2,"") -> 72 | AF90: =IF(AND(ISNUMBER(E90),I90>2),AB90/AE90,"")
B91: QNAP | C91: TS-253E-8G-US | D91: Available | E91: 599 | F91: 2 year | G91: QTS | H91: Yes | I91: 2 | J91: 0 | K91: Intel Celeron J6412 4C/4T | L91: 8 GB (onboard) | M91: 8 GB | N91: No | O91: DDR4-3200 SODIMM | P91: No | Q91: 2 Gen 3 x2 | R91: No | S91: HDMI 1.4b | T91: 0 | U91: 2 | V91: 0 | W91: 0 | Y91: Level 6 | Z91: 8 | AA91: No | AB91: =IF(ISNUMBER(E91),IF(I91>0,IF(AA91="No",E91+(I91*$B$3),E91+(I91*$B$4)),""),"") -> 1319 | AC91: =IF(I91>0,(I91-1)*$B$2,"") -> 12 | AD91: =IF(ISNUMBER(E91),IF(I91>0,AB91/AC91,""),"") -> 109.91667 | AE91: =IF(I91>2,(I91-2)*$B$2,"") | AF91: =IF(AND(ISNUMBER(E91),I91>2),AB91/AE91,"")
B92: QNAP | C92: TS-262A-4G-US | D92: Available | E92: 369 | F92: 2 year | G92: QTS | H92: No | I92: 2 | J92: 0 | K92: Intel Celeron N5095 4C/4T | L92: 4 GB (1x4 GB) | M92: 16 GB (2x8 GB) | N92: No | O92: DDR4-2933 SODIMM | P92: No | Q92: 2 Gen 3 x1 | R92: No | S92: No | T92: 0 | U92: 1 | V92: 0 | W92: 0 | Y92: Level 6 | Z92: 8 | AA92: No | AB92: =IF(ISNUMBER(E92),IF(I92>0,IF(AA92="No",E92+(I92*$B$3),E92+(I92*$B$4)),""),"") -> 1089 | AC92: =IF(I92>0,(I92-1)*$B$2,"") -> 12 | AD92: =IF(ISNUMBER(E92),IF(I92>0,AB92/AC92,""),"") -> 90.75 | AE92: =IF(I92>2,(I92-2)*$B$2,"") | AF92: =IF(AND(ISNUMBER(E92),I92>2),AB92/AE92,"")
B93: QNAP | C93: TS-264-8G-US | D93: Available | E93: 490 | F93: 2 year | G93: QTS | H93: Yes | I93: 2 | J93: 0 | K93: Intel Celeron N5095 4C/4T | L93: 8 GB (onboard) | M93: 8 GB | N93: No | O93: DDR4-2933 SODIMM | P93: 1 Gen 3 x2 | Q93: 2 Gen 3 x1 | R93: No | S93: HDMI 2.1 | T93: 0 | U93: 2 | V93: 0 | W93: 109 | Y93: Level 6 | Z93: 8 | AA93: No | AB93: =IF(ISNUMBER(E93),IF(I93>0,IF(AA93="No",E93+(I93*$B$3),E93+(I93*$B$4)),""),"") -> 1210 | AC93: =IF(I93>0,(I93-1)*$B$2,"") -> 12 | AD93: =IF(ISNUMBER(E93),IF(I93>0,AB93/AC93,""),"") -> 100.83333 | AE93: =IF(I93>2,(I93-2)*$B$2,"") | AF93: =IF(AND(ISNUMBER(E93),I93>2),AB93/AE93,"")
B94: QNAP | C94: TS-h265 | D94: Announced | F94: 2 year | G94: QTS | H94: Yes | I94: 2 | J94: 0 | K94: Intel N150 4C/4T | L94: 8 GB (1x8 GB) | M94: 16 GB (1x16 GB) | N94: No | O94: DDR5-4800 SODIMM | P94: 1 Gen 3 x2 | Q94: 2 Gen 3 x1 | R94: No | S94: 2x HDMI 2.2 | T94: 0 | U94: 2 | V94: 0 | W94: 109 | Y94: Probable Level 6 | Z94: 2 | AA94: No | AC94: =IF(I94>0,(I94-1)*$B$2,"") -> 12 | AE94: =IF(I94>2,(I94-2)*$B$2,"")
B95: QNAP | C95: TS-h465 | D95: Announced | F95: 2 year | G95: QTS | H95: Yes | I95: 4 | J95: 0 | K95: Intel N150 4C/4T | L95: 8 GB (1x8 GB) | M95: 16 GB (1x16 GB) | N95: No | O95: DDR5-4800 SODIMM | P95: 1 Gen 3 x2 | Q95: 2 Gen 3 x1 | R95: No | S95: 2x HDMI 2.2 | T95: 0 | U95: 2 | V95: 0 | W95: 109 | Y95: Probable Level 6 | Z95: 2 | AA95: No | AC95: =IF(I95>0,(I95-1)*$B$2,"") -> 36 | AE95: =IF(I95>2,(I95-2)*$B$2,"") -> 24
B96: QNAP | C96: TS-453E-8G-US | D96: Available | E96: 729 | F96: 2 year | G96: QTS | H96: Yes | I96: 4 | J96: 0 | K96: Intel Celeron J6412 4C/4T | L96: 8 GB (onboard) | M96: 8 GB | N96: No | O96: DDR4-3200 SODIMM | P96: No | Q96: 2 Gen 3 x2 | R96: No | S96: HDMI 1.4b | T96: 0 | U96: 2 | V96: 0 | W96: 0 | Y96: Level 6 | Z96: 8 | AA96: No | AB96: =IF(ISNUMBER(E96),IF(I96>0,IF(AA96="No",E96+(I96*$B$3),E96+(I96*$B$4)),""),"") -> 2169 | AC96: =IF(I96>0,(I96-1)*$B$2,"") -> 36 | AD96: =IF(ISNUMBER(E96),IF(I96>0,AB96/AC96,""),"") -> 60.25 | AE96: =IF(I96>2,(I96-2)*$B$2,"") -> 24 | AF96: =IF(AND(ISNUMBER(E96),I96>2),AB96/AE96,"") -> 90.375
B97: QNAP | C97: TS-462A-4G-US | D97: Available | E97: 529 | F97: 2 year | G97: QTS | H97: No | I97: 4 | J97: 0 | K97: Intel Celeron N5095 4C/4T | L97: 4 GB (1x4 GB) | M97: 16 GB (2x8 GB) | N97: No | O97: DDR4-2933 SODIMM | P97: No | Q97: 2 Gen 3 x1 | R97: No | S97: No | T97: 0 | U97: 1 | V97: 0 | W97: 0 | Y97: Level 6 | Z97: 8 | AA97: No | AB97: =IF(ISNUMBER(E97),IF(I97>0,IF(AA97="No",E97+(I97*$B$3),E97+(I97*$B$4)),""),"") -> 1969 | AC97: =IF(I97>0,(I97-1)*$B$2,"") -> 36 | AD97: =IF(ISNUMBER(E97),IF(I97>0,AB97/AC97,""),"") -> 54.694444 | AE97: =IF(I97>2,(I97-2)*$B$2,"") -> 24 | AF97: =IF(AND(ISNUMBER(E97),I97>2),AB97/AE97,"") -> 82.041667
B98: QNAP | C98: TS-464-8G-US | D98: Available | E98: 639 | F98: 2 year | G98: QTS | H98: Yes | I98: 4 | J98: 0 | K98: Intel Celeron N5095 4C/4T | L98: 4 GB (1x4 GB) | M98: 16 GB (2x8 GB) | N98: No | O98: DDR4-2933 SODIMM | P98: 1 Gen 3 x2 | Q98: 2 Gen 3 x1 | R98: No | S98: HDMI 2.1 | T98: 0 | U98: 2 | V98: 0 | W98: 109 | Y98: Level 6 | Z98: 8 | AA98: No | AB98: =IF(ISNUMBER(E98),IF(I98>0,IF(AA98="No",E98+(I98*$B$3),E98+(I98*$B$4)),""),"") -> 2079 | AC98: =IF(I98>0,(I98-1)*$B$2,"") -> 36 | AD98: =IF(ISNUMBER(E98),IF(I98>0,AB98/AC98,""),"") -> 57.75 | AE98: =IF(I98>2,(I98-2)*$B$2,"") -> 24 | AF98: =IF(AND(ISNUMBER(E98),I98>2),AB98/AE98,"") -> 86.625
B99: QNAP | C99: TS-473A-8G-US | D99: Available | E99: 879 | F99: 2 year | G99: QTS/QuTS (req 16GB) | H99: No | I99: 4 | J99: 0 | K99: AMD V1500B 4C/8T | L99: 8 GB (1x8 GB) | M99: 64 GB (2x32 GB) | N99: Opt | O99: DDR4-2666 SODIMM | P99: 2 Gen 3 x4 | Q99: 2 Gen 3 x1 | R99: No | S99: No | T99: 0 | U99: 2 | V99: 0 | W99: 109 | Y99: Optional PCIe dGPU | Z99: 2 | AA99: No | AB99: =IF(ISNUMBER(E99),IF(I99>0,IF(AA99="No",E99+(I99*$B$3),E99+(I99*$B$4)),""),"") -> 2319 | AC99: =IF(I99>0,(I99-1)*$B$2,"") -> 36 | AD99: =IF(ISNUMBER(E99),IF(I99>0,AB99/AC99,""),"") -> 64.416667 | AE99: =IF(I99>2,(I99-2)*$B$2,"") -> 24 | AF99: =IF(AND(ISNUMBER(E99),I99>2),AB99/AE99,"") -> 96.625
B100: QNAP | C100: TS-467X | D100: Announced | F100: 2 year | G100: QTS/QuTS (req 16GB) | H100: No | I100: 4 | J100: 0 | K100: AMD V1500B 4C/8T | L100: 8 GB (1x8 GB) | M100: 64 GB (2x32 GB) | N100: Opt | O100: DDR4-2666 SODIMM | P100: 1 Gen 3 | Q100: 2 Gen 3 x4 | R100: No | T100: 0 | U100: 0 | V100: 0 | W100: 2 | Z100: 2 | AC100: =IF(I100>0,(I100-1)*$B$2,"") -> 36 | AE100: =IF(I100>2,(I100-2)*$B$2,"") -> 24
B101: QNAP | C101: TS-667X | D101: Announced | F101: 2 year | G101: QTS/QuTS (req 16GB) | H101: No | I101: 6 | J101: 0 | K101: AMD V1500B 4C/8T | L101: 8 GB (1x8 GB) | M101: 64 GB (2x32 GB) | N101: Opt | O101: DDR4-2666 SODIMM | P101: 1 Gen 3 | Q101: 2 Gen 3 x4 | R101: No | T101: 0 | U101: 0 | V101: 0 | W101: 2 | Z101: 2 | AC101: =IF(I101>0,(I101-1)*$B$2,"") -> 60 | AE101: =IF(I101>2,(I101-2)*$B$2,"") -> 48
B102: QNAP | C102: TS-867X | D102: Announced | F102: 2 year | G102: QTS/QuTS (req 16GB) | H102: No | I102: 8 | J102: 0 | K102: AMD V1500B 4C/8T | L102: 8 GB (1x8 GB) | M102: 64 GB (2x32 GB) | N102: Opt | O102: DDR4-2666 SODIMM | P102: 1 Gen 3 | Q102: 2 Gen 3 x4 | R102: No | T102: 0 | U102: 0 | V102: 0 | W102: 2 | Z102: 2 | AC102: =IF(I102>0,(I102-1)*$B$2,"") -> 84 | AE102: =IF(I102>2,(I102-2)*$B$2,"") -> 72
...

Sheet Feature Comparison
B1: Category | C1: Feature | D1: Asustor ADM | E1: QNAP QTS | F1: QNAP QuTS Hero | G1: Synology DSM x86 | H1: TerraMaster TOS | I1: WD My Cloud OS
B2: File Systems and Caching | C2: File System(s) Supported | D2: EXT4 or fault-tolerant BTRFS | E2: EXT4 | F2: Fault-tolerant ZFS | G2: EXT4 or fault-tolerant BTRFS | H2: EXT4 or fault-tolerant BTRFS | I2: EXT4
C3: SSD Caching | D3: Read/Write | E3: Read/Write | F3: Read Only for data (but can be used for ZFS L2ARC) | G3: Read/Write | H3: Read/Write | I3: No
C4: SSD Auto Storage Tiering | D4: No | E4: Yes, Qtier | F4: No | G4: No | H4: No | I4: No
C5: NVMe Storage Pool Support | D5: Yes | E5: Yes | F5: Yes | G5: Only on DS1823xs+, DS923+, DS723+, DS423+, DS1522+, DS1821+, DS1621xs+, DS1621+ | H5: Yes | I5: N/A
B6: Surveillance | C6: Surveillance System | D6: Yes, Asustor Surveillance Center on 5400 or above models only | E6: Yes, QNAP Surveillance Station or QVR Pro (different licensing models, licenses do not transfer between the two) | F6: Yes, QNAP Surveillance Station or QVR Pro (different licensing models, licenses do not transfer between the two) | G6: Yes, Synology Surveillance Station | H6: No | I6: No
C7: Surveillance camera license cost after built-in licenses are consumed | D7: $45 / 4 for $170 | E7: QVR Pro $69 | F7: QVR Pro $69 | G7: $59 / 4 for $209 | H7: N/A | I7: N/A
C8: Surveillance camera licenses are transferable to a new model NAS from the same vendor (not including built-in licenses) | D8: Yes | E8: Yes, but they must be registered to a QNAP ID to become transferable and may only be transferred to devices registered to the same QNAP ID account | F8: Yes, but they must be registered to a QNAP ID to become transferable and may only be transferred to devices registered to the same QNAP ID account | G8: Yes | H8: N/A | I8: N/A
B9: Backup | C9: File-level client PC backup | D9: Yes, Asustor Backup Plan | E9: Yes, QNAP Qsync | F9: Yes, QNAP Qsync | G9: Yes, Synology Drive | H9: Yes, TerraMaster Centralized Backup | I9: Available free license for Acronis True Image
C10: Block-level client PC disaster recovery backup | D10: No | E10: No | F10: No | G10: Yes, Synology Active Backup for Business (4GB+ RAM required) | H10: Yes, TerraMaster Centralized Backup | I10: Available free license for Acronis True Image
C11: Office 365 Backup | D11: No | E11: Yes, QNAP Boxafe | F11: Yes, QNAP Boxafe | G11: Yes, Synology Active Backup for Office 365 | H11: No | I11: No
C12: Google Workspace / G-Suite Backup | D12: No | E12: Yes, QNAP Boxafe | F12: Yes, QNAP Boxafe | G12: Yes, Synology Active Backup for Google Workspace | H12: No | I12: No
C13: Hyper-V/VMWare Backup | D13: No (third-party apps available in app store) | E13: Yes, QNAP Hyper Data Protector | F13: Yes, QNAP Hyper Data Protector | G13: Yes, Synology Active Backup for Business (4GB+ RAM required) | H13: Yes, TerraMaster Centralized Backup | I13: No
B14: Docker & VM | C14: Docker Support | D14: Yes | E14: Yes | F14: Yes | G14: Yes | H14: Yes | I14: No
C15: Virtual Machine Support | D15: Yes, using third-party app Virtualbox | E15: Yes | F15: Yes | G15: Yes | H15: Yes | I15: No
B16: Networking | C16: SMB Multichannel Support | D16: Yes | E16: Yes | F16: Yes | G16: Yes | H16: Not available via the GUI but unsupported parameters available in SMB advanced settings | I16: No
C17: Microsoft Active Directory support | D17: Yes, member | E17: Yes, domain controller or member | F17: Yes, domain controller or member | G17: Yes, domain controller or member | H17: Yes, member | I17: No
B18: Miscellaneous | C18: Standard BIOS allows installing alternative OS (note that support for fan speed control, and for front-panel displays, when applicable, is not available) | D18: Yes | E18: Yes | F18: Yes | G18: No | H18: Yes | I18: No
C19: GPU Support in PCIe slot (when equipped) including VM pass-through and transcoding | D19: No | E19: Yes | F19: Yes | G19: No | H19: No | I19: No

Sheet Notes
B2: IMPORTANT NOTES
B4: Current Models: Models which are listed as current on the manufacturer's web site, but are listed by US retailers as discontinued, are not included.
B6: Expansion Enclosures: Expansion enclosure capability is not addressed, because A) most people don't use expansions, and B) most expansions are 6Gbps SATA which is not 10GbE capable
B8: Synology Drive Requirements: Synology models which are listed as not requiring first-party HAT5300 3.5" HDDs may still only certify those drives in certain capacities, e.g. 18 TB. But the Plus models at 8 bays or less currently do not disable features with non-certified drives so they should work fine. However, if you are an SMB and want to stick to certified drives, check the compatiblity list for the particular model and either decrease the capacity of your desired third-party drive to one that is on the list, or use the higher-priced HAT5300.
B10: 18 TB Max on Synology: Related to the note above, the largest capacity currently certified by Synology across all models is 18 TB
B12: Client Backup: Synology's "killer feature" is Active Backup for Business, which does disaster-recovery block-level backup and restore of clients and servers. If you need this kind of feature on QNAP you'll need to factor in a license for Macrium or Veeam since QNAP only backs up files, it does not do block-level images of drives.

Sheet Raw data for WordPress
A1: ='Hardware Comparison'!B6 -> Make | B1: ='Hardware Comparison'!C6 -> Model | C1: ='Hardware Comparison'!D6 -> Availability | D1: ='Hardware Comparison'!E6 -> MSRP | E1: ='Hardware Comparison'!F6 -> Warranty | F1: ='Hardware Comparison'!G6 -> OS | G1: ='Hardware Comparison'!H6 -> Third-Party OS | H1: ='Hardware Comparison'!I6 -> 3.5 Bays | ... Z1: ='Hardware Comparison'!AA6 -> First-Party Drives Required?
A2: 45Homelab | B2: HL4 (5500GT) | C2: Available | D2: 1599 | E2: 1 year | F2: Rocky Linux/DIY | G2: Yes | H2: 4 | I2: 0 | J2: AMD Ryzen 5500GT 6C/12T | K2: 16 GB (2x8 GB) | L2: 64 GB (2x32 GB) | M2: No | N2: DDR4-3200 DIMM | O2: 1 Gen 4 x16 | P2: 2 | Q2: No | R2: HDMI + DP | S2: 0 | T2: 1 | U2: 0 | V2: 0 | X2: Optional PCIe dGPU | Y2: N/A | Z2: No
A3: 45Homelab | B3: HL4 (5700G) | C3: Available | D3: 1725 | E3: 1 year | F3: Rocky Linux/DIY | G3: Yes | H3: 4 | I3: 0 | J3: AMD Ryzen 5700G 8C/16T | K3: 16 GB (2x8 GB) | L3: 64 GB (2x32 GB) | M3: No | N3: DDR4-3200 DIMM | O3: 1 Gen 4 x16 | P3: 2 | Q3: No | R3: HDMI + DP | S3: 0 | T3: 1 | U3: 0 | V3: 0 | X3: Optional PCIe dGPU | Y3: N/A | Z3: No
A4: 45Homelab | B4: HL8 (5500GT) | C4: Available | D4: 1677 | E4: 1 year | F4: Rocky Linux/DIY | G4: Yes | H4: 8 | I4: 0 | J4: AMD Ryzen 5500GT 6C/12T | K4: 16 GB (2x8 GB) | L4: 64 GB (2x32 GB) | M4: No | N4: DDR4-3200 DIMM | O4: 1 Gen 4 x16 | P4: 2 | Q4: No | R4: HDMI + DP | S4: 0 | T4: 1 | U4: 0 | V4: 0 | X4: Optional PCIe dGPU | Y4: N/A | Z4: No
A5: 45Homelab | B5: HL8 (5700G) | C5: Available | D5: 1803 | E5: 1 year | F5: Rocky Linux/DIY | G5: Yes | H5: 8 | I5: 0 | J5: AMD Ryzen 5700G 8C/16T | K5: 16 GB (2x8 GB) | L5: 64 GB (2x32 GB) | M5: No | N5: DDR4-3200 DIMM | O5: 1 Gen 4 x16 | P5: 2 | Q5: No | R5: HDMI + DP | S5: 0 | T5: 1 | U5: 0 | V5: 0 | X5: Optional PCIe dGPU | Y5: N/A | Z5: No
A6: 45Homelab | B6: HL15 2.0 (EPYC 7252) | C6: Available | D6: 2920 | E6: 1 year | F6: Rocky Linux/DIY | G6: Yes | H6: 15 | I6: 0 | J6: AMD EPYC 7252 8C/16T | K6: 16 GB (2x8 GB) | L6: 512 GB (8x64 GB) | M6: Yes | N6: DDR4-3200 RDIMM | O6: 7 PCIe Gen 4 x16 | P6: 2 Gen4 x4 | Q6: No | R6: VGA BMC | S6: 0 | T6: 0 | U6: 0 | V6: 2 | X6: Optional PCIe dGPU | Y6: N/A | Z6: No
A7: 45Homelab | B7: HL15 2.0 (EPYC 7272) | C7: Available | D7: 3294 | E7: 1 year | F7: Rocky Linux/DIY | G7: Yes | H7: 15 | I7: 0 | J7: AMD EPYC 7272 12C/24T | K7: 16 GB (2x8 GB) | L7: 512 GB (8x64 GB) | M7: Yes | N7: DDR4-3200 RDIMM | O7: 7 PCIe Gen 4 x16 | P7: 2 Gen4 x4 | Q7: No | R7: VGA BMC | S7: 0 | T7: 0 | U7: 0 | V7: 2 | X7: Optional PCIe dGPU | Y7: N/A | Z7: No
A8: 45Homelab | B8: HL15 2.0 (EPYC 7282) | C8: Available | D8: 3355 | E8: 1 year | F8: Rocky Linux/DIY | G8: Yes | H8: 15 | I8: 0 | J8: AMD EPYC 7282 16C/32T | K8: 16 GB (2x8 GB) | L8: 512 GB (8x64 GB) | M8: Yes | N8: DDR4-3200 RDIMM | O8: 7 PCIe Gen 4 x16 | P8: 2 Gen4 x4 | Q8: No | R8: VGA BMC | S8: 0 | T8: 0 | U8: 0 | V8: 2 | X8: Optional PCIe dGPU | Y8: N/A | Z8: No
A9: 45Homelab | B9: HL15 2.0 (EPYC 7452) | C9: Available | D9: 3591 | E9: 1 year | F9: Rocky Linux/DIY | G9: Yes | H9: 15 | I9: 0 | J9: AMD EPYC 7452 32C/64T | K9: 16 GB (2x8 GB) | L9: 512 GB (8x64 GB) | M9: Yes | N9: DDR4-3200 RDIMM | O9: 7 PCIe Gen 4 x16 | P9: 2 Gen4 x4 | Q9: No | R9: VGA BMC | S9: 0 | T9: 0 | U9: 0 | V9: 2 | X9: Optional PCIe dGPU | Y9: N/A | Z9: No
A10: 45Homelab | B10: HL15 Beast (ASROCK EPYC 7252) | C10: Available | D10: 3419 | E10: 1 year | F10: Rocky Linux/DIY | G10: Yes | H10: 23 | I10: 0 | J10: AMD EPYC 7252 8C/16T | K10: 16 GB (2x8 GB) | L10: 1024 GB (8x128 GB) | M10: Yes | N10: DDR4-3200 RDIMM | O10: 7 PCIe Gen 4 x16 | P10: 2 Gen4 x4 | Q10: No | R10: VGA BMC | S10: 0 | T10: 0 | U10: 0 | V10: 2 | X10: Optional PCIe dGPU | Y10: N/A | Z10: No
A11: 45Homelab | B11: HL15 Beast (ASROCK EPYC 7272) | C11: Available | D11: 3793 | E11: 1 year | F11: Rocky Linux/DIY | G11: Yes | H11: 23 | I11: 0 | J11: AMD EPYC 7272 12C/24T | K11: 16 GB (2x8 GB) | L11: 1024 GB (8x128 GB) | M11: Yes | N11: DDR4-3200 RDIMM | O11: 7 PCIe Gen 4 x16 | P11: 2 Gen4 x4 | Q11: No | R11: VGA BMC | S11: 0 | T11: 0 | U11: 0 | V11: 2 | X11: Optional PCIe dGPU | Y11: N/A | Z11: No
A12: 45Homelab | B12: HL15 Beast (ASROCK EPYC 7282) | C12: Available | D12: 3854 | E12: 1 year | F12: Rocky Linux/DIY | G12: Yes | H12: 23 | I12: 0 | J12: AMD EPYC 7282 16C/32T | K12: 16 GB (2x8 GB) | L12: 1024 GB (8x128 GB) | M12: Yes | N12: DDR4-3200 RDIMM | O12: 7 PCIe Gen 4 x16 | P12: 2 Gen4 x4 | Q12: No | R12: VGA BMC | S12: 0 | T12: 0 | U12: 0 | V12: 2 | X12: Optional PCIe dGPU | Y12: N/A | Z12: No
A13: 45Homelab | B13: HL15 Beast (ASROCK EPYC 7452) | C13: Available | D13: 4090 | E13: 1 year | F13: Rocky Linux/DIY | G13: Yes | H13: 23 | I13: 0 | J13: AMD EPYC 7452 32C/64T | K13: 16 GB (2x8 GB) | L13: 1024 GB (8x128 GB) | M13: Yes | N13: DDR4-3200 RDIMM | O13: 7 PCIe Gen 4 x16 | P13: 2 Gen4 x4 | Q13: No | R13: VGA BMC | S13: 0 | T13: 0 | U13: 0 | V13: 2 | X13: Optional PCIe dGPU | Y13: N/A | Z13: No
A14: 45Homelab | B14: HL15 Beast (ProArt) | C14: Available | D14: 3726 | E14: 1 year | F14: Rocky Linux/DIY | G14: Yes | H14: 23 | I14: 0 | J14: AMD AMD Ryzen 9 7950X | K14: 32 GB (2x16 GB) | L14: 128 GB (4x32 GB) | M14: No | N14: DDR5-5200 DIMM | O14: 1 Gen 5 x16 (or 2 x8) | P14: 2 Gen 5 x4 + 2 Gen 4 x4 | Q14: 2 USB4/TB3 | R14: HDMI + 2x USB4 DP | S14: 0 | T14: 1 | U14: 0 | V14: 1 | X14: Optional PCIe dGPU | Y14: N/A | Z14: No
A15: Acemagic | B15: N3A-R2544 | C15: Sold out | D15: 339 | E15: 2 year | F15: DIY | G15: Yes | H15: 4 | I15: 0 | J15: AMD AMD Ryzen Embedded R2544 4C/8T | K15: None (Barebones) | L15: 64GB (3x32 GB) | M15: No | N15: DDR4-3200 SODIMM | O15: No | P15: 2x Gen 3 x2 | Q15: No | R15: HDMI + DP | S15: 1 | T15: 1 | U15: 0 | V15: 0 | X15: Possible, unsupported | Y15: N/A | Z15: No
A16: Acemagic | B16: N3A-3750H | C16: Announced | E16: 2 year | F16: DIY | G16: Yes | H16: 4 | I16: 0 | J16: AMD AMD Ryzen 7 3750H 4C/8T | K16: None (Barebones) | L16: 64GB (3x32 GB) | M16: No | N16: DDR4-2400 SODIMM | O16: No | P16: 2 | Q16: No | R16: HDMI | S16: 1 | T16: 0 | U16: 0 | V16: 0 | X16: Possible, unsupported | Y16: N/A | Z16: No
A17: Aoostar | B17: R7 5825U Barebones | C17: Available | D17: 289 | E17: 1 year | F17: DIY | G17: Yes | H17: 2 | I17: 0 | J17: AMD Ryzen 7 5825U 8C/16T | K17: None (Barebones) | L17: 32 GB (1x32 GB) | M17: No | N17: DDR4-3200 SODIMM | O17: No | P17: No | Q17: No | R17: HDMI + DP | S17: 0 | T17: 2 | U17: 0 | V17: 0 | X17: Possible, unsupported | Y17: N/A | Z17: No
A18: Aoostar | B18: WTR PRO 5825U Barebones | C18: Available | D18: 379 | E18: 1 year | F18: DIY | G18: Yes | H18: 4 | I18: 0 | J18: AMD Ryzen 7 5825U 8C/16T | K18: None (Barebones) | L18: 64 GB (2x32 GB) | M18: No | N18: DDR4-3200 SODIMM | O18: No | P18: 2 | Q18: No | R18: HDMI + DP | S18: 0 | T18: 2 | U18: 0 | V18: 0 | X18: Possible, unsupported | Y18: N/A | Z18: No
A19: Aoostar | B19: WTR MAX 8845 | C19: Available | D19: 659 | E19: 1 year | F19: DIY | G19: Yes | H19: 6 | I19: 0 | J19: AMD Ryzen PRO 8845HS 8C/16T | K19: None (Barebones) | L19: 64 GB (2x32 GB) | M19: Yes | N19: DDR5-5600 SODIMM | O19: OCuLink Gen 4 x4 | P19: 3 Gen 4 x2, 2 Gen 4 x1 | Q19: 1 USB4/TB3 | R19: HDMI + DP | S19: 0 | T19: 2 | U19: 0 | V19: 2 | X19: Possible, unsupported | Y19: N/A | Z19: No
A20: Aoostar | B20: WTR MAX 8845-48GB ECC | C20: Available | D20: 1145 | E20: 1 year | F20: DIY | G20: Yes | H20: 6 | I20: 0 | J20: AMD Ryzen PRO 8845HS 8C/16T | K20: 48 GB (2x24 GB) | L20: 64 GB (2x32 GB) | M20: Yes | N20: DDR5-5600 SODIMM | O20: OCuLink Gen 4 x4 | P20: 3 Gen 4 x2, 2 Gen 4 x1 | Q20: 1 USB4/TB3 | R20: HDMI + DP | S20: 0 | T20: 2 | U20: 0 | V20: 2 | X20: Possible, unsupported | Y20: N/A | Z20: No
A21: Aoostar | B21: WTR MAX i5-1235U | C21: Available | D21: 559 | E21: 1 year | F21: DIY | G21: Yes | H21: 6 | I21: 0 | J21: Intel Core i5-1235U 2P+8E | K21: None (Barebones) | L21: 64 GB (2x32 GB) | M21: No | N21: TBD | O21: OCuLink Gen 4 x4 | P21: 3 Gen 4 x2, 2 Gen 4 x1 | Q21: 1 USB4/TB3 | R21: HDMI + DP | S21: 0 | T21: 2 | U21: 0 | V21: 2 | X21: Possible, unsupported | Y21: N/A | Z21: No
A22: Asustor | B22: AS5402T | C22: Available | D22: 407 | E22: 3 year | F22: ADM | G22: Yes | H22: 2 | I22: 0 | J22: Intel Celeron N5105 4C/4T | K22: 4 GB (1x4 GB) | L22: 16 GB (2x8 GB) | M22: No | N22: DDR4-2933 SODIMM | O22: No | P22: 4 Gen 3 x1 | Q22: No | R22: HDMI 2.0b | S22: 0 | T22: 2 | U22: 0 | V22: 0 | X22: Level 6 | Y22: 4 | Z22: No
A23: Asustor | B23: LOCKERSTOR 2 Gen2 AS6702T | C23: Available | D23: 444 | E23: 3 year | F23: ADM | G23: Yes | H23: 2 | I23: 0 | J23: Intel Celeron N5105 4C/4T | K23: 4 GB (1x4 GB) | L23: 8 GB (2x4 GB) | M23: No | N23: DDR4-2933 SODIMM | O23: No | P23: 4 Gen 3 x1 | Q23: No | R23: HDMI 2.0b | S23: 0 | T23: 2 | U23: 0 | V23: 0 | X23: Level 6 | Y23: 4 | Z23: No
A24: Asustor | B24: LOCKERSTOR 2 Gen2+ AS6702T v2 | C24: Available | D24: 517 | E24: 3 year | F24: ADM | G24: Yes | H24: 2 | I24: 0 | J24: Intel Celeron N5105 4C/4T | K24: 4 GB (1x4 GB) | L24: 16 GB (2x8 GB) | M24: No | N24: DDR4-2933 SODIMM | O24: No | P24: 4 Gen 3 x1 | Q24: No | R24: HDMI 2.0b | S24: 0 | T24: 0 | U24: 2 | V24: 0 | X24: Level 6 | Y24: 4 | Z24: No
A25: Asustor | B25: AS5404T | C25: Available | D25: 583 | E25: 3 year | F25: ADM | G25: Yes | H25: 4 | I25: 0 | J25: Intel Celeron N5105 4C/4T | K25: 4 GB (1x4 GB) | L25: 16 GB (2x8 GB) | M25: No | N25: DDR4-2933 SODIMM | O25: No | P25: 4 Gen 3 x1 | Q25: No | R25: HDMI 2.0b | S25: 0 | T25: 2 | U25: 0 | V25: 0 | X25: Level 6 | Y25: 4 | Z25: No
A26: Asustor | B26: LOCKERSTOR 4 Gen2 AS6704T | C26: Available | D26: 649 | E26: 3 year | F26: ADM | G26: Yes | H26: 4 | I26: 0 | J26: Intel Celeron N5105 4C/4T | K26: 4 GB (1x4 GB) | L26: 8 GB (2x4 GB) | M26: No | N26: DDR4-2933 SODIMM | O26: No | P26: 4 Gen 3 x1 | Q26: No | R26: HDMI 2.0b | S26: 0 | T26: 2 | U26: 0 | V26: 0 | X26: Level 6 | Y26: 4 | Z26: No
A27: Asustor | B27: LOCKERSTOR 4 Gen2+ AS6704T v2 | C27: Available | D27: 682 | E27: 3 year | F27: ADM | G27: Yes | H27: 4 | I27: 0 | J27: Intel Celeron N5105 4C/4T | K27: 4 GB (1x4 GB) | L27: 16 GB (2x8 GB) | M27: No | N27: DDR4-2933 SODIMM | O27: No | P27: 4 Gen 3 x1 | Q27: No | R27: HDMI 2.0b | S27: 0 | T27: 0 | U27: 2 | V27: 0 | X27: Level 6 | Y27: 4 | Z27: No
A28: Asustor | B28: LOCKERSTOR 4 Gen3 AS6804T | C28: Available | D28: 1320 | E28: 3 year | F28: ADM | G28: No | H28: 4 | I28: 0 | J28: AMD V3C14 4C/8T | K28: 16 GB (1x16 GB) | L28: 64 GB (2x32 GB) | M28: Yes | N28: DDR5-4800 SODIMM | O28: 1 Gen 4 x4 | P28: 4 Gen 4 x1 | Q28: 2 USB4/TB3 | R28: No | S28: 0 | T28: 2 | U28: 0 | V28: 2 | X28: No | Y28: 4 | Z28: No
A29: Asustor | B29: LOCKERSTOR 6 Gen2+ AS6706T v2 | C29: Available | D29: 902 | E29: 3 year | F29: ADM | G29: Yes | H29: 6 | I29: 0 | J29: Intel Celeron N5105 4C/4T | K29: 4 GB (1x4 GB) | L29: 8 GB (2x4 GB) | M29: No | N29: DDR4-2933 SODIMM | O29: No | P29: 4 Gen 3 x1 | Q29: No | R29: HDMI 2.0b | S29: 0 | T29: 0 | U29: 2 | V29: 0 | X29: Level 6 | Y29: 4 | Z29: No
A30: Asustor | B30: LOCKERSTOR 6 Gen3 AS6806T | C30: Available | D30: 1540 | E30: 3 year | F30: ADM | G30: No | H30: 6 | I30: 0 | J30: AMD V3C14 4C/8T | K30: 16 GB (1x16 GB) | L30: 64 GB (2x32 GB) | M30: Yes | N30: DDR5-4800 SODIMM | O30: 1 Gen 4 x4 | P30: 4 Gen 4 x1 | Q30: 2 USB4/TB3 | R30: No | S30: 0 | T30: 2 | U30: 0 | V30: 2 | X30: No | Y30: 4 | Z30: No
A31: Asustor | B31: LOCKERSTOR 8 AS6508T | C31: Available | D31: 984 | E31: 3 year | F31: ADM | G31: No | H31: 8 | I31: 0 | J31: Intel Atom C3538 4C/4T | K31: 8 GB (1x8 GB) | L31: 64 GB (2x32 GB) | M31: No | N31: DDR4-2133 SODIMM | O31: No | P31: 4 Gen 3 x1 | Q31: No | R31: No | S31: 0 | T31: 2 | U31: 0 | V31: 2 | X31: No | Y31: 4 | Z31: No
A32: Asustor | B32: LOCKERSTOR 8 Gen3 AS6808T | C32: Available | D32: 1760 | E32: 3 year | F32: ADM | G32: No | H32: 8 | I32: 0 | J32: AMD V3C14 4C/8T | K32: 16 GB (1x16 GB) | L32: 64 GB (2x32 GB) | M32: Yes | N32: DDR5-4800 SODIMM | O32: 1 Gen 4 x4 | P32: 4 Gen 4 x1 | Q32: 2 USB4/TB3 | R32: No | S32: 0 | T32: 2 | U32: 0 | V32: 2 | X32: No | Y32: 4 | Z32: No
A33: Asustor | B33: LOCKERSTOR AS6510T | C33: Available | D33: 1342 | E33: 3 year | F33: ADM | G33: No | H33: 10 | I33: 0 | J33: Intel Atom C3538 4C/4T | K33: 8 GB (1x8 GB) | L33: 64 GB (2x32 GB) | M33: No | N33: DDR4-2133 SODIMM | O33: No | P33: 4 Gen 3 x1 | Q33: No | R33: No | S33: 0 | T33: 2 | U33: 0 | V33: 2 | X33: No | Y33: 4 | Z33: No
... A35: Asustor | B35: LOCKERSTOR 10 Pro AS7110T | C35: Available | D35: 2400 | E35: 5 year | F35: ADM | G35: No | H35: 10 | I35: 0 | J35: Intel Xeon E-2224 4C/4T | K35: 8 GB (1x8 GB) | L35: 64 GB (2x32 GB) | M35: Yes | N35: DDR4-3200 SODIMM | O35: No | P35: 2 Gen 3 x4 | Q35: No | R35: No | S35: 0 | T35: 3 | U35: 0 | V35: 1 | X35: No | Y35: 4 | Z35: No
A36: Beelink | B36: ME Pro J5005 2-Bay | C36: Announced | D36: 299 | E36: 1 year | F36: Win11 Home/DIY | G36: Yes | H36: 2 | I36: 0 | J36: Intel Pentium Silver J5005 4C/4T | K36: 8 GB (2x4 GB) | L36: 8 GB (2x4 GB) | M36: No | N36: DDR4-2400 SODIMM | O36: No | P36: 2 | Q36: No | R36: HDMI | S36: 0 | T36: 1 | U36: 0 | V36: 0 | X36: Level 6 | Y36: N/A | Z36: No
A37: Beelink | B37: ME Pro N95 2-Bay | C37: Available | D37: 379 | E37: 1 year | F37: Win11 Home/DIY | G37: Yes | H37: 2 | I37: 0 | J37: Intel N95 4C/4T | K37: 16 GB (onboard) | L37: 16 GB (onboard) | M37: No | N37: Onboard LPDDR5-4800 | O37: No | P37: 1 Gen 3 x2; 1 Gen 3 x1 | Q37: No | R37: HDMI | S37: 0 | T37: 1 | U37: 1 | V37: 0 | X37: Probable Level 6 | Y37: N/A | Z37: No
A38: Beelink | B38: ME Pro N150 2-Bay | C38: Available | D38: 509 | E38: 1 year | F38: Win11 Home/DIY | G38: Yes | H38: 2 | I38: 0 | J38: Intel N150 4C/4T | K38: 16 GB (onboard) | L38: 16 GB (onboard) | M38: No | N38: Onboard LPDDR5-4800 | O38: No | P38: 1 Gen 3 x2; 1 Gen 3 x1 | Q38: No | R38: HDMI | S38: 0 | T38: 1 | U38: 1 | V38: 0 | X38: Probable Level 6 | Y38: N/A | Z38: No
A39: Beelink | B39: ME Pro 304 2-Bay | C39: Available | D39: 609 | E39: 1 year | F39: Win11 Home/DIY | G39: Yes | H39: 2 | I39: 0 | J39: Intel Core 3 304 1P+4LPE 5T | K39: 16 GB (1x16 GB) | L39: 64 GB (2x32 GB) | M39: No | N39: DDR5-6400 SODIMM | O39: No | P39: 1x Gen 4 | Q39: 2 USB4/TB3 | R39: HDMI | S39: 0 | T39: 1 | U39: 0 | V39: 1 | X39: Probable Level 6 | Y39: N/A | Z39: No
A40: Beelink | B40: ME Pro 13500H 2-Bay | C40: Announced | D40: 739 | E40: 1 year | F40: Win11 Home/DIY | G40: Yes | H40: 2 | I40: 0 | J40: Intel Core i5-13500H 2P+8E/12T | K40: 32 GB (2x16 GB) | L40: 96 GB (2x48 GB) | M40: No | N40: DDR4-3200 SODIMM | O40: No | P40: 2 | Q40: 1 USB4/TB3 | R40: HDMI | S40: 0 | T40: 1 | U40: 0 | V40: 1 | X40: Level 6 | Y40: N/A | Z40: No
A41: Beelink | B41: ME Pro AI 350 2-Bay | C41: Announced | D41: 949 | E41: 1 year | F41: Win11 Home/DIY | G41: Yes | H41: 2 | I41: 0 | J41: AMD Ryzen AI 9 HX 350 8C/16T | K41: 32 GB (2x16 GB) | L41: 128 GB (2x64 GB) | M41: No | N41: DDR5-5600 SODIMM | O41: No | P41: 2 | Q41: 1 USB4/TB3 | R41: HDMI | S41: 0 | T41: 1 | U41: 0 | V41: 1 | X41: Probable Level 6 | Y41: N/A | Z41: No
A42: Beelink | B42: ME Pro AI 470 2-Bay | C42: Announced | D42: 1279 | E42: 1 year | F42: Win11 Home/DIY | G42: Yes | H42: 2 | I42: 0 | J42: AMD Ryzen AI 9 HX 470 12C/24T | K42: 32 GB (2x16 GB) | L42: 128 GB (2x64 GB) | M42: No | N42: DDR5-5600 SODIMM | O42: No | P42: 2 | Q42: 1 USB4/TB3 | R42: HDMI | S42: 0 | T42: 1 | U42: 0 | V42: 1 | X42: Probable Level 6 | Y42: N/A | Z42: No
A43: Beelink | B43: ME Pro J5005 4-Bay | C43: Announced | D43: 369 | E43: 1 year | F43: Win11 Home/DIY | G43: Yes | H43: 4 | I43: 0 | J43: Intel Pentium Silver J5005 4C/4T | K43: 8 GB (2x4 GB) | L43: 8 GB (2x4 GB) | M43: No | N43: DDR4-2400 SODIMM | O43: No | P43: 2 | Q43: No | R43: HDMI | S43: 0 | T43: 1 | U43: 0 | V43: 0 | X43: Level 6 | Y43: N/A | Z43: No
A44: Beelink | B44: ME Pro N95 4-Bay | C44: Announced | D44: 489 | E44: 1 year | F44: Win11 Home/DIY | G44: Yes | H44: 4 | I44: 0 | J44: Intel N95 4C/4T | K44: 16 GB (onboard) | L44: 16 GB (onboard) | M44: No | N44: Onboard LPDDR5-4800 | O44: No | P44: 1 Gen 3 x2; 1 Gen 3 x1 | Q44: No | R44: HDMI | S44: 0 | T44: 1 | U44: 1 | V44: 0 | X44: Probable Level 6 | Y44: N/A | Z44: No
A45: Beelink | B45: ME Pro N150 4-Bay | C45: Announced | D45: 539 | E45: 1 year | F45: Win11 Home/DIY | G45: Yes | H45: 4 | I45: 0 | J45: Intel N150 4C/4T | K45: 16 GB (onboard) | L45: 16 GB (onboard) | M45: No | N45: Onboard LPDDR5-4800 | O45: No | P45: 1 Gen 3 x2; 1 Gen 3 x1 | Q45: No | R45: HDMI | S45: 0 | T45: 1 | U45: 1 | V45: 0 | X45: Probable Level 6 | Y45: N/A | Z45: No
A46: Beelink | B46: ME Pro 304 4-Bay | C46: Announced | D46: 769 | E46: 1 year | F46: Win11 Home/DIY | G46: Yes | H46: 4 | I46: 0 | J46: Intel Core 3 304 1P+4LPE 5T | K46: 16 GB (1x16 GB) | L46: 64 GB (2x32 GB) | M46: No | N46: DDR5-6400 SODIMM | O46: No | P46: 1x Gen 4 | Q46: 2 USB4/TB3 | R46: HDMI | S46: 0 | T46: 1 | U46: 0 | V46: 1 | X46: Probable Level 6 | Y46: N/A | Z46: No
A47: Beelink | B47: ME Pro 13500H 4-Bay | C47: Announced | D47: 819 | E47: 1 year | F47: Win11 Home/DIY | G47: Yes | H47: 4 | I47: 0 | J47: Intel Core i5-13500H 2P+8E/12T | K47: 32 GB (2x16 GB) | L47: 96 GB (2x48 GB) | M47: No | N47: DDR4-3200 SODIMM | O47: No | P47: 2 | Q47: 1 USB4/TB3 | R47: HDMI | S47: 0 | T47: 1 | U47: 0 | V47: 1 | X47: Level 6 | Y47: N/A | Z47: No
A48: Beelink | B48: ME Pro AI 350 4-Bay | C48: Announced | D48: 1049 | E48: 1 year | F48: Win11 Home/DIY | G48: Yes | H48: 4 | I48: 0 | J48: AMD Ryzen AI 9 HX 350 8C/16T | K48: 32 GB (2x16 GB) | L48: 128 GB (2x64 GB) | M48: No | N48: DDR5-5600 SODIMM | O48: No | P48: 2 | Q48: 1 USB4/TB3 | R48: HDMI | S48: 0 | T48: 1 | U48: 0 | V48: 1 | X48: Probable Level 6 | Y48: N/A | Z48: No
A49: Beelink | B49: ME Pro AI 470 4-Bay | C49: Announced | D49: 1379 | E49: 1 year | F49: Win11 Home/DIY | G49: Yes | H49: 4 | I49: 0 | J49: AMD Ryzen AI 9 HX 470 12C/24T | K49: 32 GB (2x16 GB) | L49: 128 GB (2x64 GB) | M49: No | N49: DDR5-5600 SODIMM | O49: No | P49: 2 | Q49: 1 USB4/TB3 | R49: HDMI | S49: 0 | T49: 1 | U49: 0 | V49: 1 | X49: Probable Level 6 | Y49: N/A | Z49: No
A50: Harbor Innovations | B50: Nexus AI Station | C50: Available | D50: 899 | E50: 1 year | F50: Harbor OS | G50: Yes | H50: 4 | I50: 0 | J50: AMD Ryzen 7 PRO 8845HS 8C/16T | K50: Barebone | L50: 96 GB (2x48 GB) | M50: Opt | N50: DDR5-5600 SODIMM | O50: 1 Gen 4 x8 | P50: 3 Gen 4 (x1 or x2) | Q50: 1 USB4/TB3 | R50: HDMI 2.0b | S50: 0 | T50: 0 | U50: 0 | V50: 2 | X50: Probable Level 6 | Y50: N/A | Z50: No
A51: Iron Cow (Yxk) | B51: Zero 1 Pro + 64GB SSD | C51: Available | D51: 285 | F51: DIY | G51: Yes | H51: 4 | I51: 0 | J51: Intel N100 4C/4T | K51: 8 GB (1x8 GB) | L51: 32 GB (1x32 GB) | M51: No | N51: DDR5-4800 SODIMM | O51: No | P51: No | Q51: No | R51: No | S51: 0 | T51: 2 | U51: 0 | V51: 0 | X51: Probable Level 6 | Y51: N/A | Z51: No
A52: LincPlus | B52: LincStation N2 | C52: Available | D52: 348 | E52: 2 year | F52: UnRAID | G52: Yes | H52: 2 | I52: 0 | J52: Intel N100 4C/4T | K52: 8 GB (1x8 GB) | L52: 32 GB (1x32 GB) | M52: No | N52: DDR5-4800 SODIMM | O52: No | P52: 4 Gen 3 x1 | Q52: No | R52: HDMI | S52: 0 | T52: 0 | U52: 0 | V52: 1 | X52: Probable Level 4 | Y52: N/A | Z52: No
A53: LincPlus | B53: LincStation S1 | C53: Available | D53: 459 | E53: 2 year | F53: UnRAID | G53: Yes | H53: 4 | I53: 0 | J53: Intel N97 4C/4T | K53: 8 GB (1x8 GB) | L53: 32 GB (1x32 GB) | M53: No | N53: DDR5-4800 SODIMM | O53: No | P53: 2 Gen 3 x1 | Q53: No | R53: HDMI | S53: 0 | T53: 2 | U53: 0 | V53: 0 | X53: Probable Level 4 | Y53: N/A | Z53: No
A54: Minisforum | B54: N4 | C54: Announced | E54: 2 year | F54: MinisCloud/DIY | G54: Yes | H54: 4 | I54: 0 | J54: Intel Core 5 320 2P+4LPE 6T | K54: 16 GB (onboard) | L54: 16 GB (onboard) | M54: No | N54: Onboard LPDDR5X-7467 | O54: No | P54: 2 Gen 4 x1 | Q54: 1 USB4/TB3 | R54: HDMI | S54: 0 | T54: 1 | U54: 0 | V54: 1
A55: Minisforum | B55: N5 Air Barebone + 64GB SSD | C55: Available | D55: 535 | E55: 2 year | F55: MinisCloud/DIY | G55: Yes | H55: 5 | I55: 0 | J55: AMD Ryzen 7 255 8C/16T | K55: Barebone | L55: 96 GB (2x48 GB) | M55: No | N55: DDR5-5600 SODIMM | O55: OCuLink Gen 4 x4 | P55: 1 Gen 4 x2, 2 Gen 4 x1 | Q55: 2 USB4/TB3 | R55: HDMI + Type C DP | S55: 0 | T55: 0 | U55: 1 | V55: 1 | X55: Probable Level 6 | Y55: N/A | Z55: No
A56: Minisforum | B56: N5 Air 16GB + 64GB SSD | C56: Available | D56: 719 | E56: 2 year | F56: MinisCloud/DIY | G56: Yes | H56: 5 | I56: 0 | J56: AMD Ryzen 7 255 8C/16T | K56: 16 GB (2x8 GB) | L56: 96 GB (2x48 GB) | M56: No | N56: DDR5-5600 SODIMM | O56: OCuLink Gen 4 x4 | P56: 1 Gen 4 x2, 2 Gen 4 x1 | Q56: 2 USB4/TB3 | R56: HDMI + Type C DP | S56: 0 | T56: 0 | U56: 1 | V56: 1 | X56: Probable Level 6 | Y56: N/A | Z56: No
A57: Minisforum | B57: N5 Air 7640 Barebone + 64GB SSD | C57: Available | D57: 495 | E57: 2 year | F57: MinisCloud/DIY | G57: Yes | H57: 5 | I57: 0 | J57: AMD Ryzen 5 7640HS 6C/12T | K57: Barebone | L57: 96 GB (2x48 GB) | M57: No | N57: DDR5-5600 SODIMM | O57: OCuLink Gen 4 x4 | P57: 1 Gen 4 x2, 2 Gen 4 x1 | Q57: 2 USB4/TB3 | R57: HDMI + Type C DP | S57: 0 | T57: 0 | U57: 1 | V57: 1 | X57: Probable Level 6 | Y57: N/A | Z57: No
A58: Minisforum | B58: N5 Air 7640 16GB (4800) + 64GB SSD | C58: Available | D58: 679 | E58: 2 year | F58: MinisCloud/DIY | G58: Yes | H58: 5 | I58: 0 | J58: AMD Ryzen 5 7640HS 6C/12T | K58: 16 GB (2x8 GB) | L58: 96 GB (2x48 GB) | M58: No | N58: DDR5-5600 SODIMM | O58: OCuLink Gen 4 x4 | P58: 1 Gen 4 x2, 2 Gen 4 x1 | Q58: 2 USB4/TB3 | R58: HDMI + Type C DP | S58: 0 | T58: 0 | U58: 1 | V58: 1 | X58: Probable Level 6 | Y58: N/A | Z58: No
A59: Minisforum | B59: N5 MAX 495 64GB | C59: Announced | E59: 2 year | F59: MinisCloud/DIY | G59: Yes | H59: 5 | I59: 0 | J59: AMD Ryzen 9 AI MAX+ 495 | K59: 64 GB Soldered | L59: 64 GB Soldered | M59: Opt | N59: Onboard LPDDR5x-8000 | O59: No | P59: 5 | Q59: 1 USB4 + 1 USB4 Gen 2 80Gb | R59: HDMI + Type C DP | S59: 0 | T59: 0 | U59: 0 | V59: 2 | X59: Probable Level 6 | Y59: N/A | Z59: No
A60: Minisforum | B60: N5 MAX 495 128GB | C60: Announced | E60: 2 year | F60: MinisCloud/DIY | G60: Yes | H60: 5 | I60: 0 | J60: AMD Ryzen 9 AI MAX+ 495 | K60: 192 GB Soldered | L60: 128 GB Soldered | M60: Opt | N60: Onboard LPDDR5x-8000 | O60: No | P60: 5 | Q60: 1 USB4 + 1 USB4 Gen 2 80Gb | R60: HDMI + Type C DP | S60: 0 | T60: 0 | U60: 0 | V60: 2 | X60: Probable Level 6 | Y60: N/A | Z60: No
A61: Minisforum | B61: N5 MAX 495 192GB | C61: Announced | E61: 2 year | F61: MinisCloud/DIY | G61: Yes | H61: 5 | I61: 0 | J61: AMD Ryzen 9 AI MAX+ 495 | K61: 192 GB Soldered | L61: 128 GB Soldered | M61: Opt | N61: Onboard LPDDR5x-8000 | O61: No | P61: 5 | Q61: 1 USB4 + 1 USB4 Gen 2 80Gb | R61: HDMI + Type C DP | S61: 0 | T61: 0 | U61: 0 | V61: 2 | X61: Probable Level 6 | Y61: N/A | Z61: No
A62: Minisforum | B62: N5 MAX 64GB + 128GB SSD | C62: Available | D62: 2399 | E62: 2 year | F62: MinisCloud/DIY | G62: Yes | H62: 5 | I62: 0 | J62: AMD Ryzen 9 AI MAX+ 395 | K62: 64 GB Soldered | L62: 64 GB Soldered | M62: Opt | N62: Onboard LPDDR5x-8000 | O62: No | P62: 5 | Q62: 1 USB4 + 1 USB4 Gen 2 80Gb | R62: HDMI + Type C DP | S62: 0 | T62: 0 | U62: 0 | V62: 2 | X62: Probable Level 6 | Y62: N/A | Z62: No
A63: Minisforum | B63: N5 MAX 128GB + 128GB SSD | C63: Available | D63: 3599 | E63: 2 year | F63: MinisCloud/DIY | G63: Yes | H63: 5 | I63: 0 | J63: AMD Ryzen 9 AI MAX+ 395 | K63: 128 GB Soldered | L63: 128 GB Soldered | M63: Opt | N63: Onboard LPDDR5x-8000 | O63: No | P63: 5 | Q63: 1 USB4 + 1 USB4 Gen 2 80Gb | R63: HDMI + Type C DP | S63: 0 | T63: 0 | U63: 0 | V63: 2 | X63: Probable Level 6 | Y63: N/A | Z63: No
A64: Minisforum | B64: N5 Pro Barebone + 128GB SSD | C64: Available | D64: 899 | E64: 2 year | F64: MinisCloud/DIY | G64: Yes | H64: 5 | I64: 0 | J64: AMD Ryzen 7 AI 9 HX PRO 370 12C/24T | K64: Barebone | L64: 96 GB (2x48 GB) | M64: Opt | N64: DDR5-5600 SODIMM | O64: OCuLink Gen 4 x4 | P64: 1 Gen 4 x2, 2 Gen 4 x1 | Q64: 2 USB4/TB3 | R64: HDMI + Type C DP | S64: 0 | T64: 0 | U64: 1 | V64: 1 | X64: Probable Level 6 | Y64: N/A | Z64: No
A65: Minisforum | B65: N5 Pro 16GB + 128GB SSD | C65: Available | D65: 1179 | E65: 2 year | F65: MinisCloud/DIY | G65: Yes | H65: 5 | I65: 0 | J65: AMD Ryzen 7 AI 9 HX PRO 370 12C/24T | K65: 16 GB (2x8 GB) | L65: 96 GB (2x48 GB) | M65: Opt | N65: DDR5-5600 SODIMM | O65: OCuLink Gen 4 x4 | P65: 1 Gen 4 x2, 2 Gen 4 x1 | Q65: 2 USB4/TB3 | R65: HDMI + Type C DP | S65: 0 | T65: 0 | U65: 1 | V65: 1 | X65: Probable Level 6 | Y65: N/A | Z65: No
A66: Morefine | B66: MNAS-X1 | C66: Available | D66: 759 | E66: 1 year | F66: DIY | G66: Yes | H66: 4 | I66: 0 | J66: AMD Ryzen 7 PRO 8845HS 8C/16T | K66: Barebone | L66: 96 GB (2x48 GB) | M66: Yes | N66: DDR5-5600 SODIMM | O66: 1 Gen 4 x16 (x8 lanes) | P66: 3 Gen 4 | Q66: 1 USB4/TB3 | R66: HDMI | S66: 0 | T66: 0 | U66: 0 | V66: 2 | X66: Probable Level 6 | Y66: N/A | Z66: No
A67: ORICO | B67: CF500 | C67: Sold out | E67: 2 year | F67: Cyberdata/DIY | G67: Yes | H67: 5 | I67: 0 | J67: Intel N150 4C/4T | K67: 8 GB (1x8 GB) | L67: 48 GB (1x48 GB) | M67: No | N67: DDR5-4800 SODIMM | O67: No | P67: 2 Gen 3 x1 | Q67: No | R67: HDMI + DP | S67: 0 | T67: 1 | U67: 0 | V67: 0 | X67: Probable Level 6 | Y67: N/A | Z67: No
A68: ORICO | B68: CF500 Pro | C68: Sold out | E68: 2 year | F68: Cyberdata/DIY | G68: Yes | H68: 5 | I68: 0 | J68: Intel N305 8C/8T | K68: 8 GB (1x8 GB) | L68: 48 GB (1x48 GB) | M68: No | N68: DDR5-4800 SODIMM | O68: No | P68: 2 Gen 3 x1 | Q68: No | R68: HDMI + DP | S68: 0 | T68: 1 | U68: 0 | V68: 1 | X68: Probable Level 6 | Y68: N/A | Z68: No
A69: ORICO | B69: CF56 | C69: Available | D69: 700 | E69: 2 year | F69: Cyberdata/DIY | G69: Yes | H69: 5 | I69: 0 | J69: Intel N305 8C/8T | K69: 16 GB (1x16 GB) | L69: 48 GB (1x48 GB) | M69: No | N69: DDR5-4800 SODIMM | O69: No | P69: 2 Gen 3 x4 + 4 Gen 3 x1 | Q69: No | R69: HDMI + DP | S69: 0 | T69: 1 | U69: 0 | V69: 1 | X69: Probable Level 6 | Y69: N/A | Z69: No
A70: ORICO | B70: CF56 Pro | C70: Available | D70: 900 | E70: 2 year | F70: Cyberdata/DIY | G70: Yes | H70: 5 | I70: 0 | J70: Intel Core i5-1250P 4P+8E 16T | K70: 16 GB (1x16 GB) | L70: 96 GB (2x48 GB) | M70: No | N70: DDR5-4800 SODIMM | O70: No | P70: 2 Gen 4 x4 + 4 Gen 3 x2 | Q70: 2 USB4/TB3 | R70: HDMI + DP | S70: 0 | T70: 0 | U70: 0 | V70: 2 | X70: Probable Level 6 | Y70: N/A | Z70: No
A71: ORICO | B71: CF1000 (Pro) | C71: Available | D71: 1400 | E71: 2 year | F71: Cyberdata/DIY | G71: Yes | H71: 10 | I71: 0 | J71: Intel Core i5-1250P 4P+8E 16T | K71: 32 GB (2x16 GB) | L71: 96 GB (2x48 GB) | M71: No | N71: DDR5-4800 SODIMM | O71: No | P71: 2 Gen 4 x4 | Q71: 2 USB4/TB3 | R71: HDMI + DP | S71: 0 | T71: 0 | U71: 0 | V71: 2 | X71: Probable Level 6 | Y71: N/A | Z71: No
A72: ORICO | B72: MetaBox HS200-PRO | C72: Available | D72: 345 | E72: 2 year | F72: Cyberdata/DIY | G72: Yes | H72: 2 | I72: 0 | J72: Intel Celeron N5105 4C/4T | K72: 4 GB (1x4 GB) | L72: 16 GB (2x8 GB) | M72: No | N72: DDR4-2933 SODIMM | O72: No | P72: 2 | Q72: No | R72: HDMI | S72: 0 | T72: 2 | U72: 0 | V72: 0 | X72: Probable Level 6 | Y72: N/A | Z72: No
A73: ORICO | B73: MetaBox HS500-PRO | C73: Available | D73: 380 | E73: 2 year | F73: Cyberdata/DIY | G73: Yes | H73: 5 | I73: 0 | J73: Intel Celeron N5105 4C/4T | K73: 8 GB (2x4 GB) | L73: 16 GB (2x8 GB) | M73: No | N73: DDR4-2933 SODIMM | O73: No | P73: 2 | Q73: No | R73: HDMI | S73: 0 | T73: 2 | U73: 0 | V73: 0 | X73: Probable Level 6 | Y73: N/A | Z73: No
A74: QNAP | B74: Qu405-N150-8G | C74: China only | E74: 2 year | F74: QTS/QuTS (req 16GB) | G74: Yes | H74: 4 | I74: 0 | J74: Intel N150 4C/4T | K74: 8 GB (1x8 GB) | L74: 16 GB (1x16 GB) | M74: No | N74: DDR5-4800 SODIMM | O74: No | P74: 2 Gen 3 x1 | Q74: No | R74: HDMI 2.1 4K60 | S74: 0 | T74: 2 | U74: 0 | V74: 0 | X74: Probable Level 4 | Z74: No
A75: QNAP | B75: Qu405-N150-16G | C75: China only | E75: 2 year | F75: QTS/QuTS (req 16GB) | G75: Yes | H75: 4 | I75: 0 | J75: Intel N150 4C/4T | K75: 16 GB (1x16 GB) | L75: 16 GB (1x16 GB) | M75: No | N75: DDR5-4800 SODIMM | O75: No | P75: 2 Gen 3 x1 | Q75: No | R75: HDMI 2.1 4K60 | S75: 0 | T75: 2 | U75: 0 | V75: 0 | X75: Probable Level 4 | Z75: No
A76: QNAP | B76: Qu405-N355-8G | C76: China only | E76: 2 year | F76: QTS/QuTS (req 16GB) | G76: Yes | H76: 4 | I76: 0 | J76: Intel N355 8C/8T | K76: 8 GB (1x8 GB) | L76: 16 GB (1x16 GB) | M76: No | N76: DDR5-4800 SODIMM | O76: No | P76: 2 Gen 3 x1 | Q76: No | R76: HDMI 2.1 4K60 | S76: 0 | T76: 2 | U76: 0 | V76: 0 | X76: Probable Level 4 | Z76: No
A77: QNAP | B77: Qu405-N355-16G | C77: China only | E77: 2 year | F77: QTS/QuTS (req 16GB) | G77: Yes | H77: 4 | I77: 0 | J77: Intel N355 8C/8T | K77: 16 GB (1x16 GB) | L77: 16 GB (1x16 GB) | M77: No | N77: DDR5-4800 SODIMM | O77: No | P77: 2 Gen 3 x1 | Q77: No | R77: HDMI 2.1 4K60 | S77: 0 | T77: 2 | U77: 0 | V77: 0 | X77: Probable Level 4 | Z77: No
A78: QNAP | B78: Qu605-N150-8G | C78: China only | E78: 2 year | F78: QTS/QuTS (req 16GB) | G78: Yes | H78: 6 | I78: 0 | J78: Intel N150 4C/4T | K78: 8 GB (1x8 GB) | L78: 16 GB (1x16 GB) | M78: No | N78: DDR5-4800 SODIMM | O78: No | P78: 2 Gen 3 x1 | Q78: No | R78: HDMI 2.1 4K60 | S78: 0 | T78: 2 | U78: 0 | V78: 0 | X78: Probable Level 4 | Z78: No
A79: QNAP | B79: Qu605-N150-16G | C79: China only | E79: 2 year | F79: QTS/QuTS (req 16GB) | G79: Yes | H79: 6 | I79: 0 | J79: Intel N150 4C/4T | K79: 16 GB (1x16 GB) | L79: 16 GB (1x16 GB) | M79: No | N79: DDR5-4800 SODIMM | O79: No | P79: 2 Gen 3 x1 | Q79: No | R79: HDMI 2.1 4K60 | S79: 0 | T79: 2 | U79: 0 | V79: 0 | X79: Probable Level 4 | Z79: No
A80: QNAP | B80: Qu605-N355-8G | C80: China only | E80: 2 year | F80: QTS/QuTS (req 16GB) | G80: Yes | H80: 6 | I80: 0 | J80: Intel N355 8C/8T | K80: 8 GB (1x8 GB) | L80: 16 GB (1x16 GB) | M80: No | N80: DDR5-4800 SODIMM | O80: No | P80: 2 Gen 3 x1 | Q80: No | R80: HDMI 2.1 4K60 | S80: 0 | T80: 2 | U80: 0 | V80: 0 | X80: Probable Level 4 | Z80: No
A81: QNAP | B81: Qu605-N355-16G | C81: China only | E81: 2 year | F81: QTS/QuTS (req 16GB) | G81: Yes | H81: 6 | I81: 0 | J81: Intel N355 8C/8T | K81: 16 GB (1x16 GB) | L81: 16 GB (1x16 GB) | M81: No | N81: DDR5-4800 SODIMM | O81: No | P81: 2 Gen 3 x1 | Q81: No | R81: HDMI 2.1 4K60 | S81: 0 | T81: 2 | U81: 0 | V81: 0 | X81: Probable Level 4 | Z81: No
A82: QNAP | B82: Qu805-N150-8G | C82: China only | E82: 2 year | F82: QTS/QuTS (req 16GB) | G82: Yes | H82: 8 | I82: 0 | J82: Intel N150 4C/4T | K82: 8 GB (1x8 GB) | L82: 16 GB (1x16 GB) | M82: No | N82: DDR5-4800 SODIMM | O82: No | P82: 2 Gen 3 x1 | Q82: No | R82: HDMI 2.1 4K60 | S82: 0 | T82: 2 | U82: 0 | V82: 0 | X82: Probable Level 4 | Z82: No
A83: QNAP | B83: Qu805-N150-16G | C83: China only | E83: 2 year | F83: QTS/QuTS (req 16GB) | G83: Yes | H83: 8 | I83: 0 | J83: Intel N150 4C/4T | K83: 16 GB (1x16 GB) | L83: 16 GB (1x16 GB) | M83: No | N83: DDR5-4800 SODIMM | O83: No | P83: 2 Gen 3 x1 | Q83: No | R83: HDMI 2.1 4K60 | S83: 0 | T83: 2 | U83: 0 | V83: 0 | X83: Probable Level 4 | Z83: No
A84: QNAP | B84: Qu805-N355-8G | C84: China only | E84: 2 year | F84: QTS/QuTS (req 16GB) | G84: Yes | H84: 8 | I84: 0 | J84: Intel N355 8C/8T | K84: 8 GB (1x8 GB) | L84: 16 GB (1x16 GB) | M84: No | N84: DDR5-4800 SODIMM | O84: No | P84: 2 Gen 3 x1 | Q84: No | R84: HDMI 2.1 4K60 | S84: 0 | T84: 2 | U84: 0 | V84: 0 | X84: Probable Level 4 | Z84: No
A85: QNAP | B85: Qu805-N355-16G | C85: China only | E85: 2 year | F85: QTS/QuTS (req 16GB) | G85: Yes | H85: 8 | I85: 0 | J85: Intel N355 8C/8T | K85: 16 GB (1x16 GB) | L85: 16 GB (1x16 GB) | M85: No | N85: DDR5-4800 SODIMM | O85: No | P85: 2 Gen 3 x1 | Q85: No | R85: HDMI 2.1 4K60 | S85: 0 | T85: 2 | U85: 0 | V85: 0 | X85: Probable Level 4 | Z85: No
A86: QNAP | B86: TS-253E-8G-US | C86: Available | D86: 599 | E86: 2 year | F86: QTS | G86: Yes | H86: 2 | I86: 0 | J86: Intel Celeron J6412 4C/4T | K86: 8 GB (onboard) | L86: 8 GB | M86: No | N86: DDR4-3200 SODIMM | O86: No | P86: 2 Gen 3 x2 | Q86: No | R86: HDMI 1.4b | S86: 0 | T86: 2 | U86: 0 | V86: 0 | X86: Level 6 | Y86: 8 | Z86: No
A87: QNAP | B87: TS-262A-4G-US | C87: Available | D87: 369 | E87: 2 year | F87: QTS | G87: No | H87: 2 | I87: 0 | J87: Intel Celeron N5095 4C/4T | K87: 4 GB (1x4 GB) | L87: 16 GB (2x8 GB) | M87: No | N87: DDR4-2933 SODIMM | O87: No | P87: 2 Gen 3 x1 | Q87: No | R87: No | S87: 0 | T87: 1 | U87: 0 | V87: 0 | X87: Level 6 | Y87: 8 | Z87: No
A88: QNAP | B88: TS-264-8G-US | C88: Available | D88: 490 | E88: 2 year | F88: QTS | G88: Yes | H88: 2 | I88: 0 | J88: Intel Celeron N5095 4C/4T | K88: 8 GB (onboard) | L88: 8 GB | M88: No | N88: DDR4-2933 SODIMM | O88: 1 Gen 3 x2 | P88: 2 Gen 3 x1 | Q88: No | R88: HDMI 2.1 | S88: 0 | T88: 2 | U88: 0 | V88: 109 | X88: Level 6 | Y88: 8 | Z88: No
A89: QNAP | B89: TS-h265 | C89: Announced | E89: 2 year | F89: QTS | G89: Yes | H89: 2 | I89: 0 | J89: Intel N150 4C/4T | K89: 8 GB (1x8 GB) | L89: 16 GB (1x16 GB) | M89: No | N89: DDR5-4800 SODIMM | O89: 1 Gen 3 x2 | P89: 2 Gen 3 x1 | Q89: No | R89: 2x HDMI 2.2 | S89: 0 | T89: 2 | U89: 0 | V89: 109 | X89: Probable Level 6 | Y89: 2 | Z89: No
A90: QNAP | B90: TS-h465 | C90: Announced | E90: 2 year | F90: QTS | G90: Yes | H90: 4 | I90: 0 | J90: Intel N150 4C/4T | K90: 8 GB (1x8 GB) | L90: 16 GB (1x16 GB) | M90: No | N90: DDR5-4800 SODIMM | O90: 1 Gen 3 x2 | P90: 2 Gen 3 x1 | Q90: No | R90: 2x HDMI 2.2 | S90: 0 | T90: 2 | U90: 0 | V90: 109 | X90: Probable Level 6 | Y90: 2 | Z90: No
A91: QNAP | B91: TS-453E-8G-US | C91: Available | D91: 729 | E91: 2 year | F91: QTS | G91: Yes | H91: 4 | I91: 0 | J91: Intel Celeron J6412 4C/4T | K91: 8 GB (onboard) | L91: 8 GB | M91: No | N91: DDR4-3200 SODIMM | O91: No | P91: 2 Gen 3 x2 | Q91: No | R91: HDMI 1.4b | S91: 0 | T91: 2 | U91: 0 | V91: 0 | X91: Level 6 | Y91: 8 | Z91: No
A92: QNAP | B92: TS-462A-4G-US | C92: Available | D92: 529 | E92: 2 year | F92: QTS | G92: No | H92: 4 | I92: 0 | J92: Intel Celeron N5095 4C/4T | K92: 4 GB (1x4 GB) | L92: 16 GB (2x8 GB) | M92: No | N92: DDR4-2933 SODIMM | O92: No | P92: 2 Gen 3 x1 | Q92: No | R92: No | S92: 0 | T92: 1 | U92: 0 | V92: 0 | X92: Level 6 | Y92: 8 | Z92: No
A93: QNAP | B93: TS-464-8G-US | C93: Available | D93: 639 | E93: 2 year | F93: QTS | G93: Yes | H93: 4 | I93: 0 | J93: Intel Celeron N5095 4C/4T | K93: 4 GB (1x4 GB) | L93: 16 GB (2x8 GB) | M93: No | N93: DDR4-2933 SODIMM | O93: 1 Gen 3 x2 | P93: 2 Gen 3 x1 | Q93: No | R93: HDMI 2.1 | S93: 0 | T93: 2 | U93: 0 | V93: 109 | X93: Level 6 | Y93: 8 | Z93: No
A94: QNAP | B94: TS-473A-8G-US | C94: Available | D94: 879 | E94: 2 year | F94: QTS/QuTS (req 16GB) | G94: No | H94: 4 | I94: 0 | J94: AMD V1500B 4C/8T | K94: 8 GB (1x8 GB) | L94: 64 GB (2x32 GB) | M94: Opt | N94: DDR4-2666 SODIMM | O94: 2 Gen 3 x4 | P94: 2 Gen 3 x1 | Q94: No | R94: No | S94: 0 | T94: 2 | U94: 0 | V94: 109 | X94: Optional PCIe dGPU | Y94: 2 | Z94: No
A95: QNAP | B95: TS-467X | C95: Announced | E95: 2 year | F95: QTS/QuTS (req 16GB) | G95: No | H95: 4 | I95: 0 | J95: AMD V1500B 4C/8T | K95: 8 GB (1x8 GB) | L95: 64 GB (2x32 GB) | M95: Opt | N95: DDR4-2666 SODIMM | O95: 1 Gen 3 | P95: 2 Gen 3 x4 | Q95: No | S95: 0 | T95: 0 | U95: 0 | V95: 2 | Y95: 2
A96: QNAP | B96: TS-667X | C96: Announced | E96: 2 year | F96: QTS/QuTS (req 16GB) | G96: No | H96: 6 | I96: 0 | J96: AMD V1500B 4C/8T | K96: 8 GB (1x8 GB) | L96: 64 GB (2x32 GB) | M96: Opt | N96: DDR4-2666 SODIMM | O96: 1 Gen 3 | P96: 2 Gen 3 x4 | Q96: No | S96: 0 | T96: 0 | U96: 0 | V96: 2 | Y96: 2
A97: QNAP | B97: TS-867X | C97: Announced | E97: 2 year | F97: QTS/QuTS (req 16GB) | G97: No | H97: 8 | I97: 0 | J97: AMD V1500B 4C/8T | K97: 8 GB (1x8 GB) | L97: 64 GB (2x32 GB) | M97: Opt | N97: DDR4-2666 SODIMM | O97: 1 Gen 3 | P97: 2 Gen 3 x4 | Q97: No | S97: 0 | T97: 0 | U97: 0 | V97: 2 | Y97: 2
A98: QNAP | B98: TS-873A-8G-US | C98: Available | D98: 1200 | E98: 2 year | F98: QTS/QuTS (req 16GB) | G98: No | H98: 8 | I98: 0 | J98: AMD V1500B 4C/8T | K98: 8 GB (1x8 GB) | L98: 64 GB (2x32 GB) | M98: Opt | N98: DDR-2400 SODIMM | O98: 2 Gen 3 x4 | P98: 2 Gen 3 x1 | Q98: No | R98: No | S98: 0 | T98: 2 | U98: 0 | V98: 109 | X98: No | Y98: 8 | Z98: No
A99: QNAP | B99: TVS-h474-PT-8G-US [discontinued?] | C99: Available | D99: 1300 | E99: 2 year | F99: QTS/QuTS (req 16GB) | G99: Yes | H99: 4 | I99: 0 | J99: Intel Pentium G7400 2C/4T | K99: 8 GB (1x8 GB) | L99: 64 GB (2x32 GB) | M99: No | N99: DDR4-3200 SODIMM | O99: 1 Gen 4 x16, 1 Gen 3 x2 | P99: 2 Gen 3 x2 | Q99: No | R99: HDMI 1.4b | S99: 0 | T99: 2 | U99: 0 | V99: 109 | X99: Level 6 | Y99: 2 | Z99: No
A100: QNAP | B100: TS-h973AX-8G-US | C100: Available | D100: 1099 | E100: 2 year | F100: QTS/QuTS (req 16GB) | G100: No | H100: 5 | I100: 4 | J100: AMD V1500B 4C/8T | K100: 8 GB (1x8 GB) | L100: 64 GB (2x32 GB) | M100: Opt | N100: DDR4-2666 SODIMM | O100: No | P100: 2x 2.5 bays are U.2 | Q100: No | R100: No | S100: 0 | T100: 2 | U100: 0 | V100: 1 | X100: No | Y100: 2 | Z100: No
A101: QNAP | B101: TS-h973AX-32G-US | C101: Available | D101: 1449 | E101: 2 year | F101: QTS/QuTS (req 16GB) | G101: No | H101: 5 | I101: 4 | J101: AMD V1500B 4C/8T | K101: 32 GB (2x16 GB) | L101: 64 GB (2x32 GB) | M101: Opt | N101: DDR4-2666 SODIMM | O101: No | P101: 2x 2.5 bays are U.2 | Q101: No | R101: No | S101: 0 | T101: 2 | U101: 0 | V101: 1 | X101: No | Y101: 2 | Z101: No
...
