Workbook

Sheet Hardware Comparison
G1: r
B2: 12 | C2: Desired drive capacity in TB
B3: 360 | C3: Current price of desired drive model in $USD
B4: 530 | C4: Current price of equivalent capacity Synology branded drive in $USD (note that first-party drive restrictions can be worked around with the Synology_HDD_db script on github)
B6: Make | C6: Model | D6: Availability | E6: MSRP | F6: Warranty | G6: OS | H6: Third-Party OS | I6: 3.5 Bays | J6: 2.5 Bays | K6: CPU | L6: Supplied RAM | M6: Max RAM | N6: ECC | O6: RAM Type | P6: PCIe Slots | Q6: M.2 Slots | R6: Thunderbolt | S6: Display Output | T6: 1 GbE | U6: 2.5 GbE | V6: 5 GbE | W6: 10 GbE | X6: 25 Gb | Y6: Plex Transcode | Z6: Included Camera Licenses | AA6: First-Party Drives Required? | AB6: Price Fully Populated with 3.5" Drives | AC6: Net Capacity (1 drive redundancy) | AD6: Price per Net Capacity in TB (1 drive redundancy) | AE6: Net Capacity (2 drive redundancy) | AF6: Price per Net Capacity in TB (2 drive redundancy)
B7: 45Homelab | C7: HL4 (5500GT) | D7: Available | E7: 1599 | F7: 1 year | G7: Rocky Linux/DIY | H7: Yes | I7: 4 | J7: 0 | K7: AMD Ryzen 5500GT 6C/12T | L7: 16 GB (2x8 GB) | M7: 64 GB (2x32 GB) | N7: No | O7: DDR4-3200 DIMM | P7: 1 Gen 4 x16 | Q7: 2 | R7: No | S7: HDMI + DP | T7: 0 | U7: 1 | V7: 0 | W7: 0 | Y7: Optional PCIe dGPU | Z7: N/A | AA7: No | AB7: =IF(ISNUMBER(E7),IF(I7>0,IF(AA7="No",E7+(I7*$B$3),E7+(I7*$B$4)),""),"") -> 3039 | AC7: =IF(I7>0,(I7-1)*$B$2,"") -> 36 | AD7: =IF(ISNUMBER(E7),IF(I7>0,AB7/AC7,""),"") -> 84.416667 | AE7: =IF(I7>2,(I7-2)*$B$2,"") -> 24 | AF7: =IF(AND(ISNUMBER(E7),I7>2),AB7/AE7,"") -> 126.625
B8: 45Homelab | C8: HL4 (5700G) | D8: Available | E8: 1725 | F8: 1 year | G8: Rocky Linux/DIY | H8: Yes | I8: 4 | J8: 0 | K8: AMD Ryzen 5700G 8C/16T | L8: 16 GB (2x8 GB) | M8: 64 GB (2x32 GB) | N8: No | O8: DDR4-3200 DIMM | P8: 1 Gen 4 x16 | Q8: 2 | R8: No | S8: HDMI + DP | T8: 0 | U8: 1 | V8: 0 | W8: 0 | Y8: Optional PCIe dGPU | Z8: N/A | AA8: No | AB8: =IF(ISNUMBER(E8),IF(I8>0,IF(AA8="No",E8+(I8*$B$3),E8+(I8*$B$4)),""),"") -> 3165 | AC8: =IF(I8>0,(I8-1)*$B$2,"") -> 36 | AD8: =IF(ISNUMBER(E8),IF(I8>0,AB8/AC8,""),"") -> 87.916667 | AE8: =IF(I8>2,(I8-2)*$B$2,"") -> 24 | AF8: =IF(AND(ISNUMBER(E8),I8>2),AB8/AE8,"") -> 131.875
B9: 45Homelab | C9: HL8 (5500GT) | D9: Available | E9: 1677 | F9: 1 year | G9: Rocky Linux/DIY | H9: Yes | I9: 8 | J9: 0 | K9: AMD Ryzen 5500GT 6C/12T | L9: 16 GB (2x8 GB) | M9: 64 GB (2x32 GB) | N9: No | O9: DDR4-3200 DIMM | P9: 1 Gen 4 x16 | Q9: 2 | R9: No | S9: HDMI + DP | T9: 0 | U9: 1 | V9: 0 | W9: 0 | Y9: Optional PCIe dGPU | Z9: N/A | AA9: No | AB9: =IF(ISNUMBER(E9),IF(I9>0,IF(AA9="No",E9+(I9*$B$3),E9+(I9*$B$4)),""),"") -> 4557 | AC9: =IF(I9>0,(I9-1)*$B$2,"") -> 84 | AD9: =IF(ISNUMBER(E9),IF(I9>0,AB9/AC9,""),"") -> 54.25 | AE9: =IF(I9>2,(I9-2)*$B$2,"") -> 72 | AF9: =IF(AND(ISNUMBER(E9),I9>2),AB9/AE9,"") -> 63.291667
B10: 45Homelab | C10: HL8 (5700G) | D10: Available | E10: 1803 | F10: 1 year | G10: Rocky Linux/DIY | H10: Yes | I10: 8 | J10: 0 | K10: AMD Ryzen 5700G 8C/16T | L10: 16 GB (2x8 GB) | M10: 64 GB (2x32 GB) | N10: No | O10: DDR4-3200 DIMM | P10: 1 Gen 4 x16 | Q10: 2 | R10: No | S10: HDMI + DP | T10: 0 | U10: 1 | V10: 0 | W10: 0 | Y10: Optional PCIe dGPU | Z10: N/A | AA10: No | AB10: =IF(ISNUMBER(E10),IF(I10>0,IF(AA10="No",E10+(I10*$B$3),E10+(I10*$B$4)),""),"") -> 4683 | AC10: =IF(I10>0,(I10-1)*$B$2,"") -> 84 | AD10: =IF(ISNUMBER(E10),IF(I10>0,AB10/AC10,""),"") -> 55.75 | AE10: =IF(I10>2,(I10-2)*$B$2,"") -> 72 | AF10: =IF(AND(ISNUMBER(E10),I10>2),AB10/AE10,"") -> 65.041667
B11: 45Homelab | C11: HL15 2.0 (EPYC 7252) | D11: Available | E11: 2920 | F11: 1 year | G11: Rocky Linux/DIY | H11: Yes | I11: 15 | J11: 0 | K11: AMD EPYC 7252 8C/16T | L11: 16 GB (2x8 GB) | M11: 512 GB (8x64 GB) | N11: Yes | O11: DDR4-3200 RDIMM | P11: 7 PCIe Gen 4 x16 | Q11: 2 Gen4 x4 | R11: No | S11: VGA BMC | T11: 0 | U11: 0 | V11: 0 | W11: 2 | Y11: Optional PCIe dGPU | Z11: N/A | AA11: No | AB11: =IF(ISNUMBER(E11),IF(I11>0,IF(AA11="No",E11+(I11*$B$3),E11+(I11*$B$4)),""),"") -> 8320 | AC11: =IF(I11>0,(I11-1)*$B$2,"") -> 168 | AD11: =IF(ISNUMBER(E11),IF(I11>0,AB11/AC11,""),"") -> 49.52381 | AE11: =IF(I11>2,(I11-2)*$B$2,"") -> 156 | AF11: =IF(AND(ISNUMBER(E11),I11>2),AB11/AE11,"") -> 53.333333
B12: 45Homelab | C12: HL15 2.0 (EPYC 7272) | D12: Available | E12: 3294 | F12: 1 year | G12: Rocky Linux/DIY | H12: Yes | I12: 15 | J12: 0 | K12: AMD EPYC 7272 12C/24T | L12: 16 GB (2x8 GB) | M12: 512 GB (8x64 GB) | N12: Yes | O12: DDR4-3200 RDIMM | P12: 7 PCIe Gen 4 x16 | Q12: 2 Gen4 x4 | R12: No | S12: VGA BMC | T12: 0 | U12: 0 | V12: 0 | W12: 2 | Y12: Optional PCIe dGPU | Z12: N/A | AA12: No | AB12: =IF(ISNUMBER(E12),IF(I12>0,IF(AA12="No",E12+(I12*$B$3),E12+(I12*$B$4)),""),"") -> 8694 | AC12: =IF(I12>0,(I12-1)*$B$2,"") -> 168 | AD12: =IF(ISNUMBER(E12),IF(I12>0,AB12/AC12,""),"") -> 51.75 | AE12: =IF(I12>2,(I12-2)*$B$2,"") -> 156 | AF12: =IF(AND(ISNUMBER(E12),I12>2),AB12/AE12,"") -> 55.730769
B13: 45Homelab | C13: HL15 2.0 (EPYC 7282) | D13: Available | E13: 3355 | F13: 1 year | G13: Rocky Linux/DIY | H13: Yes | I13: 15 | J13: 0 | K13: AMD EPYC 7282 16C/32T | L13: 16 GB (2x8 GB) | M13: 512 GB (8x64 GB) | N13: Yes | O13: DDR4-3200 RDIMM | P13: 7 PCIe Gen 4 x16 | Q13: 2 Gen4 x4 | R13: No | S13: VGA BMC | T13: 0 | U13: 0 | V13: 0 | W13: 2 | Y13: Optional PCIe dGPU | Z13: N/A | AA13: No | AB13: =IF(ISNUMBER(E13),IF(I13>0,IF(AA13="No",E13+(I13*$B$3),E13+(I13*$B$4)),""),"") -> 8755 | AC13: =IF(I13>0,(I13-1)*$B$2,"") -> 168 | AD13: =IF(ISNUMBER(E13),IF(I13>0,AB13/AC13,""),"") -> 52.113095 | AE13: =IF(I13>2,(I13-2)*$B$2,"") -> 156 | AF13: =IF(AND(ISNUMBER(E13),I13>2),AB13/AE13,"") -> 56.121795
B14: 45Homelab | C14: HL15 2.0 (EPYC 7452) | D14: Available | E14: 3591 | F14: 1 year | G14: Rocky Linux/DIY | H14: Yes | I14: 15 | J14: 0 | K14: AMD EPYC 7452 32C/64T | L14: 16 GB (2x8 GB) | M14: 512 GB (8x64 GB) | N14: Yes | O14: DDR4-3200 RDIMM | P14: 7 PCIe Gen 4 x16 | Q14: 2 Gen4 x4 | R14: No | S14: VGA BMC | T14: 0 | U14: 0 | V14: 0 | W14: 2 | Y14: Optional PCIe dGPU | Z14: N/A | AA14: No | AB14: =IF(ISNUMBER(E14),IF(I14>0,IF(AA14="No",E14+(I14*$B$3),E14+(I14*$B$4)),""),"") -> 8991 | AC14: =IF(I14>0,(I14-1)*$B$2,"") -> 168 | AD14: =IF(ISNUMBER(E14),IF(I14>0,AB14/AC14,""),"") -> 53.517857 | AE14: =IF(I14>2,(I14-2)*$B$2,"") -> 156 | AF14: =IF(AND(ISNUMBER(E14),I14>2),AB14/AE14,"") -> 57.634615
B15: 45Homelab | C15: HL15 Beast (ASROCK EPYC 7252) | D15: Available | E15: 3419 | F15: 1 year | G15: Rocky Linux/DIY | H15: Yes | I15: 23 | J15: 0 | K15: AMD EPYC 7252 8C/16T | L15: 16 GB (2x8 GB) | M15: 1024 GB (8x128 GB) | N15: Yes | O15: DDR4-3200 RDIMM | P15: 7 PCIe Gen 4 x16 | Q15: 2 Gen4 x4 | R15: No | S15: VGA BMC | T15: 0 | U15: 0 | V15: 0 | W15: 2 | Y15: Optional PCIe dGPU | Z15: N/A | AA15: No | AB15: =IF(ISNUMBER(E15),IF(I15>0,IF(AA15="No",E15+(I15*$B$3),E15+(I15*$B$4)),""),"") -> 11699 | AC15: =IF(I15>0,(I15-1)*$B$2,"") -> 264 | AD15: =IF(ISNUMBER(E15),IF(I15>0,AB15/AC15,""),"") -> 44.314394 | AE15: =IF(I15>2,(I15-2)*$B$2,"") -> 252 | AF15: =IF(AND(ISNUMBER(E15),I15>2),AB15/AE15,"") -> 46.424603
B16: 45Homelab | C16: HL15 Beast (ASROCK EPYC 7272) | D16: Available | E16: 3793 | F16: 1 year | G16: Rocky Linux/DIY | H16: Yes | I16: 23 | J16: 0 | K16: AMD EPYC 7272 12C/24T | L16: 16 GB (2x8 GB) | M16: 1024 GB (8x128 GB) | N16: Yes | O16: DDR4-3200 RDIMM | P16: 7 PCIe Gen 4 x16 | Q16: 2 Gen4 x4 | R16: No | S16: VGA BMC | T16: 0 | U16: 0 | V16: 0 | W16: 2 | Y16: Optional PCIe dGPU | Z16: N/A | AA16: No | AB16: =IF(ISNUMBER(E16),IF(I16>0,IF(AA16="No",E16+(I16*$B$3),E16+(I16*$B$4)),""),"") -> 12073 | AC16: =IF(I16>0,(I16-1)*$B$2,"") -> 264 | AD16: =IF(ISNUMBER(E16),IF(I16>0,AB16/AC16,""),"") -> 45.731061 | AE16: =IF(I16>2,(I16-2)*$B$2,"") -> 252 | AF16: =IF(AND(ISNUMBER(E16),I16>2),AB16/AE16,"") -> 47.90873
B17: 45Homelab | C17: HL15 Beast (ASROCK EPYC 7282) | D17: Available | E17: 3854 | F17: 1 year | G17: Rocky Linux/DIY | H17: Yes | I17: 23 | J17: 0 | K17: AMD EPYC 7282 16C/32T | L17: 16 GB (2x8 GB) | M17: 1024 GB (8x128 GB) | N17: Yes | O17: DDR4-3200 RDIMM | P17: 7 PCIe Gen 4 x16 | Q17: 2 Gen4 x4 | R17: No | S17: VGA BMC | T17: 0 | U17: 0 | V17: 0 | W17: 2 | Y17: Optional PCIe dGPU | Z17: N/A | AA17: No | AB17: =IF(ISNUMBER(E17),IF(I17>0,IF(AA17="No",E17+(I17*$B$3),E17+(I17*$B$4)),""),"") -> 12134 | AC17: =IF(I17>0,(I17-1)*$B$2,"") -> 264 | AD17: =IF(ISNUMBER(E17),IF(I17>0,AB17/AC17,""),"") -> 45.962121 | AE17: =IF(I17>2,(I17-2)*$B$2,"") -> 252 | AF17: =IF(AND(ISNUMBER(E17),I17>2),AB17/AE17,"") -> 48.150794
B18: 45Homelab | C18: HL15 Beast (ASROCK EPYC 7452) | D18: Available | E18: 4090 | F18: 1 year | G18: Rocky Linux/DIY | H18: Yes | I18: 23 | J18: 0 | K18: AMD EPYC 7452 32C/64T | L18: 16 GB (2x8 GB) | M18: 1024 GB (8x128 GB) | N18: Yes | O18: DDR4-3200 RDIMM | P18: 7 PCIe Gen 4 x16 | Q18: 2 Gen4 x4 | R18: No | S18: VGA BMC | T18: 0 | U18: 0 | V18: 0 | W18: 2 | Y18: Optional PCIe dGPU | Z18: N/A | AA18: No | AB18: =IF(ISNUMBER(E18),IF(I18>0,IF(AA18="No",E18+(I18*$B$3),E18+(I18*$B$4)),""),"") -> 12370 | AC18: =IF(I18>0,(I18-1)*$B$2,"") -> 264 | AD18: =IF(ISNUMBER(E18),IF(I18>0,AB18/AC18,""),"") -> 46.856061 | AE18: =IF(I18>2,(I18-2)*$B$2,"") -> 252 | AF18: =IF(AND(ISNUMBER(E18),I18>2),AB18/AE18,"") -> 49.087302
B19: 45Homelab | C19: HL15 Beast (ProArt) | D19: Available | E19: 3726 | F19: 1 year | G19: Rocky Linux/DIY | H19: Yes | I19: 23 | J19: 0 | K19: AMD AMD Ryzen 9 7950X | L19: 32 GB (2x16 GB) | M19: 128 GB (4x32 GB) | N19: No | O19: DDR5-5200 DIMM | P19: 1 Gen 5 x16 (or 2 x8) | Q19: 2 Gen 5 x4 + 2 Gen 4 x4 | R19: 2 USB4/TB3 | S19: HDMI + 2x USB4 DP | T19: 0 | U19: 1 | V19: 0 | W19: 1 | Y19: Optional PCIe dGPU | Z19: N/A | AA19: No | AB19: =IF(ISNUMBER(E19),IF(I19>0,IF(AA19="No",E19+(I19*$B$3),E19+(I19*$B$4)),""),"") -> 12006 | AC19: =IF(I19>0,(I19-1)*$B$2,"") -> 264 | AD19: =IF(ISNUMBER(E19),IF(I19>0,AB19/AC19,""),"") -> 45.477273 | AE19: =IF(I19>2,(I19-2)*$B$2,"") -> 252 | AF19: =IF(AND(ISNUMBER(E19),I19>2),AB19/AE19,"") -> 47.642857
B20: Acemagic | C20: N3A-R2544 | D20: Sold out | E20: 339 | F20: 2 year | G20: DIY | H20: Yes | I20: 4 | J20: 0 | K20: AMD AMD Ryzen Embedded R2544 4C/8T | L20: None (Barebones) | M20: 64GB (3x32 GB) | N20: No | O20: DDR4-3200 SODIMM | P20: No | Q20: 2x Gen 3 x2 | R20: No | S20: HDMI + DP | T20: 1 | U20: 1 | V20: 0 | W20: 0 | Y20: Possible, unsupported | Z20: N/A | AA20: No | AB20: =IF(ISNUMBER(E20),IF(I20>0,IF(AA20="No",E20+(I20*$B$3),E20+(I20*$B$4)),""),"") -> 1779 | AC20: =IF(I20>0,(I20-1)*$B$2,"") -> 36 | AD20: =IF(ISNUMBER(E20),IF(I20>0,AB20/AC20,""),"") -> 49.416667 | AE20: =IF(I20>2,(I20-2)*$B$2,"") -> 24
B21: Acemagic | C21: N3A-3750H | D21: Announced | F21: 2 year | G21: DIY | H21: Yes | I21: 4 | J21: 0 | K21: AMD AMD Ryzen 7 3750H 4C/8T | L21: None (Barebones) | M21: 64GB (3x32 GB) | N21: No | O21: DDR4-2400 SODIMM | P21: No | Q21: 2 | R21: No | S21: HDMI | T21: 1 | U21: 0 | V21: 0 | W21: 0 | Y21: Possible, unsupported | Z21: N/A | AA21: No | AB21: =IF(ISNUMBER(E21),IF(I21>0,IF(AA21="No",E21+(I21*$B$3),E21+(I21*$B$4)),""),"") | AC21: =IF(I21>0,(I21-1)*$B$2,"") -> 36 | AD21: =IF(ISNUMBER(E21),IF(I21>0,AB21/AC21,""),"") | AE21: =IF(I21>2,(I21-2)*$B$2,"") -> 24 | AF21: =IF(AND(ISNUMBER(E21),I21>2),AB21/AE21,"")
B22: Aoostar | C22: R7 5825U Barebones | D22: Available | E22: 289 | F22: 1 year | G22: DIY | H22: Yes | I22: 2 | J22: 0 | K22: AMD Ryzen 7 5825U 8C/16T | L22: None (Barebones) | M22: 32 GB (1x32 GB) | N22: No | O22: DDR4-3200 SODIMM | P22: No | Q22: No | R22: No | S22: HDMI + DP | T22: 0 | U22: 2 | V22: 0 | W22: 0 | Y22: Possible, unsupported | Z22: N/A | AA22: No | AB22: =IF(ISNUMBER(E22),IF(I22>0,IF(AA22="No",E22+(I22*$B$3),E22+(I22*$B$4)),""),"") -> 1009 | AC22: =IF(I22>0,(I22-1)*$B$2,"") -> 12 | AD22: =IF(ISNUMBER(E22),IF(I22>0,AB22/AC22,""),"") -> 84.083333 | AE22: =IF(I22>2,(I22-2)*$B$2,"") | AF22: =IF(AND(ISNUMBER(E22),I22>2),AB22/AE22,"")
B23: Aoostar | C23: WTR PRO 5825U Barebones | D23: Available | E23: 379 | F23: 1 year | G23: DIY | H23: Yes | I23: 4 | J23: 0 | K23: AMD Ryzen 7 5825U 8C/16T | L23: None (Barebones) | M23: 64 GB (2x32 GB) | N23: No | O23: DDR4-3200 SODIMM | P23: No | Q23: 2 | R23: No | S23: HDMI + DP | T23: 0 | U23: 2 | V23: 0 | W23: 0 | Y23: Possible, unsupported | Z23: N/A | AA23: No | AB23: =IF(ISNUMBER(E23),IF(I23>0,IF(AA23="No",E23+(I23*$B$3),E23+(I23*$B$4)),""),"") -> 1819 | AC23: =IF(I23>0,(I23-1)*$B$2,"") -> 36 | AD23: =IF(ISNUMBER(E23),IF(I23>0,AB23/AC23,""),"") -> 50.527778 | AE23: =IF(I23>2,(I23-2)*$B$2,"") -> 24 | AF23: =IF(AND(ISNUMBER(E23),I23>2),AB23/AE23,"") -> 75.791667
B24: Aoostar | C24: WTR MAX 8845 | D24: Available | E24: 659 | F24: 1 year | G24: DIY | H24: Yes | I24: 6 | J24: 0 | K24: AMD Ryzen PRO 8845HS 8C/16T | L24: None (Barebones) | M24: 64 GB (2x32 GB) | N24: Yes | O24: DDR5-5600 SODIMM | P24: OCuLink Gen 4 x4 | Q24: 3 Gen 4 x2, 2 Gen 4 x1 | R24: 1 USB4/TB3 | S24: HDMI + DP | T24: 0 | U24: 2 | V24: 0 | W24: 2 | Y24: Possible, unsupported | Z24: N/A | AA24: No | AB24: =IF(ISNUMBER(E24),IF(I24>0,IF(AA24="No",E24+(I24*$B$3),E24+(I24*$B$4)),""),"") -> 2819 | AC24: =IF(I24>0,(I24-1)*$B$2,"") -> 60 | AD24: =IF(ISNUMBER(E24),IF(I24>0,AB24/AC24,""),"") -> 46.983333 | AE24: =IF(I24>2,(I24-2)*$B$2,"") -> 48 | AF24: =IF(AND(ISNUMBER(E24),I24>2),AB24/AE24,"") -> 58.729167
B25: Aoostar | C25: WTR MAX 8845-48GB ECC | D25: Available | E25: 1145 | F25: 1 year | G25: DIY | H25: Yes | I25: 6 | J25: 0 | K25: AMD Ryzen PRO 8845HS 8C/16T | L25: 48 GB (2x24 GB) | M25: 64 GB (2x32 GB) | N25: Yes | O25: DDR5-5600 SODIMM | P25: OCuLink Gen 4 x4 | Q25: 3 Gen 4 x2, 2 Gen 4 x1 | R25: 1 USB4/TB3 | S25: HDMI + DP | T25: 0 | U25: 2 | V25: 0 | W25: 2 | Y25: Possible, unsupported | Z25: N/A | AA25: No | AB25: =IF(ISNUMBER(E25),IF(I25>0,IF(AA25="No",E25+(I25*$B$3),E25+(I25*$B$4)),""),"") -> 3305 | AC25: =IF(I25>0,(I25-1)*$B$2,"") -> 60 | AD25: =IF(ISNUMBER(E25),IF(I25>0,AB25/AC25,""),"") -> 55.083333 | AE25: =IF(I25>2,(I25-2)*$B$2,"") -> 48 | AF25: =IF(AND(ISNUMBER(E25),I25>2),AB25/AE25,"") -> 68.854167
B26: Aoostar | C26: WTR MAX i5-1235U | D26: Available | E26: 559 | F26: 1 year | G26: DIY | H26: Yes | I26: 6 | J26: 0 | K26: Intel Core i5-1235U 2P+8E | L26: None (Barebones) | M26: 64 GB (2x32 GB) | N26: No | O26: TBD | P26: OCuLink Gen 4 x4 | Q26: 3 Gen 4 x2, 2 Gen 4 x1 | R26: 1 USB4/TB3 | S26: HDMI + DP | T26: 0 | U26: 2 | V26: 0 | W26: 2 | Y26: Possible, unsupported | Z26: N/A | AA26: No | AB26: =IF(ISNUMBER(E26),IF(I26>0,IF(AA26="No",E26+(I26*$B$3),E26+(I26*$B$4)),""),"") -> 2719 | AC26: =IF(I26>0,(I26-1)*$B$2,"") -> 60 | AD26: =IF(ISNUMBER(E26),IF(I26>0,AB26/AC26,""),"") -> 45.316667 | AE26: =IF(I26>2,(I26-2)*$B$2,"") -> 48 | AF26: =IF(AND(ISNUMBER(E26),I26>2),AB26/AE26,"") -> 56.645833
B27: Asustor | C27: AS5402T | D27: Available | E27: 407 | F27: 3 year | G27: ADM | H27: Yes | I27: 2 | J27: 0 | K27: Intel Celeron N5105 4C/4T | L27: 4 GB (1x4 GB) | M27: 16 GB (2x8 GB) | N27: No | O27: DDR4-2933 SODIMM | P27: No | Q27: 4 Gen 3 x1 | R27: No | S27: HDMI 2.0b | T27: 0 | U27: 2 | V27: 0 | W27: 0 | Y27: Level 6 | Z27: 4 | AA27: No | AB27: =IF(ISNUMBER(E27),IF(I27>0,IF(AA27="No",E27+(I27*$B$3),E27+(I27*$B$4)),""),"") -> 1127 | AC27: =IF(I27>0,(I27-1)*$B$2,"") -> 12 | AD27: =IF(ISNUMBER(E27),IF(I27>0,AB27/AC27,""),"") -> 93.916667 | AE27: =IF(I27>2,(I27-2)*$B$2,"") | AF27: =IF(AND(ISNUMBER(E27),I27>2),AB27/AE27,"")
B28: Asustor | C28: LOCKERSTOR 2 Gen2 AS6702T | D28: Available | E28: 444 | F28: 3 year | G28: ADM | H28: Yes | I28: 2 | J28: 0 | K28: Intel Celeron N5105 4C/4T | L28: 4 GB (1x4 GB) | M28: 8 GB (2x4 GB) | N28: No | O28: DDR4-2933 SODIMM | P28: No | Q28: 4 Gen 3 x1 | R28: No | S28: HDMI 2.0b | T28: 0 | U28: 2 | V28: 0 | W28: 0 | Y28: Level 6 | Z28: 4 | AA28: No | AB28: =IF(ISNUMBER(E28),IF(I28>0,IF(AA28="No",E28+(I28*$B$3),E28+(I28*$B$4)),""),"") -> 1164 | AC28: =IF(I28>0,(I28-1)*$B$2,"") -> 12 | AD28: =IF(ISNUMBER(E28),IF(I28>0,AB28/AC28,""),"") -> 97 | AE28: =IF(I28>2,(I28-2)*$B$2,"") | AF28: =IF(AND(ISNUMBER(E28),I28>2),AB28/AE28,"")
B29: Asustor | C29: LOCKERSTOR 2 Gen2+ AS6702T v2 | D29: Available | E29: 517 | F29: 3 year | G29: ADM | H29: Yes | I29: 2 | J29: 0 | K29: Intel Celeron N5105 4C/4T | L29: 4 GB (1x4 GB) | M29: 16 GB (2x8 GB) | N29: No | O29: DDR4-2933 SODIMM | P29: No | Q29: 4 Gen 3 x1 | R29: No | S29: HDMI 2.0b | T29: 0 | U29: 0 | V29: 2 | W29: 0 | Y29: Level 6 | Z29: 4 | AA29: No | AB29: =IF(ISNUMBER(E29),IF(I29>0,IF(AA29="No",E29+(I29*$B$3),E29+(I29*$B$4)),""),"") -> 1237 | AC29: =IF(I29>0,(I29-1)*$B$2,"") -> 12 | AD29: =IF(ISNUMBER(E29),IF(I29>0,AB29/AC29,""),"") -> 103.08333 | AE29: =IF(I29>2,(I29-2)*$B$2,"") | AF29: =IF(AND(ISNUMBER(E29),I29>2),AB29/AE29,"")
B30: Asustor | C30: AS5404T | D30: Available | E30: 583 | F30: 3 year | G30: ADM | H30: Yes | I30: 4 | J30: 0 | K30: Intel Celeron N5105 4C/4T | L30: 4 GB (1x4 GB) | M30: 16 GB (2x8 GB) | N30: No | O30: DDR4-2933 SODIMM | P30: No | Q30: 4 Gen 3 x1 | R30: No | S30: HDMI 2.0b | T30: 0 | U30: 2 | V30: 0 | W30: 0 | Y30: Level 6 | Z30: 4 | AA30: No | AB30: =IF(ISNUMBER(E30),IF(I30>0,IF(AA30="No",E30+(I30*$B$3),E30+(I30*$B$4)),""),"") -> 2023 | AC30: =IF(I30>0,(I30-1)*$B$2,"") -> 36 | AD30: =IF(ISNUMBER(E30),IF(I30>0,AB30/AC30,""),"") -> 56.194444 | AE30: =IF(I30>2,(I30-2)*$B$2,"") -> 24 | AF30: =IF(AND(ISNUMBER(E30),I30>2),AB30/AE30,"") -> 84.291667
B31: Asustor | C31: LOCKERSTOR 4 Gen2 AS6704T | D31: Available | E31: 649 | F31: 3 year | G31: ADM | H31: Yes | I31: 4 | J31: 0 | K31: Intel Celeron N5105 4C/4T | L31: 4 GB (1x4 GB) | M31: 8 GB (2x4 GB) | N31: No | O31: DDR4-2933 SODIMM | P31: No | Q31: 4 Gen 3 x1 | R31: No | S31: HDMI 2.0b | T31: 0 | U31: 2 | V31: 0 | W31: 0 | Y31: Level 6 | Z31: 4 | AA31: No | AB31: =IF(ISNUMBER(E31),IF(I31>0,IF(AA31="No",E31+(I31*$B$3),E31+(I31*$B$4)),""),"") -> 2089 | AC31: =IF(I31>0,(I31-1)*$B$2,"") -> 36 | AD31: =IF(ISNUMBER(E31),IF(I31>0,AB31/AC31,""),"") -> 58.027778 | AE31: =IF(I31>2,(I31-2)*$B$2,"") -> 24 | AF31: =IF(AND(ISNUMBER(E31),I31>2),AB31/AE31,"") -> 87.041667
B32: Asustor | C32: LOCKERSTOR 4 Gen2+ AS6704T v2 | D32: Available | E32: 682 | F32: 3 year | G32: ADM | H32: Yes | I32: 4 | J32: 0 | K32: Intel Celeron N5105 4C/4T | L32: 4 GB (1x4 GB) | M32: 16 GB (2x8 GB) | N32: No | O32: DDR4-2933 SODIMM | P32: No | Q32: 4 Gen 3 x1 | R32: No | S32: HDMI 2.0b | T32: 0 | U32: 0 | V32: 2 | W32: 0 | Y32: Level 6 | Z32: 4 | AA32: No | AB32: =IF(ISNUMBER(E32),IF(I32>0,IF(AA32="No",E32+(I32*$B$3),E32+(I32*$B$4)),""),"") -> 2122 | AC32: =IF(I32>0,(I32-1)*$B$2,"") -> 36 | AD32: =IF(ISNUMBER(E32),IF(I32>0,AB32/AC32,""),"") -> 58.944444 | AE32: =IF(I32>2,(I32-2)*$B$2,"") -> 24 | AF32: =IF(AND(ISNUMBER(E32),I32>2),AB32/AE32,"") -> 88.416667
B33: Asustor | C33: LOCKERSTOR 4 Gen3 AS6804T | D33: Available | E33: 1320 | F33: 3 year | G33: ADM | H33: No | I33: 4 | J33: 0 | K33: AMD V3C14 4C/8T | L33: 16 GB (1x16 GB) | M33: 64 GB (2x32 GB) | N33: Yes | O33: DDR5-4800 SODIMM | P33: 1 Gen 4 x4 | Q33: 4 Gen 4 x1 | R33: 2 USB4/TB3 | S33: No | T33: 0 | U33: 2 | V33: 0 | W33: 2 | Y33: No | Z33: 4 | AA33: No | AB33: =IF(ISNUMBER(E33),IF(I33>0,IF(AA33="No",E33+(I33*$B$3),E33+(I33*$B$4)),""),"") -> 2760 | AC33: =IF(I33>0,(I33-1)*$B$2,"") -> 36 | AD33: =IF(ISNUMBER(E33),IF(I33>0,AB33/AC33,""),"") -> 76.666667 | AE33: =IF(I33>2,(I33-2)*$B$2,"") -> 24 | AF33: =IF(AND(ISNUMBER(E33),I33>2),AB33/AE33,"") -> 115
B34: Asustor | C34: LOCKERSTOR 6 Gen2+ AS6706T v2 | D34: Available | E34: 902 | F34: 3 year | G34: ADM | H34: Yes | I34: 6 | J34: 0 | K34: Intel Celeron N5105 4C/4T | L34: 4 GB (1x4 GB) | M34: 8 GB (2x4 GB) | N34: No | O34: DDR4-2933 SODIMM | P34: No | Q34: 4 Gen 3 x1 | R34: No | S34: HDMI 2.0b | T34: 0 | U34: 0 | V34: 2 | W34: 0 | Y34: Level 6 | Z34: 4 | AA34: No | AB34: =IF(ISNUMBER(E34),IF(I34>0,IF(AA34="No",E34+(I34*$B$3),E34+(I34*$B$4)),""),"") -> 3062 | AC34: =IF(I34>0,(I34-1)*$B$2,"") -> 60 | AD34: =IF(ISNUMBER(E34),IF(I34>0,AB34/AC34,""),"") -> 51.033333 | AE34: =IF(I34>2,(I34-2)*$B$2,"") -> 48 | AF34: =IF(AND(ISNUMBER(E34),I34>2),AB34/AE34,"") -> 63.791667
B35: Asustor | C35: LOCKERSTOR 6 Gen3 AS6806T | D35: Available | E35: 1540 | F35: 3 year | G35: ADM | H35: No | I35: 6 | J35: 0 | K35: AMD V3C14 4C/8T | L35: 16 GB (1x16 GB) | M35: 64 GB (2x32 GB) | N35: Yes | O35: DDR5-4800 SODIMM | P35: 1 Gen 4 x4 | Q35: 4 Gen 4 x1 | R35: 2 USB4/TB3 | S35: No | T35: 0 | U35: 2 | V35: 0 | W35: 2 | Y35: No | Z35: 4 | AA35: No | AB35: =IF(ISNUMBER(E35),IF(I35>0,IF(AA35="No",E35+(I35*$B$3),E35+(I35*$B$4)),""),"") -> 3700 | AC35: =IF(I35>0,(I35-1)*$B$2,"") -> 60 | AD35: =IF(ISNUMBER(E35),IF(I35>0,AB35/AC35,""),"") -> 61.666667 | AE35: =IF(I35>2,(I35-2)*$B$2,"") -> 48 | AF35: =IF(AND(ISNUMBER(E35),I35>2),AB35/AE35,"") -> 77.083333
B36: Asustor | C36: LOCKERSTOR 8 AS6508T | D36: Available | E36: 984 | F36: 3 year | G36: ADM | H36: No | I36: 8 | J36: 0 | K36: Intel Atom C3538 4C/4T | L36: 8 GB (1x8 GB) | M36: 64 GB (2x32 GB) | N36: No | O36: DDR4-2133 SODIMM | P36: No | Q36: 4 Gen 3 x1 | R36: No | S36: No | T36: 0 | U36: 2 | V36: 0 | W36: 2 | Y36: No | Z36: 4 | AA36: No | AB36: =IF(ISNUMBER(E36),IF(I36>0,IF(AA36="No",E36+(I36*$B$3),E36+(I36*$B$4)),""),"") -> 3864 | AC36: =IF(I36>0,(I36-1)*$B$2,"") -> 84 | AD36: =IF(ISNUMBER(E36),IF(I36>0,AB36/AC36,""),"") -> 46 | AE36: =IF(I36>2,(I36-2)*$B$2,"") -> 72 | AF36: =IF(AND(ISNUMBER(E36),I36>2),AB36/AE36,"") -> 53.666667
B37: Asustor | C37: LOCKERSTOR 8 Gen3 AS6808T | D37: Available | E37: 1760 | F37: 3 year | G37: ADM | H37: No | I37: 8 | J37: 0 | K37: AMD V3C14 4C/8T | L37: 16 GB (1x16 GB) | M37: 64 GB (2x32 GB) | N37: Yes | O37: DDR5-4800 SODIMM | P37: 1 Gen 4 x4 | Q37: 4 Gen 4 x1 | R37: 2 USB4/TB3 | S37: No | T37: 0 | U37: 2 | V37: 0 | W37: 2 | Y37: No | Z37: 4 | AA37: No | AB37: =IF(ISNUMBER(E37),IF(I37>0,IF(AA37="No",E37+(I37*$B$3),E37+(I37*$B$4)),""),"") -> 4640 | AC37: =IF(I37>0,(I37-1)*$B$2,"") -> 84 | AD37: =IF(ISNUMBER(E37),IF(I37>0,AB37/AC37,""),"") -> 55.238095 | AE37: =IF(I37>2,(I37-2)*$B$2,"") -> 72 | AF37: =IF(AND(ISNUMBER(E37),I37>2),AB37/AE37,"") -> 64.444444
B38: Asustor | C38: LOCKERSTOR AS6510T | D38: Available | E38: 1342 | F38: 3 year | G38: ADM | H38: No | I38: 10 | J38: 0 | K38: Intel Atom C3538 4C/4T | L38: 8 GB (1x8 GB) | M38: 64 GB (2x32 GB) | N38: No | O38: DDR4-2133 SODIMM | P38: No | Q38: 4 Gen 3 x1 | R38: No | S38: No | T38: 0 | U38: 2 | V38: 0 | W38: 2 | Y38: No | Z38: 4 | AA38: No | AB38: =IF(ISNUMBER(E38),IF(I38>0,IF(AA38="No",E38+(I38*$B$3),E38+(I38*$B$4)),""),"") -> 4942 | AC38: =IF(I38>0,(I38-1)*$B$2,"") -> 108 | AD38: =IF(ISNUMBER(E38),IF(I38>0,AB38/AC38,""),"") -> 45.759259 | AE38: =IF(I38>2,(I38-2)*$B$2,"") -> 96 | AF38: =IF(AND(ISNUMBER(E38),I38>2),AB38/AE38,"") -> 51.479167
... B40: Asustor | C40: LOCKERSTOR 10 Pro AS7110T | D40: Available | E40: 2400 | F40: 5 year | G40: ADM | H40: No | I40: 10 | J40: 0 | K40: Intel Xeon E-2224 4C/4T | L40: 8 GB (1x8 GB) | M40: 64 GB (2x32 GB) | N40: Yes | O40: DDR4-3200 SODIMM | P40: No | Q40: 2 Gen 3 x4 | R40: No | S40: No | T40: 0 | U40: 3 | V40: 0 | W40: 1 | Y40: No | Z40: 4 | AA40: No | AB40: =IF(ISNUMBER(E40),IF(I40>0,IF(AA40="No",E40+(I40*$B$3),E40+(I40*$B$4)),""),"") -> 6000 | AC40: =IF(I40>0,(I40-1)*$B$2,"") -> 108 | AD40: =IF(ISNUMBER(E40),IF(I40>0,AB40/AC40,""),"") -> 55.555556 | AE40: =IF(I40>2,(I40-2)*$B$2,"") -> 96 | AF40: =IF(AND(ISNUMBER(E40),I40>2),AB40/AE40,"") -> 62.5
B41: Beelink | C41: ME Pro J5005 2-Bay | D41: Announced | E41: 299 | F41: 1 year | G41: Win11 Home/DIY | H41: Yes | I41: 2 | J41: 0 | K41: Intel Pentium Silver J5005 4C/4T | L41: 8 GB (2x4 GB) | M41: 8 GB (2x4 GB) | N41: No | O41: DDR4-2400 SODIMM | P41: No | Q41: 2 | R41: No | S41: HDMI | T41: 0 | U41: 1 | V41: 0 | W41: 0 | Y41: Level 6 | Z41: N/A | AA41: No | AB41: =IF(ISNUMBER(E41),IF(I41>0,IF(AA41="No",E41+(I41*$B$3),E41+(I41*$B$4)),""),"") -> 1019 | AC41: =IF(I41>0,(I41-1)*$B$2,"") -> 12 | AD41: =IF(ISNUMBER(E41),IF(I41>0,AB41/AC41,""),"") -> 84.916667 | AE41: =IF(I41>2,(I41-2)*$B$2,"") | AF41: =IF(AND(ISNUMBER(E41),I41>2),AB41/AE41,"")
B42: Beelink | C42: ME Pro N95 2-Bay | D42: Available | E42: 379 | F42: 1 year | G42: Win11 Home/DIY | H42: Yes | I42: 2 | J42: 0 | K42: Intel N95 4C/4T | L42: 16 GB (onboard) | M42: 16 GB (onboard) | N42: No | O42: Onboard LPDDR5-4800 | P42: No | Q42: 1 Gen 3 x2; 1 Gen 3 x1 | R42: No | S42: HDMI | T42: 0 | U42: 1 | V42: 1 | W42: 0 | Y42: Probable Level 6 | Z42: N/A | AA42: No | AB42: =IF(ISNUMBER(E42),IF(I42>0,IF(AA42="No",E42+(I42*$B$3),E42+(I42*$B$4)),""),"") -> 1099 | AC42: =IF(I42>0,(I42-1)*$B$2,"") -> 12 | AD42: =IF(ISNUMBER(E42),IF(I42>0,AB42/AC42,""),"") -> 91.583333 | AE42: =IF(I42>2,(I42-2)*$B$2,"") | AF42: =IF(AND(ISNUMBER(E42),I42>2),AB42/AE42,"")
...

Sheet Feature Comparison
B1: Category | C1: Feature | D1: Asustor ADM | E1: QNAP QTS | F1: QNAP QuTS Hero | G1: Synology DSM x86 | H1: TerraMaster TOS | I1: WD My Cloud OS
B2: File Systems and Caching | C2: File System(s) Supported | D2: EXT4 or fault-tolerant BTRFS | E2: EXT4 | F2: Fault-tolerant ZFS | G2: EXT4 or fault-tolerant BTRFS | H2: EXT4 or fault-tolerant BTRFS | I2: EXT4
C3: SSD Caching | D3: Read/Write | E3: Read/Write | F3: Read Only for data (but can be used for ZFS L2ARC) | G3: Read/Write | H3: Read/Write | I3: No
C4: SSD Auto Storage Tiering | D4: No | E4: Yes, Qtier | F4: No | G4: No | H4: No | I4: No
C5: NVMe Storage Pool Support | D5: Yes | E5: Yes | F5: Yes | G5: Only on DS1823xs+, DS923+, DS723+, DS423+, DS1522+, DS1821+, DS1621xs+, DS1621+ | H5: Yes | I5: N/A
B6: Surveillance | C6: Surveillance System | D6: Yes, Asustor Surveillance Center on 5400 or above models only | E6: Yes, QNAP Surveillance Station or QVR Pro (different licensing models, licenses do not transfer between the two) | F6: Yes, QNAP Surveillance Station or QVR Pro (different licensing models, licenses do not transfer between the two) | G6: Yes, Synology Surveillance Station | H6: No | I6: No
C7: Surveillance camera license cost after built-in licenses are consumed | D7: $45 / 4 for $170 | E7: QVR Pro $69 | F7: QVR Pro $69 | G7: $59 / 4 for $209 | H7: N/A | I7: N/A
C8: Surveillance camera licenses are transferable to a new model NAS from the same vendor (not including built-in licenses) | D8: Yes | E8: Yes, but they must be registered to a QNAP ID to become transferable and may only be transferred to devices registered to the same QNAP ID account | F8: Yes, but they must be registered to a QNAP ID to become transferable and may only be transferred to devices registered to the same QNAP ID account | G8: Yes | H8: N/A | I8: N/A
B9: Backup | C9: File-level client PC backup | D9: Yes, Asustor Backup Plan | E9: Yes, QNAP Qsync | F9: Yes, QNAP Qsync | G9: Yes, Synology Drive | H9: Yes, TerraMaster Centralized Backup | I9: Available free license for Acronis True Image
C10: Block-level client PC disaster recovery backup | D10: No | E10: No | F10: No | G10: Yes, Synology Active Backup for Business (4GB+ RAM required) | H10: Yes, TerraMaster Centralized Backup | I10: Available free license for Acronis True Image
C11: Office 365 Backup | D11: No | E11: Yes, QNAP Boxafe | F11: Yes, QNAP Boxafe | G11: Yes, Synology Active Backup for Office 365 | H11: No | I11: No
C12: Google Workspace / G-Suite Backup | D12: No | E12: Yes, QNAP Boxafe | F12: Yes, QNAP Boxafe | G12: Yes, Synology Active Backup for Google Workspace | H12: No | I12: No
C13: Hyper-V/VMWare Backup | D13: No (third-party apps available in app store) | E13: Yes, QNAP Hyper Data Protector | F13: Yes, QNAP Hyper Data Protector | G13: Yes, Synology Active Backup for Business (4GB+ RAM required) | H13: Yes, TerraMaster Centralized Backup | I13: No
B14: Docker & VM | C14: Docker Support | D14: Yes | E14: Yes | F14: Yes | G14: Yes | H14: Yes | I14: No
C15: Virtual Machine Support | D15: Yes, using third-party app Virtualbox | E15: Yes | F15: Yes | G15: Yes | H15: Yes | I15: No
B16: Networking | C16: SMB Multichannel Support | D16: Yes | E16: Yes | F16: Yes | G16: Yes | H16: Not available via the GUI but unsupported parameters available in SMB advanced settings | I16: No
C17: Microsoft Active Directory support | D17: Yes, member | E17: Yes, domain controller or member | F17: Yes, domain controller or member | G17: Yes, domain controller or member | H17: Yes, member | I17: No
B18: Miscellaneous | C18: Standard BIOS allows installing alternative OS (note that support for fan speed control, and for front-panel displays, when applicable, is not available) | D18: Yes | E18: Yes | F18: Yes | G18: No | H18: Yes | I18: No
C19: GPU Support in PCIe slot (when equipped) including VM pass-through and transcoding | D19: No | E19: Yes | F19: Yes | G19: No | H19: No | I19: No

Sheet Notes
B2: IMPORTANT NOTES
B4: Current Models: Models which are listed as current on the manufacturer's web site, but are listed by US retailers as discontinued, are not included.
B6: Expansion Enclosures: Expansion enclosure capability is not addressed, because A) most people don't use expansions, and B) most expansions are 6Gbps SATA which is not 10GbE capable
B8: Synology Drive Requirements: Synology models which are listed as not requiring first-party HAT5300 3.5" HDDs may still only certify those drives in certain capacities, e.g. 18 TB. But the Plus models at 8 bays or less currently do not disable features with non-certified drives so they should work fine. However, if you are an SMB and want to stick to certified drives, check the compatiblity list for the particular model and either decrease the capacity of your desired third-party drive to one that is on the list, or use the higher-priced HAT5300.
B10: 18 TB Max on Synology: Related to the note above, the largest capacity currently certified by Synology across all models is 18 TB
B12: Client Backup: Synology's "killer feature" is Active Backup for Business, which does disaster-recovery block-level backup and restore of clients and servers. If you need this kind of feature on QNAP you'll need to factor in a license for Macrium or Veeam since QNAP only backs up files, it does not do block-level images of drives.

Sheet Raw data for WordPress
A1: ='Hardware Comparison'!B6 -> Make | B1: ='Hardware Comparison'!C6 -> Model | C1: ='Hardware Comparison'!D6 -> Availability | D1: ='Hardware Comparison'!E6 -> MSRP | E1: ='Hardware Comparison'!F6 -> Warranty | F1: ='Hardware Comparison'!G6 -> OS | G1: ='Hardware Comparison'!H6 -> Third-Party OS | H1: ='Hardware Comparison'!I6 -> 3.5 Bays | ... Z1: ='Hardware Comparison'!AA6 -> First-Party Drives Required?
A2: 45Homelab | B2: HL4 (5500GT) | C2: Available | D2: 1599 | E2: 1 year | F2: Rocky Linux/DIY | G2: Yes | H2: 4 | I2: 0 | J2: AMD Ryzen 5500GT 6C/12T | K2: 16 GB (2x8 GB) | L2: 64 GB (2x32 GB) | M2: No | N2: DDR4-3200 DIMM | O2: 1 Gen 4 x16 | P2: 2 | Q2: No | R2: HDMI + DP | S2: 0 | T2: 1 | U2: 0 | V2: 0 | X2: Optional PCIe dGPU | Y2: N/A | Z2: No
A3: 45Homelab | B3: HL4 (5700G) | C3: Available | D3: 1725 | E3: 1 year | F3: Rocky Linux/DIY | G3: Yes | H3: 4 | I3: 0 | J3: AMD Ryzen 5700G 8C/16T | K3: 16 GB (2x8 GB) | L3: 64 GB (2x32 GB) | M3: No | N3: DDR4-3200 DIMM | O3: 1 Gen 4 x16 | P3: 2 | Q3: No | R3: HDMI + DP | S3: 0 | T3: 1 | U3: 0 | V3: 0 | X3: Optional PCIe dGPU | Y3: N/A | Z3: No
A4: 45Homelab | B4: HL8 (5500GT) | C4: Available | D4: 1677 | E4: 1 year | F4: Rocky Linux/DIY | G4: Yes | H4: 8 | I4: 0 | J4: AMD Ryzen 5500GT 6C/12T | K4: 16 GB (2x8 GB) | L4: 64 GB (2x32 GB) | M4: No | N4: DDR4-3200 DIMM | O4: 1 Gen 4 x16 | P4: 2 | Q4: No | R4: HDMI + DP | S4: 0 | T4: 1 | U4: 0 | V4: 0 | X4: Optional PCIe dGPU | Y4: N/A | Z4: No
A5: 45Homelab | B5: HL8 (5700G) | C5: Available | D5: 1803 | E5: 1 year | F5: Rocky Linux/DIY | G5: Yes | H5: 8 | I5: 0 | J5: AMD Ryzen 5700G 8C/16T | K5: 16 GB (2x8 GB) | L5: 64 GB (2x32 GB) | M5: No | N5: DDR4-3200 DIMM | O5: 1 Gen 4 x16 | P5: 2 | Q5: No | R5: HDMI + DP | S5: 0 | T5: 1 | U5: 0 | V5: 0 | X5: Optional PCIe dGPU | Y5: N/A | Z5: No
A6: 45Homelab | B6: HL15 2.0 (EPYC 7252) | C6: Available | D6: 2920 | E6: 1 year | F6: Rocky Linux/DIY | G6: Yes | H6: 15 | I6: 0 | J6: AMD EPYC 7252 8C/16T | K6: 16 GB (2x8 GB) | L6: 512 GB (8x64 GB) | M6: Yes | N6: DDR4-3200 RDIMM | O6: 7 PCIe Gen 4 x16 | P6: 2 Gen4 x4 | Q6: No | R6: VGA BMC | S6: 0 | T6: 0 | U6: 0 | V6: 2 | X6: Optional PCIe dGPU | Y6: N/A | Z6: No
A7: 45Homelab | B7: HL15 2.0 (EPYC 7272) | C7: Available | D7: 3294 | E7: 1 year | F7: Rocky Linux/DIY | G7: Yes | H7: 15 | I7: 0 | J7: AMD EPYC 7272 12C/24T | K7: 16 GB (2x8 GB) | L7: 512 GB (8x64 GB) | M7: Yes | N7: DDR4-3200 RDIMM | O7: 7 PCIe Gen 4 x16 | P7: 2 Gen4 x4 | Q7: No | R7: VGA BMC | S7: 0 | T7: 0 | U7: 0 | V7: 2 | X7: Optional PCIe dGPU | Y7: N/A | Z7: No
A8: 45Homelab | B8: HL15 2.0 (EPYC 7282) | C8: Available | D8: 3355 | E8: 1 year | F8: Rocky Linux/DIY | G8: Yes | H8: 15 | I8: 0 | J8: AMD EPYC 7282 16C/32T | K8: 16 GB (2x8 GB) | L8: 512 GB (8x64 GB) | M8: Yes | N8: DDR4-3200 RDIMM | O8: 7 PCIe Gen 4 x16 | P8: 2 Gen4 x4 | Q8: No | R8: VGA BMC | S8: 0 | T8: 0 | U8: 0 | V8: 2 | X8: Optional PCIe dGPU | Y8: N/A | Z8: No
A9: 45Homelab | B9: HL15 2.0 (EPYC 7452) | C9: Available | D9: 3591 | E9: 1 year | F9: Rocky Linux/DIY | G9: Yes | H9: 15 | I9: 0 | J9: AMD EPYC 7452 32C/64T | K9: 16 GB (2x8 GB) | L9: 512 GB (8x64 GB) | M9: Yes | N9: DDR4-3200 RDIMM | O9: 7 PCIe Gen 4 x16 | P9: 2 Gen4 x4 | Q9: No | R9: VGA BMC | S9: 0 | T9: 0 | U9: 0 | V9: 2 | X9: Optional PCIe dGPU | Y9: N/A | Z9: No
A10: 45Homelab | B10: HL15 Beast (ASROCK EPYC 7252) | C10: Available | D10: 3419 | E10: 1 year | F10: Rocky Linux/DIY | G10: Yes | H10: 23 | I10: 0 | J10: AMD EPYC 7252 8C/16T | K10: 16 GB (2x8 GB) | L10: 1024 GB (8x128 GB) | M10: Yes | N10: DDR4-3200 RDIMM | O10: 7 PCIe Gen 4 x16 | P10: 2 Gen4 x4 | Q10: No | R10: VGA BMC | S10: 0 | T10: 0 | U10: 0 | V10: 2 | X10: Optional PCIe dGPU | Y10: N/A | Z10: No
A11: 45Homelab | B11: HL15 Beast (ASROCK EPYC 7272) | C11: Available | D11: 3793 | E11: 1 year | F11: Rocky Linux/DIY | G11: Yes | H11: 23 | I11: 0 | J11: AMD EPYC 7272 12C/24T | K11: 16 GB (2x8 GB) | L11: 1024 GB (8x128 GB) | M11: Yes | N11: DDR4-3200 RDIMM | O11: 7 PCIe Gen 4 x16 | P11: 2 Gen4 x4 | Q11: No | R11: VGA BMC | S11: 0 | T11: 0 | U11: 0 | V11: 2 | X11: Optional PCIe dGPU | Y11: N/A | Z11: No
A12: 45Homelab | B12: HL15 Beast (ASROCK EPYC 7282) | C12: Available | D12: 3854 | E12: 1 year | F12: Rocky Linux/DIY | G12: Yes | H12: 23 | I12: 0 | J12: AMD EPYC 7282 16C/32T | K12: 16 GB (2x8 GB) | L12: 1024 GB (8x128 GB) | M12: Yes | N12: DDR4-3200 RDIMM | O12: 7 PCIe Gen 4 x16 | P12: 2 Gen4 x4 | Q12: No | R12: VGA BMC | S12: 0 | T12: 0 | U12: 0 | V12: 2 | X12: Optional PCIe dGPU | Y12: N/A | Z12: No
A13: 45Homelab | B13: HL15 Beast (ASROCK EPYC 7452) | C13: Available | D13: 4090 | E13: 1 year | F13: Rocky Linux/DIY | G13: Yes | H13: 23 | I13: 0 | J13: AMD EPYC 7452 32C/64T | K13: 16 GB (2x8 GB) | L13: 1024 GB (8x128 GB) | M13: Yes | N13: DDR4-3200 RDIMM | O13: 7 PCIe Gen 4 x16 | P13: 2 Gen4 x4 | Q13: No | R13: VGA BMC | S13: 0 | T13: 0 | U13: 0 | V13: 2 | X13: Optional PCIe dGPU | Y13: N/A | Z13: No
A14: 45Homelab | B14: HL15 Beast (ProArt) | C14: Available | D14: 3726 | E14: 1 year | F14: Rocky Linux/DIY | G14: Yes | H14: 23 | I14: 0 | J14: AMD AMD Ryzen 9 7950X | K14: 32 GB (2x16 GB) | L14: 128 GB (4x32 GB) | M14: No | N14: DDR5-5200 DIMM | O14: 1 Gen 5 x16 (or 2 x8) | P14: 2 Gen 5 x4 + 2 Gen 4 x4 | Q14: 2 USB4/TB3 | R14: HDMI + 2x USB4 DP | S14: 0 | T14: 1 | U14: 0 | V14: 1 | X14: Optional PCIe dGPU | Y14: N/A | Z14: No
A15: Acemagic | B15: N3A-R2544 | C15: Sold out | D15: 339 | E15: 2 year | F15: DIY | G15: Yes | H15: 4 | I15: 0 | J15: AMD AMD Ryzen Embedded R2544 4C/8T | K15: None (Barebones) | L15: 64GB (3x32 GB) | M15: No | N15: DDR4-3200 SODIMM | O15: No | P15: 2x Gen 3 x2 | Q15: No | R15: HDMI + DP | S15: 1 | T15: 1 | U15: 0 | V15: 0 | X15: Possible, unsupported | Y15: N/A | Z15: No
A16: Acemagic | B16: N3A-3750H | C16: Announced | E16: 2 year | F16: DIY | G16: Yes | H16: 4 | I16: 0 | J16: AMD AMD Ryzen 7 3750H 4C/8T | K16: None (Barebones) | L16: 64GB (3x32 GB) | M16: No | N16: DDR4-2400 SODIMM | O16: No | P16: 2 | Q16: No | R16: HDMI | S16: 1 | T16: 0 | U16: 0 | V16: 0 | X16: Possible, unsupported | Y16: N/A | Z16: No
A17: Aoostar | B17: R7 5825U Barebones | C17: Available | D17: 289 | E17: 1 year | F17: DIY | G17: Yes | H17: 2 | I17: 0 | J17: AMD Ryzen 7 5825U 8C/16T | K17: None (Barebones) | L17: 32 GB (1x32 GB) | M17: No | N17: DDR4-3200 SODIMM | O17: No | P17: No | Q17: No | R17: HDMI + DP | S17: 0 | T17: 2 | U17: 0 | V17: 0 | X17: Possible, unsupported | Y17: N/A | Z17: No
A18: Aoostar | B18: WTR PRO 5825U Barebones | C18: Available | D18: 379 | E18: 1 year | F18: DIY | G18: Yes | H18: 4 | I18: 0 | J18: AMD Ryzen 7 5825U 8C/16T | K18: None (Barebones) | L18: 64 GB (2x32 GB) | M18: No | N18: DDR4-3200 SODIMM | O18: No | P18: 2 | Q18: No | R18: HDMI + DP | S18: 0 | T18: 2 | U18: 0 | V18: 0 | X18: Possible, unsupported | Y18: N/A | Z18: No
A19: Aoostar | B19: WTR MAX 8845 | C19: Available | D19: 659 | E19: 1 year | F19: DIY | G19: Yes | H19: 6 | I19: 0 | J19: AMD Ryzen PRO 8845HS 8C/16T | K19: None (Barebones) | L19: 64 GB (2x32 GB) | M19: Yes | N19: DDR5-5600 SODIMM | O19: OCuLink Gen 4 x4 | P19: 3 Gen 4 x2, 2 Gen 4 x1 | Q19: 1 USB4/TB3 | R19: HDMI + DP | S19: 0 | T19: 2 | U19: 0 | V19: 2 | X19: Possible, unsupported | Y19: N/A | Z19: No
A20: Aoostar | B20: WTR MAX 8845-48GB ECC | C20: Available | D20: 1145 | E20: 1 year | F20: DIY | G20: Yes | H20: 6 | I20: 0 | J20: AMD Ryzen PRO 8845HS 8C/16T | K20: 48 GB (2x24 GB) | L20: 64 GB (2x32 GB) | M20: Yes | N20: DDR5-5600 SODIMM | O20: OCuLink Gen 4 x4 | P20: 3 Gen 4 x2, 2 Gen 4 x1 | Q20: 1 USB4/TB3 | R20: HDMI + DP | S20: 0 | T20: 2 | U20: 0 | V20: 2 | X20: Possible, unsupported | Y20: N/A | Z20: No
A21: Aoostar | B21: WTR MAX i5-1235U | C21: Available | D21: 559 | E21: 1 year | F21: DIY | G21: Yes | H21: 6 | I21: 0 | J21: Intel Core i5-1235U 2P+8E | K21: None (Barebones) | L21: 64 GB (2x32 GB) | M21: No | N21: TBD | O21: OCuLink Gen 4 x4 | P21: 3 Gen 4 x2, 2 Gen 4 x1 | Q21: 1 USB4/TB3 | R21: HDMI + DP | S21: 0 | T21: 2 | U21: 0 | V21: 2 | X21: Possible, unsupported | Y21: N/A | Z21: No
A22: Asustor | B22: AS5402T | C22: Available | D22: 407 | E22: 3 year | F22: ADM | G22: Yes | H22: 2 | I22: 0 | J22: Intel Celeron N5105 4C/4T | K22: 4 GB (1x4 GB) | L22: 16 GB (2x8 GB) | M22: No | N22: DDR4-2933 SODIMM | O22: No | P22: 4 Gen 3 x1 | Q22: No | R22: HDMI 2.0b | S22: 0 | T22: 2 | U22: 0 | V22: 0 | X22: Level 6 | Y22: 4 | Z22: No
A23: Asustor | B23: LOCKERSTOR 2 Gen2 AS6702T | C23: Available | D23: 444 | E23: 3 year | F23: ADM | G23: Yes | H23: 2 | I23: 0 | J23: Intel Celeron N5105 4C/4T | K23: 4 GB (1x4 GB) | L23: 8 GB (2x4 GB) | M23: No | N23: DDR4-2933 SODIMM | O23: No | P23: 4 Gen 3 x1 | Q23: No | R23: HDMI 2.0b | S23: 0 | T23: 2 | U23: 0 | V23: 0 | X23: Level 6 | Y23: 4 | Z23: No
A24: Asustor | B24: LOCKERSTOR 2 Gen2+ AS6702T v2 | C24: Available | D24: 517 | E24: 3 year | F24: ADM | G24: Yes | H24: 2 | I24: 0 | J24: Intel Celeron N5105 4C/4T | K24: 4 GB (1x4 GB) | L24: 16 GB (2x8 GB) | M24: No | N24: DDR4-2933 SODIMM | O24: No | P24: 4 Gen 3 x1 | Q24: No | R24: HDMI 2.0b | S24: 0 | T24: 0 | U24: 2 | V24: 0 | X24: Level 6 | Y24: 4 | Z24: No
A25: Asustor | B25: AS5404T | C25: Available | D25: 583 | E25: 3 year | F25: ADM | G25: Yes | H25: 4 | I25: 0 | J25: Intel Celeron N5105 4C/4T | K25: 4 GB (1x4 GB) | L25: 16 GB (2x8 GB) | M25: No | N25: DDR4-2933 SODIMM | O25: No | P25: 4 Gen 3 x1 | Q25: No | R25: HDMI 2.0b | S25: 0 | T25: 2 | U25: 0 | V25: 0 | X25: Level 6 | Y25: 4 | Z25: No
A26: Asustor | B26: LOCKERSTOR 4 Gen2 AS6704T | C26: Available | D26: 649 | E26: 3 year | F26: ADM | G26: Yes | H26: 4 | I26: 0 | J26: Intel Celeron N5105 4C/4T | K26: 4 GB (1x4 GB) | L26: 8 GB (2x4 GB) | M26: No | N26: DDR4-2933 SODIMM | O26: No | P26: 4 Gen 3 x1 | Q26: No | R26: HDMI 2.0b | S26: 0 | T26: 2 | U26: 0 | V26: 0 | X26: Level 6 | Y26: 4 | Z26: No
A27: Asustor | B27: LOCKERSTOR 4 Gen2+ AS6704T v2 | C27: Available | D27: 682 | E27: 3 year | F27: ADM | G27: Yes | H27: 4 | I27: 0 | J27: Intel Celeron N5105 4C/4T | K27: 4 GB (1x4 GB) | L27: 16 GB (2x8 GB) | M27: No | N27: DDR4-2933 SODIMM | O27: No | P27: 4 Gen 3 x1 | Q27: No | R27: HDMI 2.0b | S27: 0 | T27: 0 | U27: 2 | V27: 0 | X27: Level 6 | Y27: 4 | Z27: No
A28: Asustor | B28: LOCKERSTOR 4 Gen3 AS6804T | C28: Available | D28: 1320 | E28: 3 year | F28: ADM | G28: No | H28: 4 | I28: 0 | J28: AMD V3C14 4C/8T | K28: 16 GB (1x16 GB) | L28: 64 GB (2x32 GB) | M28: Yes | N28: DDR5-4800 SODIMM | O28: 1 Gen 4 x4 | P28: 4 Gen 4 x1 | Q28: 2 USB4/TB3 | R28: No | S28: 0 | T28: 2 | U28: 0 | V28: 2 | X28: No | Y28: 4 | Z28: No
A29: Asustor | B29: LOCKERSTOR 6 Gen2+ AS6706T v2 | C29: Available | D29: 902 | E29: 3 year | F29: ADM | G29: Yes | H29: 6 | I29: 0 | J29: Intel Celeron N5105 4C/4T | K29: 4 GB (1x4 GB) | L29: 8 GB (2x4 GB) | M29: No | N29: DDR4-2933 SODIMM | O29: No | P29: 4 Gen 3 x1 | Q29: No | R29: HDMI 2.0b | S29: 0 | T29: 0 | U29: 2 | V29: 0 | X29: Level 6 | Y29: 4 | Z29: No
A30: Asustor | B30: LOCKERSTOR 6 Gen3 AS6806T | C30: Available | D30: 1540 | E30: 3 year | F30: ADM | G30: No | H30: 6 | I30: 0 | J30: AMD V3C14 4C/8T | K30: 16 GB (1x16 GB) | L30: 64 GB (2x32 GB) | M30: Yes | N30: DDR5-4800 SODIMM | O30: 1 Gen 4 x4 | P30: 4 Gen 4 x1 | Q30: 2 USB4/TB3 | R30: No | S30: 0 | T30: 2 | U30: 0 | V30: 2 | X30: No | Y30: 4 | Z30: No
A31: Asustor | B31: LOCKERSTOR 8 AS6508T | C31: Available | D31: 984 | E31: 3 year | F31: ADM | G31: No | H31: 8 | I31: 0 | J31: Intel Atom C3538 4C/4T | K31: 8 GB (1x8 GB) | L31: 64 GB (2x32 GB) | M31: No | N31: DDR4-2133 SODIMM | O31: No | P31: 4 Gen 3 x1 | Q31: No | R31: No | S31: 0 | T31: 2 | U31: 0 | V31: 2 | X31: No | Y31: 4 | Z31: No
A32: Asustor | B32: LOCKERSTOR 8 Gen3 AS6808T | C32: Available | D32: 1760 | E32: 3 year | F32: ADM | G32: No | H32: 8 | I32: 0 | J32: AMD V3C14 4C/8T | K32: 16 GB (1x16 GB) | L32: 64 GB (2x32 GB) | M32: Yes | N32: DDR5-4800 SODIMM | O32: 1 Gen 4 x4 | P32: 4 Gen 4 x1 | Q32: 2 USB4/TB3 | R32: No | S32: 0 | T32: 2 | U32: 0 | V32: 2 | X32: No | Y32: 4 | Z32: No
A33: Asustor | B33: LOCKERSTOR AS6510T | C33: Available | D33: 1342 | E33: 3 year | F33: ADM | G33: No | H33: 10 | I33: 0 | J33: Intel Atom C3538 4C/4T | K33: 8 GB (1x8 GB) | L33: 64 GB (2x32 GB) | M33: No | N33: DDR4-2133 SODIMM | O33: No | P33: 4 Gen 3 x1 | Q33: No | R33: No | S33: 0 | T33: 2 | U33: 0 | V33: 2 | X33: No | Y33: 4 | Z33: No
... A35: Asustor | B35: LOCKERSTOR 10 Pro AS7110T | C35: Available | D35: 2400 | E35: 5 year | F35: ADM | G35: No | H35: 10 | I35: 0 | J35: Intel Xeon E-2224 4C/4T | K35: 8 GB (1x8 GB) | L35: 64 GB (2x32 GB) | M35: Yes | N35: DDR4-3200 SODIMM | O35: No | P35: 2 Gen 3 x4 | Q35: No | R35: No | S35: 0 | T35: 3 | U35: 0 | V35: 1 | X35: No | Y35: 4 | Z35: No
A36: Beelink | B36: ME Pro J5005 2-Bay | C36: Announced | D36: 299 | E36: 1 year | F36: Win11 Home/DIY | G36: Yes | H36: 2 | I36: 0 | J36: Intel Pentium Silver J5005 4C/4T | K36: 8 GB (2x4 GB) | L36: 8 GB (2x4 GB) | M36: No | N36: DDR4-2400 SODIMM | O36: No | P36: 2 | Q36: No | R36: HDMI | S36: 0 | T36: 1 | U36: 0 | V36: 0 | X36: Level 6 | Y36: N/A | Z36: No
A37: Beelink | B37: ME Pro N95 2-Bay | C37: Available | D37: 379 | E37: 1 year | F37: Win11 Home/DIY | G37: Yes | H37: 2 | I37: 0 | J37: Intel N95 4C/4T | K37: 16 GB (onboard) | L37: 16 GB (onboard) | M37: No | N37: Onboard LPDDR5-4800 | O37: No | P37: 1 Gen 3 x2; 1 Gen 3 x1 | Q37: No | R37: HDMI | S37: 0 | T37: 1 | U37: 1 | V37: 0 | X37: Probable Level 6 | Y37: N/A | Z37: No
A38: Beelink | B38: ME Pro N150 2-Bay | C38: Available | D38: 509 | E38: 1 year | F38: Win11 Home/DIY | G38: Yes | H38: 2 | I38: 0 | J38: Intel N150 4C/4T | K38: 16 GB (onboard) | L38: 16 GB (onboard) | M38: No | N38: Onboard LPDDR5-4800 | O38: No | P38: 1 Gen 3 x2; 1 Gen 3 x1 | Q38: No | R38: HDMI | S38: 0 | T38: 1 | U38: 1 | V38: 0 | X38: Probable Level 6 | Y38: N/A | Z38: No
A39: Beelink | B39: ME Pro 304 2-Bay | C39: Available | D39: 609 | E39: 1 year | F39: Win11 Home/DIY | G39: Yes | H39: 2 | I39: 0 | J39: Intel Core 3 304 1P+4LPE 5T | K39: 16 GB (1x16 GB) | L39: 64 GB (2x32 GB) | M39: No | N39: DDR5-6400 SODIMM | O39: No | P39: 1x Gen 4 | Q39: 2 USB4/TB3 | R39: HDMI | S39: 0 | T39: 1 | U39: 0 | V39: 1 | X39: Probable Level 6 | Y39: N/A | Z39: No
A40: Beelink | B40: ME Pro 13500H 2-Bay | C40: Announced | D40: 739 | E40: 1 year | F40: Win11 Home/DIY | G40: Yes | H40: 2 | I40: 0 | J40: Intel Core i5-13500H 2P+8E/12T | K40: 32 GB (2x16 GB) | L40: 96 GB (2x48 GB) | M40: No | N40: DDR4-3200 SODIMM | O40: No | P40: 2 | Q40: 1 USB4/TB3 | R40: HDMI | S40: 0 | T40: 1 | U40: 0 | V40: 1 | X40: Level 6 | Y40: N/A | Z40: No
A41: Beelink | B41: ME Pro AI 350 2-Bay | C41: Announced | D41: 949 | E41: 1 year | F41: Win11 Home/DIY | G41: Yes | H41: 2 | I41: 0 | J41: AMD Ryzen AI 9 HX 350 8C/16T | K41: 32 GB (2x16 GB) | L41: 128 GB (2x64 GB) | M41: No | N41: DDR5-5600 SODIMM | O41: No | P41: 2 | Q41: 1 USB4/TB3 | R41: HDMI | S41: 0 | T41: 1 | U41: 0 | V41: 1 | X41: Probable Level 6 | Y41: N/A | Z41: No
...
